BEGIN:VCALENDAR
VERSION:2.0
PRODID:-//North Shore Baseball Association - ECPv6.15.13.1//NONSGML v1.0//EN
CALSCALE:GREGORIAN
METHOD:PUBLISH
X-WR-CALNAME:North Shore Baseball Association
X-ORIGINAL-URL:https://northshorebaseball.ca
X-WR-CALDESC:Events for North Shore Baseball Association
REFRESH-INTERVAL;VALUE=DURATION:PT1H
X-Robots-Tag:noindex
X-PUBLISHED-TTL:PT1H
BEGIN:VTIMEZONE
TZID:America/Vancouver
BEGIN:DAYLIGHT
TZOFFSETFROM:-0800
TZOFFSETTO:-0700
TZNAME:PDT
DTSTART:20150308T100000
END:DAYLIGHT
BEGIN:STANDARD
TZOFFSETFROM:-0700
TZOFFSETTO:-0800
TZNAME:PST
DTSTART:20151101T090000
END:STANDARD
BEGIN:DAYLIGHT
TZOFFSETFROM:-0800
TZOFFSETTO:-0700
TZNAME:PDT
DTSTART:20160313T100000
END:DAYLIGHT
BEGIN:STANDARD
TZOFFSETFROM:-0700
TZOFFSETTO:-0800
TZNAME:PST
DTSTART:20161106T090000
END:STANDARD
BEGIN:DAYLIGHT
TZOFFSETFROM:-0800
TZOFFSETTO:-0700
TZNAME:PDT
DTSTART:20170312T100000
END:DAYLIGHT
BEGIN:STANDARD
TZOFFSETFROM:-0700
TZOFFSETTO:-0800
TZNAME:PST
DTSTART:20171105T090000
END:STANDARD
END:VTIMEZONE
BEGIN:VEVENT
DTSTART;VALUE=DATE:20161114
DTEND;VALUE=DATE:20161115
DTSTAMP:20260424T093519
CREATED:20161115T085405Z
LAST-MODIFIED:20161115T085405Z
UID:142-1479081600-1479167999@northshorebaseball.ca
SUMMARY:Schools Closed
DESCRIPTION:Schools Closed – District-wide Non-Instructional Day
URL:https://northshorebaseball.ca/event/schools-closed-2/
CATEGORIES:Schools Closed
END:VEVENT
BEGIN:VEVENT
DTSTART;VALUE=DATE:20161111
DTEND;VALUE=DATE:20161112
DTSTAMP:20260424T093519
CREATED:20161115T085405Z
LAST-MODIFIED:20220101T204753Z
UID:137-1478822400-1478908799@northshorebaseball.ca
SUMMARY:Remembrance Day
DESCRIPTION:
URL:https://northshorebaseball.ca/event/remembrance-day-2016/
CATEGORIES:Holidays
END:VEVENT
BEGIN:VEVENT
DTSTART;TZID=America/Vancouver:20161106T020000
DTEND;TZID=America/Vancouver:20161106T020000
DTSTAMP:20260424T093519
CREATED:20161115T085403Z
LAST-MODIFIED:20220101T200112Z
UID:118-1478397600-1478397600@northshorebaseball.ca
SUMMARY:Daylight Saving Time Ends
DESCRIPTION:Daylight Saving Time Ends – set clock 1 hour back.
URL:https://northshorebaseball.ca/event/daylight-saving-time-ends-2016/
END:VEVENT
BEGIN:VEVENT
DTSTART;VALUE=DATE:20161031
DTEND;VALUE=DATE:20161101
DTSTAMP:20260424T093519
CREATED:20161115T085404Z
LAST-MODIFIED:20220101T202607Z
UID:127-1477872000-1477958399@northshorebaseball.ca
SUMMARY:Halloween
DESCRIPTION:Happy Halloween
URL:https://northshorebaseball.ca/event/halloween-2016/
CATEGORIES:Holidays
END:VEVENT
BEGIN:VEVENT
DTSTART;VALUE=DATE:20161021
DTEND;VALUE=DATE:20161022
DTSTAMP:20260424T093519
CREATED:20161115T085406Z
LAST-MODIFIED:20161115T085406Z
UID:145-1477008000-1477094399@northshorebaseball.ca
SUMMARY:Schools Closed
DESCRIPTION:Schools Closed – District-wide Professional Development Day
URL:https://northshorebaseball.ca/event/schools-closed-5/
CATEGORIES:Schools Closed
END:VEVENT
BEGIN:VEVENT
DTSTART;VALUE=DATE:20161010
DTEND;VALUE=DATE:20161011
DTSTAMP:20260424T093519
CREATED:20161115T085406Z
LAST-MODIFIED:20220101T211014Z
UID:153-1476057600-1476143999@northshorebaseball.ca
SUMMARY:Thanksgiving Day
DESCRIPTION:
URL:https://northshorebaseball.ca/event/thanksgiving-day-2016/
CATEGORIES:Holidays
END:VEVENT
BEGIN:VEVENT
DTSTART;VALUE=DATE:20160923
DTEND;VALUE=DATE:20160924
DTSTAMP:20260424T093519
CREATED:20161115T085406Z
LAST-MODIFIED:20161115T085406Z
UID:146-1474588800-1474675199@northshorebaseball.ca
SUMMARY:Schools Closed
DESCRIPTION:Schools Closed – School Based Non-Instructional Day
URL:https://northshorebaseball.ca/event/schools-closed-6/
CATEGORIES:Schools Closed
END:VEVENT
BEGIN:VEVENT
DTSTART;TZID=America/Vancouver:20160922T072200
DTEND;TZID=America/Vancouver:20160922T072200
DTSTAMP:20260424T093519
CREATED:20161115T085407Z
LAST-MODIFIED:20210827T025147Z
UID:161-1474528920-1474528920@northshorebaseball.ca
SUMMARY:September Equinox
DESCRIPTION:First Day of Fall. \nSeptember equinox marks the moment the Sun crosses the celestial equator – the imaginary line in the sky above the Earth’s equator – from north to south. On the equinox\, night and day are nearly exactly the same length – 12 hours – all over the world.
URL:https://northshorebaseball.ca/event/september-equinox-2016/
CATEGORIES:Holidays
END:VEVENT
BEGIN:VEVENT
DTSTART;VALUE=DATE:20160906
DTEND;VALUE=DATE:20160907
DTSTAMP:20260424T093519
CREATED:20161115T085405Z
LAST-MODIFIED:20210827T022332Z
UID:139-1473120000-1473206399@northshorebaseball.ca
SUMMARY:School Opens
DESCRIPTION:First Day of School 2016-2017
URL:https://northshorebaseball.ca/event/school-opens-2016/
END:VEVENT
BEGIN:VEVENT
DTSTART;VALUE=DATE:20160905
DTEND;VALUE=DATE:20160906
DTSTAMP:20260424T093519
CREATED:20161115T085404Z
LAST-MODIFIED:20220101T202817Z
UID:129-1473033600-1473119999@northshorebaseball.ca
SUMMARY:Labour Day
DESCRIPTION:
URL:https://northshorebaseball.ca/event/labour-day-2016/
CATEGORIES:Holidays
END:VEVENT
BEGIN:VEVENT
DTSTART;VALUE=DATE:20160229
DTEND;VALUE=DATE:20160301
DTSTAMP:20260424T093519
CREATED:20161115T085407Z
LAST-MODIFIED:20230529T030550Z
UID:163-1456704000-1456790399@northshorebaseball.ca
SUMMARY:Leap Day
DESCRIPTION:February 29\, also known as leap day or leap year day\, is a date added to most years that are divisible by 4\, such as 2008\, 2012\, 2016\, 2020\, and 2024. \nMore details…
URL:https://northshorebaseball.ca/event/leap-day-2016/
CATEGORIES:Holidays
END:VEVENT
END:VCALENDAR