BEGIN:VCALENDAR
VERSION:2.0
PRODID:-//North Shore Baseball Association - ECPv6.15.13.1//NONSGML v1.0//EN
CALSCALE:GREGORIAN
METHOD:PUBLISH
X-WR-CALNAME:North Shore Baseball Association
X-ORIGINAL-URL:https://northshorebaseball.ca
X-WR-CALDESC:Events for North Shore Baseball Association
REFRESH-INTERVAL;VALUE=DURATION:PT1H
X-Robots-Tag:noindex
X-PUBLISHED-TTL:PT1H
BEGIN:VTIMEZONE
TZID:America/Vancouver
BEGIN:DAYLIGHT
TZOFFSETFROM:-0800
TZOFFSETTO:-0700
TZNAME:PDT
DTSTART:20150308T100000
END:DAYLIGHT
BEGIN:STANDARD
TZOFFSETFROM:-0700
TZOFFSETTO:-0800
TZNAME:PST
DTSTART:20151101T090000
END:STANDARD
BEGIN:DAYLIGHT
TZOFFSETFROM:-0800
TZOFFSETTO:-0700
TZNAME:PDT
DTSTART:20160313T100000
END:DAYLIGHT
BEGIN:STANDARD
TZOFFSETFROM:-0700
TZOFFSETTO:-0800
TZNAME:PST
DTSTART:20161106T090000
END:STANDARD
BEGIN:DAYLIGHT
TZOFFSETFROM:-0800
TZOFFSETTO:-0700
TZNAME:PDT
DTSTART:20170312T100000
END:DAYLIGHT
BEGIN:STANDARD
TZOFFSETFROM:-0700
TZOFFSETTO:-0800
TZNAME:PST
DTSTART:20171105T090000
END:STANDARD
BEGIN:DAYLIGHT
TZOFFSETFROM:-0800
TZOFFSETTO:-0700
TZNAME:PDT
DTSTART:20180311T100000
END:DAYLIGHT
BEGIN:STANDARD
TZOFFSETFROM:-0700
TZOFFSETTO:-0800
TZNAME:PST
DTSTART:20181104T090000
END:STANDARD
END:VTIMEZONE
BEGIN:VEVENT
DTSTART;TZID=America/Vancouver:20170131T173000
DTEND;TZID=America/Vancouver:20170131T190000
DTSTAMP:20260424T044438
CREATED:20161223T101634Z
LAST-MODIFIED:20170122T092508Z
UID:487-1485883800-1485889200@northshorebaseball.ca
SUMMARY:13U (PeeWee) Winter Training
DESCRIPTION:More details…
URL:https://northshorebaseball.ca/event/13u-peewee-winter-training/
LOCATION:Inside Performance\, #2 - 1500 Railway Street\, North Vancouver\, British Columbia\, V7J 1B5\, Canada
CATEGORIES:Training
END:VEVENT
BEGIN:VEVENT
DTSTART;VALUE=DATE:20170131
DTEND;VALUE=DATE:20170201
DTSTAMP:20260424T044438
CREATED:20161115T085405Z
LAST-MODIFIED:20211116T052929Z
UID:135-1485820800-1485907199@northshorebaseball.ca
SUMMARY:Registration Deadline
DESCRIPTION:North Shore Baseball Association Registration for the 2017 Spring Season deadline.
URL:https://northshorebaseball.ca/event/registration-deadline-2017/
CATEGORIES:Important Dates
END:VEVENT
BEGIN:VEVENT
DTSTART;TZID=America/Vancouver:20170130T180000
DTEND;TZID=America/Vancouver:20170130T200000
DTSTAMP:20260424T044438
CREATED:20161223T101634Z
LAST-MODIFIED:20161230T062545Z
UID:481-1485799200-1485806400@northshorebaseball.ca
SUMMARY:18U (Midget) Winter Training
DESCRIPTION:More details…
URL:https://northshorebaseball.ca/event/18u-midget-winter-training-5/
LOCATION:Inside Performance\, #2 - 1500 Railway Street\, North Vancouver\, British Columbia\, V7J 1B5\, Canada
CATEGORIES:Training
END:VEVENT
BEGIN:VEVENT
DTSTART;TZID=America/Vancouver:20170128T150000
DTEND;TZID=America/Vancouver:20170128T160000
DTSTAMP:20260424T044438
CREATED:20161230T064157Z
LAST-MODIFIED:20161230T064409Z
UID:614-1485615600-1485619200@northshorebaseball.ca
SUMMARY:9U (Tadpole) Winter Training
DESCRIPTION:More details…
URL:https://northshorebaseball.ca/event/9u-tadpole-winter-training-3/
LOCATION:Inside Performance\, #2 - 1500 Railway Street\, North Vancouver\, British Columbia\, V7J 1B5\, Canada
CATEGORIES:Training
END:VEVENT
BEGIN:VEVENT
DTSTART;TZID=America/Vancouver:20170127T170000
DTEND;TZID=America/Vancouver:20170127T190000
DTSTAMP:20260424T044438
CREATED:20161223T101630Z
LAST-MODIFIED:20161230T061339Z
UID:472-1485536400-1485543600@northshorebaseball.ca
SUMMARY:15U (Bantam) Winter Training
DESCRIPTION:More details…
URL:https://northshorebaseball.ca/event/15u-bantam-winter-training-5/
LOCATION:Inside Performance\, #2 - 1500 Railway Street\, North Vancouver\, British Columbia\, V7J 1B5\, Canada
CATEGORIES:Training
END:VEVENT
BEGIN:VEVENT
DTSTART;TZID=America/Vancouver:20170125T200000
DTEND;TZID=America/Vancouver:20170125T210000
DTSTAMP:20260424T044438
CREATED:20170125T045822Z
LAST-MODIFIED:20170125T045913Z
UID:706-1485374400-1485378000@northshorebaseball.ca
SUMMARY:Board Meeting
DESCRIPTION:Board Meeting \nMeet in the Oak Room
URL:https://northshorebaseball.ca/event/board-meeting-4/
LOCATION:Old Delbrook Community Recreation Centre\, 600 West Queens Road\, North Vancouver\, British Columbia\, V7N 2L3\, Canada
CATEGORIES:Board Meetings
END:VEVENT
BEGIN:VEVENT
DTSTART;TZID=America/Vancouver:20170124T180000
DTEND;TZID=America/Vancouver:20170124T191500
DTSTAMP:20260424T044438
CREATED:20170103T060152Z
LAST-MODIFIED:20170103T060428Z
UID:649-1485280800-1485285300@northshorebaseball.ca
SUMMARY:11U (Mosquito) Winter Training
DESCRIPTION:More details…
URL:https://northshorebaseball.ca/event/11u-mosquito-winter-training-3/
LOCATION:Chartwell Elementary School\, 1300 Chartwell Drive\, West Vancouver\, British Columbia\, V7S 2R3\, Canada
CATEGORIES:Training
END:VEVENT
BEGIN:VEVENT
DTSTART;TZID=America/Vancouver:20170123T180000
DTEND;TZID=America/Vancouver:20170123T200000
DTSTAMP:20260424T044438
CREATED:20161223T101633Z
LAST-MODIFIED:20161230T062554Z
UID:480-1485194400-1485201600@northshorebaseball.ca
SUMMARY:18U (Midget) Winter Training
DESCRIPTION:More details…
URL:https://northshorebaseball.ca/event/18u-midget-winter-training-4/
LOCATION:Inside Performance\, #2 - 1500 Railway Street\, North Vancouver\, British Columbia\, V7J 1B5\, Canada
CATEGORIES:Training
END:VEVENT
BEGIN:VEVENT
DTSTART;TZID=America/Vancouver:20170121T150000
DTEND;TZID=America/Vancouver:20170121T160000
DTSTAMP:20260424T044438
CREATED:20161230T064157Z
LAST-MODIFIED:20161230T064420Z
UID:613-1485010800-1485014400@northshorebaseball.ca
SUMMARY:9U (Tadpole) Winter Training
DESCRIPTION:More details…
URL:https://northshorebaseball.ca/event/9u-tadpole-winter-training-2/
LOCATION:Inside Performance\, #2 - 1500 Railway Street\, North Vancouver\, British Columbia\, V7J 1B5\, Canada
CATEGORIES:Training
END:VEVENT
BEGIN:VEVENT
DTSTART;TZID=America/Vancouver:20170120T170000
DTEND;TZID=America/Vancouver:20170120T190000
DTSTAMP:20260424T044438
CREATED:20161223T101630Z
LAST-MODIFIED:20161230T061427Z
UID:471-1484931600-1484938800@northshorebaseball.ca
SUMMARY:15U (Bantam) Winter Training
DESCRIPTION:More details…
URL:https://northshorebaseball.ca/event/15u-bantam-winter-training-4/
LOCATION:Inside Performance\, #2 - 1500 Railway Street\, North Vancouver\, British Columbia\, V7J 1B5\, Canada
CATEGORIES:Training
END:VEVENT
BEGIN:VEVENT
DTSTART;VALUE=DATE:20170120
DTEND;VALUE=DATE:20170121
DTSTAMP:20260424T044438
CREATED:20161115T085405Z
LAST-MODIFIED:20161115T085405Z
UID:141-1484870400-1484956799@northshorebaseball.ca
SUMMARY:Schools Closed
DESCRIPTION:Schools Closed – District Curriculum Implementation Day
URL:https://northshorebaseball.ca/event/schools-closed/
CATEGORIES:Schools Closed
END:VEVENT
BEGIN:VEVENT
DTSTART;TZID=America/Vancouver:20170117T180000
DTEND;TZID=America/Vancouver:20170117T191500
DTSTAMP:20260424T044438
CREATED:20170103T060152Z
LAST-MODIFIED:20170103T060437Z
UID:648-1484676000-1484680500@northshorebaseball.ca
SUMMARY:11U (Mosquito) Winter Training
DESCRIPTION:More details…
URL:https://northshorebaseball.ca/event/11u-mosquito-winter-training-2/
LOCATION:Chartwell Elementary School\, 1300 Chartwell Drive\, West Vancouver\, British Columbia\, V7S 2R3\, Canada
CATEGORIES:Training
END:VEVENT
BEGIN:VEVENT
DTSTART;TZID=America/Vancouver:20170116T180000
DTEND;TZID=America/Vancouver:20170116T200000
DTSTAMP:20260424T044438
CREATED:20161223T101633Z
LAST-MODIFIED:20161230T062554Z
UID:479-1484589600-1484596800@northshorebaseball.ca
SUMMARY:18U (Midget) Winter Training
DESCRIPTION:More details…
URL:https://northshorebaseball.ca/event/18u-midget-winter-training-3/
LOCATION:Inside Performance\, #2 - 1500 Railway Street\, North Vancouver\, British Columbia\, V7J 1B5\, Canada
CATEGORIES:Training
END:VEVENT
BEGIN:VEVENT
DTSTART;TZID=America/Vancouver:20170114T150000
DTEND;TZID=America/Vancouver:20170114T160000
DTSTAMP:20260424T044438
CREATED:20161230T064157Z
LAST-MODIFIED:20161230T064438Z
UID:612-1484406000-1484409600@northshorebaseball.ca
SUMMARY:9U (Tadpole) Winter Training
DESCRIPTION:More details…
URL:https://northshorebaseball.ca/event/9u-tadpole-winter-training/
LOCATION:Inside Performance\, #2 - 1500 Railway Street\, North Vancouver\, British Columbia\, V7J 1B5\, Canada
CATEGORIES:Training
END:VEVENT
BEGIN:VEVENT
DTSTART;TZID=America/Vancouver:20170113T170000
DTEND;TZID=America/Vancouver:20170113T190000
DTSTAMP:20260424T044438
CREATED:20161223T095330Z
LAST-MODIFIED:20161230T061457Z
UID:465-1484326800-1484334000@northshorebaseball.ca
SUMMARY:15U (Bantam) Winter Training
DESCRIPTION:More details…
URL:https://northshorebaseball.ca/event/15u-bantam-winter-training-3/
LOCATION:Inside Performance\, #2 - 1500 Railway Street\, North Vancouver\, British Columbia\, V7J 1B5\, Canada
CATEGORIES:Training
END:VEVENT
BEGIN:VEVENT
DTSTART;TZID=America/Vancouver:20170110T180000
DTEND;TZID=America/Vancouver:20170110T191500
DTSTAMP:20260424T044438
CREATED:20170103T060152Z
LAST-MODIFIED:20170103T060445Z
UID:647-1484071200-1484075700@northshorebaseball.ca
SUMMARY:11U (Mosquito) Winter Training
DESCRIPTION:More details…
URL:https://northshorebaseball.ca/event/11u-mosquito-winter-training/
LOCATION:Chartwell Elementary School\, 1300 Chartwell Drive\, West Vancouver\, British Columbia\, V7S 2R3\, Canada
CATEGORIES:Training
END:VEVENT
BEGIN:VEVENT
DTSTART;VALUE=DATE:20170101
DTEND;VALUE=DATE:20170102
DTSTAMP:20260424T044438
CREATED:20161115T085405Z
LAST-MODIFIED:20220101T204435Z
UID:134-1483228800-1483315199@northshorebaseball.ca
SUMMARY:New Year's Day
DESCRIPTION:Happy New Year’s
URL:https://northshorebaseball.ca/event/new-years-day-2017/
CATEGORIES:Holidays
END:VEVENT
BEGIN:VEVENT
DTSTART;VALUE=DATE:20161226
DTEND;VALUE=DATE:20161227
DTSTAMP:20260424T044438
CREATED:20161115T085359Z
LAST-MODIFIED:20220101T194038Z
UID:113-1482710400-1482796799@northshorebaseball.ca
SUMMARY:Boxing Day
DESCRIPTION:
URL:https://northshorebaseball.ca/event/boxing-day-2016/
CATEGORIES:Holidays
END:VEVENT
BEGIN:VEVENT
DTSTART;VALUE=DATE:20161225
DTEND;VALUE=DATE:20161226
DTSTAMP:20260424T044438
CREATED:20161115T085403Z
LAST-MODIFIED:20220101T194556Z
UID:116-1482624000-1482710399@northshorebaseball.ca
SUMMARY:Christmas Day
DESCRIPTION:Have a Merry Christmas
URL:https://northshorebaseball.ca/event/christmas-day-2016/
CATEGORIES:Holidays
END:VEVENT
BEGIN:VEVENT
DTSTART;TZID=America/Vancouver:20161221T024400
DTEND;TZID=America/Vancouver:20161221T024400
DTSTAMP:20260424T044438
CREATED:20161115T085407Z
LAST-MODIFIED:20210827T024049Z
UID:157-1482288240-1482288240@northshorebaseball.ca
SUMMARY:December Solstice
DESCRIPTION:First Day of Winter. \nWinter solstice is an astronomical phenomenon marking the shortest day and the longest night of the year.
URL:https://northshorebaseball.ca/event/december-solstice-2016/
CATEGORIES:Holidays
END:VEVENT
BEGIN:VEVENT
DTSTART;VALUE=DATE:20161217
DTEND;VALUE=DATE:20170103
DTSTAMP:20260424T044438
CREATED:20161115T085406Z
LAST-MODIFIED:20161115T085406Z
UID:150-1481932800-1483401599@northshorebaseball.ca
SUMMARY:Schools Closed
DESCRIPTION:Schools Closed – Winter Vacation (December 17\, 2016 – January 2\, 2017)
URL:https://northshorebaseball.ca/event/schools-closed-10/
CATEGORIES:Schools Closed
END:VEVENT
BEGIN:VEVENT
DTSTART;VALUE=DATE:20161215
DTEND;VALUE=DATE:20161216
DTSTAMP:20260424T044438
CREATED:20161122T062900Z
LAST-MODIFIED:20211216T022619Z
UID:256-1481760000-1481846399@northshorebaseball.ca
SUMMARY:Early Bird Discount Ends
DESCRIPTION:The $25 early bird registration discount ends on December 15th.
URL:https://northshorebaseball.ca/event/early-bird-discount-ends-2017/
CATEGORIES:Important Dates
END:VEVENT
BEGIN:VEVENT
DTSTART;TZID=America/Vancouver:20161214T193000
DTEND;TZID=America/Vancouver:20161214T213000
DTSTAMP:20260424T044438
CREATED:20161209T094849Z
LAST-MODIFIED:20161209T094950Z
UID:406-1481743800-1481751000@northshorebaseball.ca
SUMMARY:Board Meeting
DESCRIPTION:Board Meeting \nMeet in the Maple Room
URL:https://northshorebaseball.ca/event/board-meeting-3/
LOCATION:Old Delbrook Community Recreation Centre\, 600 West Queens Road\, North Vancouver\, British Columbia\, V7N 2L3\, Canada
CATEGORIES:Board Meetings
END:VEVENT
BEGIN:VEVENT
DTSTART;TZID=America/Vancouver:20161211T190000
DTEND;TZID=America/Vancouver:20161211T210000
DTSTAMP:20260424T044438
CREATED:20161204T045004Z
LAST-MODIFIED:20161230T062621Z
UID:356-1481482800-1481490000@northshorebaseball.ca
SUMMARY:18U (Midget) Winter Training
DESCRIPTION:More details…
URL:https://northshorebaseball.ca/event/18u-midget-winter-training-2/
LOCATION:Inside Performance\, #2 - 1500 Railway Street\, North Vancouver\, British Columbia\, V7J 1B5\, Canada
CATEGORIES:Training
END:VEVENT
BEGIN:VEVENT
DTSTART;TZID=America/Vancouver:20161211T170000
DTEND;TZID=America/Vancouver:20161211T183000
DTSTAMP:20260424T044438
CREATED:20161204T043155Z
LAST-MODIFIED:20161230T061530Z
UID:347-1481475600-1481481000@northshorebaseball.ca
SUMMARY:15U (Bantam) Winter Training
DESCRIPTION:More details…
URL:https://northshorebaseball.ca/event/15u-bantam-winter-training-2/
LOCATION:Inside Performance\, #2 - 1500 Railway Street\, North Vancouver\, British Columbia\, V7J 1B5\, Canada
CATEGORIES:Training
END:VEVENT
BEGIN:VEVENT
DTSTART;TZID=America/Vancouver:20161205T193000
DTEND;TZID=America/Vancouver:20161205T213000
DTSTAMP:20260424T044438
CREATED:20161204T040636Z
LAST-MODIFIED:20161209T095004Z
UID:338-1480966200-1480973400@northshorebaseball.ca
SUMMARY:Board Meeting
DESCRIPTION:Board Meeting \nMeet in the Eagle Room
URL:https://northshorebaseball.ca/event/board-meeting-2/
LOCATION:Karen Magnussen Community Recreation Centre\, 2300 Kirkstone Road\, North Vancouver\, British Columbia\, V7J 1Z6\, Canada
CATEGORIES:Board Meetings
END:VEVENT
BEGIN:VEVENT
DTSTART;TZID=America/Vancouver:20161204T190000
DTEND;TZID=America/Vancouver:20161204T210000
DTSTAMP:20260424T044438
CREATED:20161204T044903Z
LAST-MODIFIED:20161230T062636Z
UID:354-1480878000-1480885200@northshorebaseball.ca
SUMMARY:18U (Midget) Winter Training
DESCRIPTION:More details…
URL:https://northshorebaseball.ca/event/18u-midget-winter-training/
LOCATION:Inside Performance\, #2 - 1500 Railway Street\, North Vancouver\, British Columbia\, V7J 1B5\, Canada
CATEGORIES:Training
END:VEVENT
BEGIN:VEVENT
DTSTART;TZID=America/Vancouver:20161204T170000
DTEND;TZID=America/Vancouver:20161204T183000
DTSTAMP:20260424T044438
CREATED:20161204T041744Z
LAST-MODIFIED:20161230T061601Z
UID:342-1480870800-1480876200@northshorebaseball.ca
SUMMARY:15U (Bantam) Winter Training
DESCRIPTION:More details…
URL:https://northshorebaseball.ca/event/15u-bantam-winter-training/
LOCATION:Inside Performance\, #2 - 1500 Railway Street\, North Vancouver\, British Columbia\, V7J 1B5\, Canada
CATEGORIES:Training
END:VEVENT
BEGIN:VEVENT
DTSTART;VALUE=DATE:20161121
DTEND;VALUE=DATE:20161122
DTSTAMP:20260424T044438
CREATED:20161115T085405Z
LAST-MODIFIED:20211116T052345Z
UID:136-1479686400-1479772799@northshorebaseball.ca
SUMMARY:Registration Opens
DESCRIPTION:North Shore Baseball Association Registration for the 2017 Spring Season is now open. \nRegister your child from November 21\, 2016 – January 31\, 2017. \nA $25 early bird discount if registered before December 16\, 2016.\nA $25 late fee if registered after January 15\, 2017.
URL:https://northshorebaseball.ca/event/registration-opens-2017/
CATEGORIES:Important Dates
END:VEVENT
BEGIN:VEVENT
DTSTART;TZID=America/Vancouver:20161116T193000
DTEND;TZID=America/Vancouver:20161116T213000
DTSTAMP:20260424T044438
CREATED:20161115T085359Z
LAST-MODIFIED:20161115T085359Z
UID:110-1479324600-1479331800@northshorebaseball.ca
SUMMARY:Board Meeting
DESCRIPTION:Board Meeting
URL:https://northshorebaseball.ca/event/board-meeting/
LOCATION:Chris Zuehlke Memorial Park\, 1905 Jones Avenue\, North Vancouver\, British Columbia\, Canada
CATEGORIES:Board Meetings
END:VEVENT
END:VCALENDAR