BEGIN:VCALENDAR
VERSION:2.0
PRODID:-//North Shore Baseball Association - ECPv6.15.13.1//NONSGML v1.0//EN
CALSCALE:GREGORIAN
METHOD:PUBLISH
X-WR-CALNAME:North Shore Baseball Association
X-ORIGINAL-URL:https://northshorebaseball.ca
X-WR-CALDESC:Events for North Shore Baseball Association
REFRESH-INTERVAL;VALUE=DURATION:PT1H
X-Robots-Tag:noindex
X-PUBLISHED-TTL:PT1H
BEGIN:VTIMEZONE
TZID:America/Vancouver
BEGIN:DAYLIGHT
TZOFFSETFROM:-0800
TZOFFSETTO:-0700
TZNAME:PDT
DTSTART:20160313T100000
END:DAYLIGHT
BEGIN:STANDARD
TZOFFSETFROM:-0700
TZOFFSETTO:-0800
TZNAME:PST
DTSTART:20161106T090000
END:STANDARD
BEGIN:DAYLIGHT
TZOFFSETFROM:-0800
TZOFFSETTO:-0700
TZNAME:PDT
DTSTART:20170312T100000
END:DAYLIGHT
BEGIN:STANDARD
TZOFFSETFROM:-0700
TZOFFSETTO:-0800
TZNAME:PST
DTSTART:20171105T090000
END:STANDARD
BEGIN:DAYLIGHT
TZOFFSETFROM:-0800
TZOFFSETTO:-0700
TZNAME:PDT
DTSTART:20180311T100000
END:DAYLIGHT
BEGIN:STANDARD
TZOFFSETFROM:-0700
TZOFFSETTO:-0800
TZNAME:PST
DTSTART:20181104T090000
END:STANDARD
END:VTIMEZONE
BEGIN:VEVENT
DTSTART;TZID=America/Vancouver:20170225T120000
DTEND;TZID=America/Vancouver:20170225T140000
DTSTAMP:20260424T001735
CREATED:20170224T095402Z
LAST-MODIFIED:20170224T095402Z
UID:828-1488024000-1488031200@northshorebaseball.ca
SUMMARY:13U (PeeWee) AA Tryouts
DESCRIPTION:More details…
URL:https://northshorebaseball.ca/event/13u-peewee-aa-tryouts/
LOCATION:Chris Zuehlke Memorial Park\, 1905 Jones Avenue\, North Vancouver\, British Columbia\, Canada
CATEGORIES:Evaluations
END:VEVENT
BEGIN:VEVENT
DTSTART;TZID=America/Vancouver:20170224T170000
DTEND;TZID=America/Vancouver:20170224T190000
DTSTAMP:20260424T001735
CREATED:20161223T101633Z
LAST-MODIFIED:20161230T061123Z
UID:476-1487955600-1487962800@northshorebaseball.ca
SUMMARY:15U (Bantam) Winter Training
DESCRIPTION:More details…
URL:https://northshorebaseball.ca/event/15u-bantam-winter-training-9/
LOCATION:Inside Performance\, #2 - 1500 Railway Street\, North Vancouver\, British Columbia\, V7J 1B5\, Canada
CATEGORIES:Training
END:VEVENT
BEGIN:VEVENT
DTSTART;VALUE=DATE:20170224
DTEND;VALUE=DATE:20170225
DTSTAMP:20260424T001735
CREATED:20161115T085405Z
LAST-MODIFIED:20161115T085405Z
UID:143-1487894400-1487980799@northshorebaseball.ca
SUMMARY:Schools Closed
DESCRIPTION:Schools Closed – District-wide Professional Development Day
URL:https://northshorebaseball.ca/event/schools-closed-3/
LOCATION:British Columbia
CATEGORIES:Schools Closed
END:VEVENT
BEGIN:VEVENT
DTSTART;TZID=America/Vancouver:20170222T200000
DTEND;TZID=America/Vancouver:20170222T210000
DTSTAMP:20260424T001735
CREATED:20170125T050008Z
LAST-MODIFIED:20170125T050008Z
UID:708-1487793600-1487797200@northshorebaseball.ca
SUMMARY:Board Meeting
DESCRIPTION:Board Meeting \nMeet in the Oak Room
URL:https://northshorebaseball.ca/event/board-meeting-5/
LOCATION:Old Delbrook Community Recreation Centre\, 600 West Queens Road\, North Vancouver\, British Columbia\, V7N 2L3\, Canada
CATEGORIES:Board Meetings
END:VEVENT
BEGIN:VEVENT
DTSTART;TZID=America/Vancouver:20170221T180000
DTEND;TZID=America/Vancouver:20170221T191500
DTSTAMP:20260424T001735
CREATED:20170103T060156Z
LAST-MODIFIED:20170103T060351Z
UID:653-1487700000-1487704500@northshorebaseball.ca
SUMMARY:11U (Mosquito) Winter Training
DESCRIPTION:More details…
URL:https://northshorebaseball.ca/event/11u-mosquito-winter-training-7/
LOCATION:Chartwell Elementary School\, 1300 Chartwell Drive\, West Vancouver\, British Columbia\, V7S 2R3\, Canada
CATEGORIES:Training
END:VEVENT
BEGIN:VEVENT
DTSTART;TZID=America/Vancouver:20170221T173000
DTEND;TZID=America/Vancouver:20170221T190000
DTSTAMP:20260424T001735
CREATED:20161223T101635Z
LAST-MODIFIED:20170122T092421Z
UID:490-1487698200-1487703600@northshorebaseball.ca
SUMMARY:13U (PeeWee) Winter Training
DESCRIPTION:More details…
URL:https://northshorebaseball.ca/event/13u-peewee-winter-training-4/
LOCATION:Inside Performance\, #2 - 1500 Railway Street\, North Vancouver\, British Columbia\, V7J 1B5\, Canada
CATEGORIES:Training
END:VEVENT
BEGIN:VEVENT
DTSTART;TZID=America/Vancouver:20170220T180000
DTEND;TZID=America/Vancouver:20170220T200000
DTSTAMP:20260424T001735
CREATED:20161223T101634Z
LAST-MODIFIED:20161230T062440Z
UID:484-1487613600-1487620800@northshorebaseball.ca
SUMMARY:18U (Midget) Winter Training
DESCRIPTION:More details…
URL:https://northshorebaseball.ca/event/18u-midget-winter-training-8/
LOCATION:Inside Performance\, #2 - 1500 Railway Street\, North Vancouver\, British Columbia\, V7J 1B5\, Canada
CATEGORIES:Training
END:VEVENT
BEGIN:VEVENT
DTSTART;TZID=America/Vancouver:20170219T150000
DTEND;TZID=America/Vancouver:20170219T160000
DTSTAMP:20260424T001735
CREATED:20170207T094243Z
LAST-MODIFIED:20170207T094243Z
UID:736-1487516400-1487520000@northshorebaseball.ca
SUMMARY:11U (Mosquito) Winter Training
DESCRIPTION:More details…
URL:https://northshorebaseball.ca/event/11u-mosquito-winter-training-11/
LOCATION:Inside Performance\, #2 - 1500 Railway Street\, North Vancouver\, British Columbia\, V7J 1B5\, Canada
CATEGORIES:Training
END:VEVENT
BEGIN:VEVENT
DTSTART;TZID=America/Vancouver:20170219T130000
DTEND;TZID=America/Vancouver:20170219T164000
DTSTAMP:20260424T001735
CREATED:20170219T184533Z
LAST-MODIFIED:20170225T101300Z
UID:812-1487509200-1487522400@northshorebaseball.ca
SUMMARY:11U (Mosquito) Evaluations
DESCRIPTION:More details…
URL:https://northshorebaseball.ca/event/11u-mosquito-evaluations/
LOCATION:Lions Gate Christian Academy\, 919 Tollcross Road\, North Vancouver\, British Columbia\, V7H 2G3\, Canada
CATEGORIES:Evaluations
END:VEVENT
BEGIN:VEVENT
DTSTART;TZID=America/Vancouver:20170218T150000
DTEND;TZID=America/Vancouver:20170218T160000
DTSTAMP:20260424T001735
CREATED:20161230T064158Z
LAST-MODIFIED:20161230T064349Z
UID:616-1487430000-1487433600@northshorebaseball.ca
SUMMARY:9U (Tadpole) Winter Training
DESCRIPTION:More details…
URL:https://northshorebaseball.ca/event/9u-tadpole-winter-training-5/
LOCATION:Inside Performance\, #2 - 1500 Railway Street\, North Vancouver\, British Columbia\, V7J 1B5\, Canada
CATEGORIES:Training
END:VEVENT
BEGIN:VEVENT
DTSTART;TZID=America/Vancouver:20170218T100000
DTEND;TZID=America/Vancouver:20170218T130000
DTSTAMP:20260424T001735
CREATED:20170218T052455Z
LAST-MODIFIED:20170218T052455Z
UID:796-1487412000-1487422800@northshorebaseball.ca
SUMMARY:15U (Bantam) AAA Tryouts
DESCRIPTION:More details…
URL:https://northshorebaseball.ca/event/15u-bantam-aaa-tryouts/
LOCATION:Kinsmen Field\, 1905 Jones Avenue\, North Vancouver\, British Columbia\, Canada
CATEGORIES:Evaluations
END:VEVENT
BEGIN:VEVENT
DTSTART;TZID=America/Vancouver:20170217T170000
DTEND;TZID=America/Vancouver:20170217T190000
DTSTAMP:20260424T001735
CREATED:20161223T101630Z
LAST-MODIFIED:20161230T061152Z
UID:475-1487350800-1487358000@northshorebaseball.ca
SUMMARY:15U (Bantam) Winter Training
DESCRIPTION:More details…
URL:https://northshorebaseball.ca/event/15u-bantam-winter-training-8/
LOCATION:Inside Performance\, #2 - 1500 Railway Street\, North Vancouver\, British Columbia\, V7J 1B5\, Canada
CATEGORIES:Training
END:VEVENT
BEGIN:VEVENT
DTSTART;TZID=America/Vancouver:20170215T190000
DTEND;TZID=America/Vancouver:20170215T210000
DTSTAMP:20260424T001735
CREATED:20170117T061308Z
LAST-MODIFIED:20170117T061308Z
UID:682-1487185200-1487192400@northshorebaseball.ca
SUMMARY:7U (T-Ball) Coach / Manager Meeting
DESCRIPTION:Meeting in the Maple Boardroom.  More details…
URL:https://northshorebaseball.ca/event/7u-t-ball-coach-manager-meeting/
LOCATION:Old Delbrook Community Recreation Centre\, 600 West Queens Road\, North Vancouver\, British Columbia\, V7N 2L3\, Canada
CATEGORIES:Meeting
END:VEVENT
BEGIN:VEVENT
DTSTART;TZID=America/Vancouver:20170214T180000
DTEND;TZID=America/Vancouver:20170214T191500
DTSTAMP:20260424T001736
CREATED:20170103T060156Z
LAST-MODIFIED:20170103T060402Z
UID:652-1487095200-1487099700@northshorebaseball.ca
SUMMARY:11U (Mosquito) Winter Training
DESCRIPTION:More details…
URL:https://northshorebaseball.ca/event/11u-mosquito-winter-training-6/
LOCATION:Chartwell Elementary School\, 1300 Chartwell Drive\, West Vancouver\, British Columbia\, V7S 2R3\, Canada
CATEGORIES:Training
END:VEVENT
BEGIN:VEVENT
DTSTART;TZID=America/Vancouver:20170214T173000
DTEND;TZID=America/Vancouver:20170214T190000
DTSTAMP:20260424T001736
CREATED:20161223T101634Z
LAST-MODIFIED:20170122T092440Z
UID:489-1487093400-1487098800@northshorebaseball.ca
SUMMARY:13U (PeeWee) Winter Training
DESCRIPTION:More details…
URL:https://northshorebaseball.ca/event/13u-peewee-winter-training-3/
LOCATION:Inside Performance\, #2 - 1500 Railway Street\, North Vancouver\, British Columbia\, V7J 1B5\, Canada
CATEGORIES:Training
END:VEVENT
BEGIN:VEVENT
DTSTART;VALUE=DATE:20170214
DTEND;VALUE=DATE:20170215
DTSTAMP:20260424T001736
CREATED:20161115T085407Z
LAST-MODIFIED:20220101T211243Z
UID:155-1487030400-1487116799@northshorebaseball.ca
SUMMARY:Valentine's Day
DESCRIPTION:
URL:https://northshorebaseball.ca/event/valentines-day-2017/
LOCATION:British Columbia
CATEGORIES:Holidays
END:VEVENT
BEGIN:VEVENT
DTSTART;TZID=America/Vancouver:20170213T180000
DTEND;TZID=America/Vancouver:20170213T200000
DTSTAMP:20260424T001736
CREATED:20161223T101634Z
LAST-MODIFIED:20161230T062455Z
UID:483-1487008800-1487016000@northshorebaseball.ca
SUMMARY:18U (Midget) Winter Training
DESCRIPTION:More details…
URL:https://northshorebaseball.ca/event/18u-midget-winter-training-7/
LOCATION:Inside Performance\, #2 - 1500 Railway Street\, North Vancouver\, British Columbia\, V7J 1B5\, Canada
CATEGORIES:Training
END:VEVENT
BEGIN:VEVENT
DTSTART;VALUE=DATE:20170213
DTEND;VALUE=DATE:20170214
DTSTAMP:20260424T001736
CREATED:20161115T085404Z
LAST-MODIFIED:20220101T201605Z
UID:123-1486944000-1487030399@northshorebaseball.ca
SUMMARY:Family Day
DESCRIPTION:
URL:https://northshorebaseball.ca/event/family-day-2017/
LOCATION:British Columbia
CATEGORIES:Holidays
END:VEVENT
BEGIN:VEVENT
DTSTART;TZID=America/Vancouver:20170212T150000
DTEND;TZID=America/Vancouver:20170212T160000
DTSTAMP:20260424T001736
CREATED:20170207T094150Z
LAST-MODIFIED:20170207T094150Z
UID:734-1486911600-1486915200@northshorebaseball.ca
SUMMARY:11U (Mosquito) Winter Training
DESCRIPTION:More details…
URL:https://northshorebaseball.ca/event/11u-mosquito-winter-training-10/
LOCATION:Inside Performance\, #2 - 1500 Railway Street\, North Vancouver\, British Columbia\, V7J 1B5\, Canada
CATEGORIES:Training
END:VEVENT
BEGIN:VEVENT
DTSTART;VALUE=DATE:20170211
DTEND;VALUE=DATE:20170212
DTSTAMP:20260424T001736
CREATED:20161230T064201Z
LAST-MODIFIED:20161230T064201Z
UID:619-1486771200-1486857599@northshorebaseball.ca
SUMMARY:No Winter Training Sessions
DESCRIPTION:No Winter Training Sessions today
URL:https://northshorebaseball.ca/event/no-winter-training-sessions/
LOCATION:British Columbia
CATEGORIES:Training
END:VEVENT
BEGIN:VEVENT
DTSTART;TZID=America/Vancouver:20170210T170000
DTEND;TZID=America/Vancouver:20170210T190000
DTSTAMP:20260424T001736
CREATED:20161223T101630Z
LAST-MODIFIED:20161230T061224Z
UID:474-1486746000-1486753200@northshorebaseball.ca
SUMMARY:15U (Bantam) Winter Training
DESCRIPTION:More details…
URL:https://northshorebaseball.ca/event/15u-bantam-winter-training-7/
LOCATION:Inside Performance\, #2 - 1500 Railway Street\, North Vancouver\, British Columbia\, V7J 1B5\, Canada
CATEGORIES:Training
END:VEVENT
BEGIN:VEVENT
DTSTART;TZID=America/Vancouver:20170207T180000
DTEND;TZID=America/Vancouver:20170207T191500
DTSTAMP:20260424T001736
CREATED:20170103T060153Z
LAST-MODIFIED:20170103T060411Z
UID:651-1486490400-1486494900@northshorebaseball.ca
SUMMARY:11U (Mosquito) Winter Training
DESCRIPTION:More details…
URL:https://northshorebaseball.ca/event/11u-mosquito-winter-training-5/
LOCATION:Chartwell Elementary School\, 1300 Chartwell Drive\, West Vancouver\, British Columbia\, V7S 2R3\, Canada
CATEGORIES:Training
END:VEVENT
BEGIN:VEVENT
DTSTART;TZID=America/Vancouver:20170207T173000
DTEND;TZID=America/Vancouver:20170207T190000
DTSTAMP:20260424T001736
CREATED:20161223T101634Z
LAST-MODIFIED:20170122T092453Z
UID:488-1486488600-1486494000@northshorebaseball.ca
SUMMARY:13U (PeeWee) Winter Training
DESCRIPTION:More details…
URL:https://northshorebaseball.ca/event/13u-peewee-winter-training-2/
LOCATION:Inside Performance\, #2 - 1500 Railway Street\, North Vancouver\, British Columbia\, V7J 1B5\, Canada
CATEGORIES:Training
END:VEVENT
BEGIN:VEVENT
DTSTART;TZID=America/Vancouver:20170206T190000
DTEND;TZID=America/Vancouver:20170206T210000
DTSTAMP:20260424T001736
CREATED:20170105T052230Z
LAST-MODIFIED:20170105T052230Z
UID:676-1486407600-1486414800@northshorebaseball.ca
SUMMARY:9U (Tadpole) Coach / Manager Meeting
DESCRIPTION:Meeting in Upper building\, in the Cedar Boardroom. \nMore details…
URL:https://northshorebaseball.ca/event/9u-tadpole-coach-manager-meeting/
LOCATION:Old Delbrook Community Recreation Centre\, 600 West Queens Road\, North Vancouver\, British Columbia\, V7N 2L3\, Canada
CATEGORIES:Meeting
END:VEVENT
BEGIN:VEVENT
DTSTART;TZID=America/Vancouver:20170206T180000
DTEND;TZID=America/Vancouver:20170206T200000
DTSTAMP:20260424T001736
CREATED:20161223T101634Z
LAST-MODIFIED:20161230T062509Z
UID:482-1486404000-1486411200@northshorebaseball.ca
SUMMARY:18U (Midget) Winter Training
DESCRIPTION:More details…
URL:https://northshorebaseball.ca/event/18u-midget-winter-training-6/
LOCATION:Inside Performance\, #2 - 1500 Railway Street\, North Vancouver\, British Columbia\, V7J 1B5\, Canada
CATEGORIES:Training
END:VEVENT
BEGIN:VEVENT
DTSTART;TZID=America/Vancouver:20170204T150000
DTEND;TZID=America/Vancouver:20170204T160000
DTSTAMP:20260424T001736
CREATED:20161230T064157Z
LAST-MODIFIED:20161230T064400Z
UID:615-1486220400-1486224000@northshorebaseball.ca
SUMMARY:9U (Tadpole) Winter Training
DESCRIPTION:More details…
URL:https://northshorebaseball.ca/event/9u-tadpole-winter-training-4/
LOCATION:Inside Performance\, #2 - 1500 Railway Street\, North Vancouver\, British Columbia\, V7J 1B5\, Canada
CATEGORIES:Training
END:VEVENT
BEGIN:VEVENT
DTSTART;TZID=America/Vancouver:20170203T170000
DTEND;TZID=America/Vancouver:20170203T190000
DTSTAMP:20260424T001736
CREATED:20161223T101630Z
LAST-MODIFIED:20161230T061305Z
UID:473-1486141200-1486148400@northshorebaseball.ca
SUMMARY:15U (Bantam) Winter Training
DESCRIPTION:More details…
URL:https://northshorebaseball.ca/event/15u-bantam-winter-training-6/
LOCATION:Inside Performance\, #2 - 1500 Railway Street\, North Vancouver\, British Columbia\, V7J 1B5\, Canada
CATEGORIES:Training
END:VEVENT
BEGIN:VEVENT
DTSTART;VALUE=DATE:20170202
DTEND;VALUE=DATE:20170203
DTSTAMP:20260424T001736
CREATED:20161115T085404Z
LAST-MODIFIED:20220101T202103Z
UID:126-1485993600-1486079999@northshorebaseball.ca
SUMMARY:Groundhog Day
DESCRIPTION:
URL:https://northshorebaseball.ca/event/groundhog-day-2017/
LOCATION:British Columbia
CATEGORIES:Holidays
END:VEVENT
BEGIN:VEVENT
DTSTART;VALUE=DATE:20170201
DTEND;VALUE=DATE:20170202
DTSTAMP:20260424T001736
CREATED:20161115T085404Z
LAST-MODIFIED:20211116T052127Z
UID:131-1485907200-1485993599@northshorebaseball.ca
SUMMARY:Late Registration Fee Starts
DESCRIPTION:A late registration fee of $25 will be charged to players who register after January 15th. We have extended this date to after January 31st.
URL:https://northshorebaseball.ca/event/late-registration-fee-starts-2017/
LOCATION:British Columbia
CATEGORIES:Important Dates
END:VEVENT
BEGIN:VEVENT
DTSTART;TZID=America/Vancouver:20170131T180000
DTEND;TZID=America/Vancouver:20170131T191500
DTSTAMP:20260424T001736
CREATED:20170103T060152Z
LAST-MODIFIED:20170103T060419Z
UID:650-1485885600-1485890100@northshorebaseball.ca
SUMMARY:11U (Mosquito) Winter Training
DESCRIPTION:More details…
URL:https://northshorebaseball.ca/event/11u-mosquito-winter-training-4/
LOCATION:Chartwell Elementary School\, 1300 Chartwell Drive\, West Vancouver\, British Columbia\, V7S 2R3\, Canada
CATEGORIES:Training
END:VEVENT
END:VCALENDAR