BEGIN:VCALENDAR
VERSION:2.0
PRODID:-//North Shore Baseball Association - ECPv6.15.13.1//NONSGML v1.0//EN
CALSCALE:GREGORIAN
METHOD:PUBLISH
X-WR-CALNAME:North Shore Baseball Association
X-ORIGINAL-URL:https://northshorebaseball.ca
X-WR-CALDESC:Events for North Shore Baseball Association
REFRESH-INTERVAL;VALUE=DURATION:PT1H
X-Robots-Tag:noindex
X-PUBLISHED-TTL:PT1H
BEGIN:VTIMEZONE
TZID:America/Vancouver
BEGIN:DAYLIGHT
TZOFFSETFROM:-0800
TZOFFSETTO:-0700
TZNAME:PDT
DTSTART:20160313T100000
END:DAYLIGHT
BEGIN:STANDARD
TZOFFSETFROM:-0700
TZOFFSETTO:-0800
TZNAME:PST
DTSTART:20161106T090000
END:STANDARD
BEGIN:DAYLIGHT
TZOFFSETFROM:-0800
TZOFFSETTO:-0700
TZNAME:PDT
DTSTART:20170312T100000
END:DAYLIGHT
BEGIN:STANDARD
TZOFFSETFROM:-0700
TZOFFSETTO:-0800
TZNAME:PST
DTSTART:20171105T090000
END:STANDARD
BEGIN:DAYLIGHT
TZOFFSETFROM:-0800
TZOFFSETTO:-0700
TZNAME:PDT
DTSTART:20180311T100000
END:DAYLIGHT
BEGIN:STANDARD
TZOFFSETFROM:-0700
TZOFFSETTO:-0800
TZNAME:PST
DTSTART:20181104T090000
END:STANDARD
END:VTIMEZONE
BEGIN:VEVENT
DTSTART;TZID=America/Vancouver:20170331T190000
DTEND;TZID=America/Vancouver:20170331T202000
DTSTAMP:20260423T191754
CREATED:20170215T101629Z
LAST-MODIFIED:20170215T101629Z
UID:771-1490986800-1490991600@northshorebaseball.ca
SUMMARY:15U Coaches Caravan
DESCRIPTION:More details…
URL:https://northshorebaseball.ca/event/15u-coaches-caravan/
LOCATION:Mountainside Secondary School\, 3365 Mahon Avenue\, North Vancouver\, British Columbia\, V7N 3T7\, Canada
CATEGORIES:Training
END:VEVENT
BEGIN:VEVENT
DTSTART;TZID=America/Vancouver:20170331T173000
DTEND;TZID=America/Vancouver:20170331T185000
DTSTAMP:20260423T191754
CREATED:20170215T101446Z
LAST-MODIFIED:20170215T101446Z
UID:769-1490981400-1490986200@northshorebaseball.ca
SUMMARY:13U Coaches Caravan
DESCRIPTION:More details…
URL:https://northshorebaseball.ca/event/13u-coaches-caravan/
LOCATION:Mountainside Secondary School\, 3365 Mahon Avenue\, North Vancouver\, British Columbia\, V7N 3T7\, Canada
CATEGORIES:Training
END:VEVENT
BEGIN:VEVENT
DTSTART;TZID=America/Vancouver:20170330T190000
DTEND;TZID=America/Vancouver:20170330T202000
DTSTAMP:20260423T191754
CREATED:20170215T101323Z
LAST-MODIFIED:20170215T101323Z
UID:767-1490900400-1490905200@northshorebaseball.ca
SUMMARY:11U Coaches Caravan
DESCRIPTION:More details…
URL:https://northshorebaseball.ca/event/11u-coaches-caravan/
LOCATION:Parkgate Community Centre\, 3625 Banff Court\, North Vancouver\, British Columbia\, V7H 2Z8\, Canada
CATEGORIES:Training
END:VEVENT
BEGIN:VEVENT
DTSTART;TZID=America/Vancouver:20170330T173000
DTEND;TZID=America/Vancouver:20170330T185000
DTSTAMP:20260423T191754
CREATED:20170215T101123Z
LAST-MODIFIED:20170215T101123Z
UID:765-1490895000-1490899800@northshorebaseball.ca
SUMMARY:9U Coaches Caravan
DESCRIPTION:More details…
URL:https://northshorebaseball.ca/event/9u-coaches-caravan/
LOCATION:Parkgate Community Centre\, 3625 Banff Court\, North Vancouver\, British Columbia\, V7H 2Z8\, Canada
CATEGORIES:Training
END:VEVENT
BEGIN:VEVENT
DTSTART;TZID=America/Vancouver:20170320T032800
DTEND;TZID=America/Vancouver:20170320T032800
DTSTAMP:20260423T191754
CREATED:20161115T085407Z
LAST-MODIFIED:20210827T024547Z
UID:159-1489980480-1489980480@northshorebaseball.ca
SUMMARY:March Equinox
DESCRIPTION:First Day of Spring. \nMarch equinox marks the moment the Sun crosses the celestial equator – the imaginary line in the sky above the Earth’s equator – from south to north. On the equinox\, night and day are nearly exactly the same length – 12 hours – all over the world.
URL:https://northshorebaseball.ca/event/march-equinox-2017/
LOCATION:British Columbia
CATEGORIES:Holidays
END:VEVENT
BEGIN:VEVENT
DTSTART;VALUE=DATE:20170317
DTEND;VALUE=DATE:20170318
DTSTAMP:20260423T191754
CREATED:20161115T085406Z
LAST-MODIFIED:20220101T210720Z
UID:152-1489708800-1489795199@northshorebaseball.ca
SUMMARY:St. Patrick's Day
DESCRIPTION:
URL:https://northshorebaseball.ca/event/st-patricks-day-2017/
LOCATION:British Columbia
CATEGORIES:Holidays
END:VEVENT
BEGIN:VEVENT
DTSTART;TZID=America/Vancouver:20170312T150000
DTEND;TZID=America/Vancouver:20170312T160000
DTSTAMP:20260423T191754
CREATED:20170207T094519Z
LAST-MODIFIED:20170207T094519Z
UID:742-1489330800-1489334400@northshorebaseball.ca
SUMMARY:11U (Mosquito) Winter Training
DESCRIPTION:More details…
URL:https://northshorebaseball.ca/event/11u-mosquito-winter-training-14/
LOCATION:Inside Performance\, #2 - 1500 Railway Street\, North Vancouver\, British Columbia\, V7J 1B5\, Canada
CATEGORIES:Training
END:VEVENT
BEGIN:VEVENT
DTSTART;TZID=America/Vancouver:20170312T030000
DTEND;TZID=America/Vancouver:20170312T030000
DTSTAMP:20260423T191754
CREATED:20161115T085403Z
LAST-MODIFIED:20220101T200354Z
UID:120-1489287600-1489287600@northshorebaseball.ca
SUMMARY:Daylight Saving Time Starts
DESCRIPTION:Daylight Saving Time Starts – set clock 1 hour forward.
URL:https://northshorebaseball.ca/event/daylight-saving-time-starts-2017/
LOCATION:British Columbia
END:VEVENT
BEGIN:VEVENT
DTSTART;VALUE=DATE:20170311
DTEND;VALUE=DATE:20170327
DTSTAMP:20260423T191754
CREATED:20161115T085406Z
LAST-MODIFIED:20161115T085406Z
UID:148-1489190400-1490572799@northshorebaseball.ca
SUMMARY:Schools Closed
DESCRIPTION:Schools Closed – Spring Vacation (March 11\, 2017 – March 26\, 2017)
URL:https://northshorebaseball.ca/event/schools-closed-8/
LOCATION:British Columbia
CATEGORIES:Schools Closed
END:VEVENT
BEGIN:VEVENT
DTSTART;TZID=America/Vancouver:20170310T170000
DTEND;TZID=America/Vancouver:20170310T190000
DTSTAMP:20260423T191754
CREATED:20161223T101633Z
LAST-MODIFIED:20161230T061029Z
UID:478-1489165200-1489172400@northshorebaseball.ca
SUMMARY:15U (Bantam) Winter Training
DESCRIPTION:More details…
URL:https://northshorebaseball.ca/event/15u-bantam-winter-training-11/
LOCATION:Inside Performance\, #2 - 1500 Railway Street\, North Vancouver\, British Columbia\, V7J 1B5\, Canada
CATEGORIES:Training
END:VEVENT
BEGIN:VEVENT
DTSTART;TZID=America/Vancouver:20170308T200000
DTEND;TZID=America/Vancouver:20170308T210000
DTSTAMP:20260423T191754
CREATED:20170125T050053Z
LAST-MODIFIED:20170307T091316Z
UID:710-1489003200-1489006800@northshorebaseball.ca
SUMMARY:Board Meeting
DESCRIPTION:Board Meeting \nMeet in the Anchor Room
URL:https://northshorebaseball.ca/event/board-meeting-6/
LOCATION:John Braithwaite Community Centre\, 145 West 1st Street\, North Vancouver\, British Columbia\, V7M 3N8\, Canada
CATEGORIES:Board Meetings
END:VEVENT
BEGIN:VEVENT
DTSTART;TZID=America/Vancouver:20170307T180000
DTEND;TZID=America/Vancouver:20170307T191500
DTSTAMP:20260423T191754
CREATED:20170103T060156Z
LAST-MODIFIED:20170103T060240Z
UID:655-1488909600-1488914100@northshorebaseball.ca
SUMMARY:11U (Mosquito) Winter Training
DESCRIPTION:More details…
URL:https://northshorebaseball.ca/event/11u-mosquito-winter-training-9/
LOCATION:Chartwell Elementary School\, 1300 Chartwell Drive\, West Vancouver\, British Columbia\, V7S 2R3\, Canada
CATEGORIES:Training
END:VEVENT
BEGIN:VEVENT
DTSTART;TZID=America/Vancouver:20170307T173000
DTEND;TZID=America/Vancouver:20170307T190000
DTSTAMP:20260423T191754
CREATED:20161223T101635Z
LAST-MODIFIED:20170122T092338Z
UID:492-1488907800-1488913200@northshorebaseball.ca
SUMMARY:13U (PeeWee) Winter Training
DESCRIPTION:More details…
URL:https://northshorebaseball.ca/event/13u-peewee-winter-training-6/
LOCATION:Inside Performance\, #2 - 1500 Railway Street\, North Vancouver\, British Columbia\, V7J 1B5\, Canada
CATEGORIES:Training
END:VEVENT
BEGIN:VEVENT
DTSTART;TZID=America/Vancouver:20170306T180000
DTEND;TZID=America/Vancouver:20170306T200000
DTSTAMP:20260423T191754
CREATED:20161223T101634Z
LAST-MODIFIED:20161230T062411Z
UID:486-1488823200-1488830400@northshorebaseball.ca
SUMMARY:18U (Midget) Winter Training
DESCRIPTION:More details…
URL:https://northshorebaseball.ca/event/18u-midget-winter-training-10/
LOCATION:Inside Performance\, #2 - 1500 Railway Street\, North Vancouver\, British Columbia\, V7J 1B5\, Canada
CATEGORIES:Training
END:VEVENT
BEGIN:VEVENT
DTSTART;TZID=America/Vancouver:20170305T180000
DTEND;TZID=America/Vancouver:20170305T210000
DTSTAMP:20260423T191754
CREATED:20170217T101454Z
LAST-MODIFIED:20170304T052518Z
UID:784-1488736800-1488747600@northshorebaseball.ca
SUMMARY:18U (Midget) AA Assessments
DESCRIPTION:More details…
URL:https://northshorebaseball.ca/event/18u-midget-aa-assessments/
LOCATION:Inside Performance\, #2 - 1500 Railway Street\, North Vancouver\, British Columbia\, V7J 1B5\, Canada
CATEGORIES:Evaluations
END:VEVENT
BEGIN:VEVENT
DTSTART;TZID=America/Vancouver:20170305T150000
DTEND;TZID=America/Vancouver:20170305T160000
DTSTAMP:20260423T191754
CREATED:20170207T094432Z
LAST-MODIFIED:20170207T094432Z
UID:740-1488726000-1488729600@northshorebaseball.ca
SUMMARY:11U (Mosquito) Winter Training
DESCRIPTION:More details…
URL:https://northshorebaseball.ca/event/11u-mosquito-winter-training-13/
LOCATION:Inside Performance\, #2 - 1500 Railway Street\, North Vancouver\, British Columbia\, V7J 1B5\, Canada
CATEGORIES:Training
END:VEVENT
BEGIN:VEVENT
DTSTART;TZID=America/Vancouver:20170304T174000
DTEND;TZID=America/Vancouver:20170304T194000
DTSTAMP:20260423T191754
CREATED:20170225T100638Z
LAST-MODIFIED:20170225T100638Z
UID:837-1488649200-1488656400@northshorebaseball.ca
SUMMARY:9U (Tadpole) Assessments
DESCRIPTION:Assessments in main gym. \nMore details…
URL:https://northshorebaseball.ca/event/9u-tadpole-assessments-2/
LOCATION:Mickey McDougall Community Recreation Centre\, 240 East 23rd Street\, North Vancouver\, British Columbia\, V7L 4R4\, Canada
CATEGORIES:Evaluations
END:VEVENT
BEGIN:VEVENT
DTSTART;TZID=America/Vancouver:20170304T150000
DTEND;TZID=America/Vancouver:20170304T160000
DTSTAMP:20260423T191754
CREATED:20161230T064201Z
LAST-MODIFIED:20161230T064255Z
UID:618-1488639600-1488643200@northshorebaseball.ca
SUMMARY:9U (Tadpole) Winter Training
DESCRIPTION:More details…
URL:https://northshorebaseball.ca/event/9u-tadpole-winter-training-7/
LOCATION:Inside Performance\, #2 - 1500 Railway Street\, North Vancouver\, British Columbia\, V7J 1B5\, Canada
CATEGORIES:Training
END:VEVENT
BEGIN:VEVENT
DTSTART;TZID=America/Vancouver:20170303T170000
DTEND;TZID=America/Vancouver:20170303T190000
DTSTAMP:20260423T191754
CREATED:20161223T101633Z
LAST-MODIFIED:20161230T061040Z
UID:477-1488560400-1488567600@northshorebaseball.ca
SUMMARY:15U (Bantam) Winter Training
DESCRIPTION:More details…
URL:https://northshorebaseball.ca/event/15u-bantam-winter-training-10/
LOCATION:Inside Performance\, #2 - 1500 Railway Street\, North Vancouver\, British Columbia\, V7J 1B5\, Canada
CATEGORIES:Training
END:VEVENT
BEGIN:VEVENT
DTSTART;TZID=America/Vancouver:20170228T180000
DTEND;TZID=America/Vancouver:20170228T191500
DTSTAMP:20260423T191754
CREATED:20170103T060156Z
LAST-MODIFIED:20170103T060339Z
UID:654-1488304800-1488309300@northshorebaseball.ca
SUMMARY:11U (Mosquito) Winter Training
DESCRIPTION:More details…
URL:https://northshorebaseball.ca/event/11u-mosquito-winter-training-8/
LOCATION:Chartwell Elementary School\, 1300 Chartwell Drive\, West Vancouver\, British Columbia\, V7S 2R3\, Canada
CATEGORIES:Training
END:VEVENT
BEGIN:VEVENT
DTSTART;TZID=America/Vancouver:20170228T173000
DTEND;TZID=America/Vancouver:20170228T190000
DTSTAMP:20260423T191754
CREATED:20161223T101635Z
LAST-MODIFIED:20170122T092404Z
UID:491-1488303000-1488308400@northshorebaseball.ca
SUMMARY:13U (PeeWee) Winter Training
DESCRIPTION:More details…
URL:https://northshorebaseball.ca/event/13u-peewee-winter-training-5/
LOCATION:Inside Performance\, #2 - 1500 Railway Street\, North Vancouver\, British Columbia\, V7J 1B5\, Canada
CATEGORIES:Training
END:VEVENT
BEGIN:VEVENT
DTSTART;TZID=America/Vancouver:20170227T180000
DTEND;TZID=America/Vancouver:20170227T200000
DTSTAMP:20260423T191754
CREATED:20161223T101634Z
LAST-MODIFIED:20161230T062419Z
UID:485-1488218400-1488225600@northshorebaseball.ca
SUMMARY:18U (Midget) Winter Training
DESCRIPTION:More details…
URL:https://northshorebaseball.ca/event/18u-midget-winter-training-9/
LOCATION:Inside Performance\, #2 - 1500 Railway Street\, North Vancouver\, British Columbia\, V7J 1B5\, Canada
CATEGORIES:Training
END:VEVENT
BEGIN:VEVENT
DTSTART;TZID=America/Vancouver:20170226T150000
DTEND;TZID=America/Vancouver:20170226T180000
DTSTAMP:20260423T191754
CREATED:20170224T093937Z
LAST-MODIFIED:20170224T093937Z
UID:825-1488121200-1488132000@northshorebaseball.ca
SUMMARY:15U (Bantam) AAA Tryouts
DESCRIPTION:More details…
URL:https://northshorebaseball.ca/event/15u-bantam-aaa-tryouts-3/
LOCATION:Delbrook Park\, 3010 Delbrook Avenue\, North Vancouver\, British Columbia\, V7N 4B8\, Canada
CATEGORIES:Evaluations
END:VEVENT
BEGIN:VEVENT
DTSTART;TZID=America/Vancouver:20170226T150000
DTEND;TZID=America/Vancouver:20170226T160000
DTSTAMP:20260423T191754
CREATED:20170207T094339Z
LAST-MODIFIED:20170207T094339Z
UID:738-1488121200-1488124800@northshorebaseball.ca
SUMMARY:11U (Mosquito) Winter Training
DESCRIPTION:More details…
URL:https://northshorebaseball.ca/event/11u-mosquito-winter-training-12/
LOCATION:Inside Performance\, #2 - 1500 Railway Street\, North Vancouver\, British Columbia\, V7J 1B5\, Canada
CATEGORIES:Training
END:VEVENT
BEGIN:VEVENT
DTSTART;TZID=America/Vancouver:20170226T132000
DTEND;TZID=America/Vancouver:20170226T152000
DTSTAMP:20260423T191754
CREATED:20170225T100211Z
LAST-MODIFIED:20170225T100731Z
UID:835-1488115200-1488122400@northshorebaseball.ca
SUMMARY:9U (Tadpole) Assessments
DESCRIPTION:Assessments in main gym. \nMore details…
URL:https://northshorebaseball.ca/event/9u-tadpole-assessments/
LOCATION:Mickey McDougall Community Recreation Centre\, 240 East 23rd Street\, North Vancouver\, British Columbia\, V7L 4R4\, Canada
CATEGORIES:Evaluations
END:VEVENT
BEGIN:VEVENT
DTSTART;TZID=America/Vancouver:20170226T123000
DTEND;TZID=America/Vancouver:20170226T150000
DTSTAMP:20260423T191754
CREATED:20170217T101350Z
LAST-MODIFIED:20170217T101350Z
UID:782-1488112200-1488121200@northshorebaseball.ca
SUMMARY:18U (Midget) AAA Tryouts
DESCRIPTION:More details…
URL:https://northshorebaseball.ca/event/18u-midget-aaa-tryouts-2/
LOCATION:Delbrook Park\, 3010 Delbrook Avenue\, North Vancouver\, British Columbia\, V7N 4B8\, Canada
CATEGORIES:Evaluations
END:VEVENT
BEGIN:VEVENT
DTSTART;TZID=America/Vancouver:20170226T120000
DTEND;TZID=America/Vancouver:20170226T140000
DTSTAMP:20260423T191754
CREATED:20170224T095510Z
LAST-MODIFIED:20170224T095510Z
UID:830-1488110400-1488117600@northshorebaseball.ca
SUMMARY:13U (PeeWee) AA Tryouts
DESCRIPTION:More details…
URL:https://northshorebaseball.ca/event/13u-peewee-aa-tryouts-2/
LOCATION:Chris Zuehlke Memorial Park\, 1905 Jones Avenue\, North Vancouver\, British Columbia\, Canada
CATEGORIES:Evaluations
END:VEVENT
BEGIN:VEVENT
DTSTART;TZID=America/Vancouver:20170225T150000
DTEND;TZID=America/Vancouver:20170225T180000
DTSTAMP:20260423T191754
CREATED:20170224T093825Z
LAST-MODIFIED:20170224T093825Z
UID:823-1488034800-1488045600@northshorebaseball.ca
SUMMARY:15U (Bantam) AAA Tryouts
DESCRIPTION:More details…
URL:https://northshorebaseball.ca/event/15u-bantam-aaa-tryouts-2/
LOCATION:Delbrook Park\, 3010 Delbrook Avenue\, North Vancouver\, British Columbia\, V7N 4B8\, Canada
CATEGORIES:Evaluations
END:VEVENT
BEGIN:VEVENT
DTSTART;TZID=America/Vancouver:20170225T150000
DTEND;TZID=America/Vancouver:20170225T160000
DTSTAMP:20260423T191754
CREATED:20161230T064201Z
LAST-MODIFIED:20161230T064339Z
UID:617-1488034800-1488038400@northshorebaseball.ca
SUMMARY:9U (Tadpole) Winter Training
DESCRIPTION:More details…
URL:https://northshorebaseball.ca/event/9u-tadpole-winter-training-6/
LOCATION:Inside Performance\, #2 - 1500 Railway Street\, North Vancouver\, British Columbia\, V7J 1B5\, Canada
CATEGORIES:Training
END:VEVENT
BEGIN:VEVENT
DTSTART;TZID=America/Vancouver:20170225T123000
DTEND;TZID=America/Vancouver:20170225T150000
DTSTAMP:20260423T191754
CREATED:20170217T101231Z
LAST-MODIFIED:20170217T101231Z
UID:780-1488025800-1488034800@northshorebaseball.ca
SUMMARY:18U (Midget) AAA Tryouts
DESCRIPTION:More details…
URL:https://northshorebaseball.ca/event/18u-midget-aaa-tryouts/
LOCATION:Delbrook Park\, 3010 Delbrook Avenue\, North Vancouver\, British Columbia\, V7N 4B8\, Canada
CATEGORIES:Evaluations
END:VEVENT
END:VCALENDAR