BEGIN:VCALENDAR
VERSION:2.0
PRODID:-//North Shore Baseball Association - ECPv6.15.13.1//NONSGML v1.0//EN
CALSCALE:GREGORIAN
METHOD:PUBLISH
X-WR-CALNAME:North Shore Baseball Association
X-ORIGINAL-URL:https://northshorebaseball.ca
X-WR-CALDESC:Events for North Shore Baseball Association
REFRESH-INTERVAL;VALUE=DURATION:PT1H
X-Robots-Tag:noindex
X-PUBLISHED-TTL:PT1H
BEGIN:VTIMEZONE
TZID:America/Vancouver
BEGIN:DAYLIGHT
TZOFFSETFROM:-0800
TZOFFSETTO:-0700
TZNAME:PDT
DTSTART:20160313T100000
END:DAYLIGHT
BEGIN:STANDARD
TZOFFSETFROM:-0700
TZOFFSETTO:-0800
TZNAME:PST
DTSTART:20161106T090000
END:STANDARD
BEGIN:DAYLIGHT
TZOFFSETFROM:-0800
TZOFFSETTO:-0700
TZNAME:PDT
DTSTART:20170312T100000
END:DAYLIGHT
BEGIN:STANDARD
TZOFFSETFROM:-0700
TZOFFSETTO:-0800
TZNAME:PST
DTSTART:20171105T090000
END:STANDARD
BEGIN:DAYLIGHT
TZOFFSETFROM:-0800
TZOFFSETTO:-0700
TZNAME:PDT
DTSTART:20180311T100000
END:DAYLIGHT
BEGIN:STANDARD
TZOFFSETFROM:-0700
TZOFFSETTO:-0800
TZNAME:PST
DTSTART:20181104T090000
END:STANDARD
END:VTIMEZONE
BEGIN:VEVENT
DTSTART;VALUE=DATE:20170603
DTEND;VALUE=DATE:20170604
DTSTAMP:20260422T213313
CREATED:20161115T085405Z
LAST-MODIFIED:20220101T203726Z
UID:133-1496448000-1496534399@northshorebaseball.ca
SUMMARY:National Health and Fitness Day
DESCRIPTION:National Health and Fitness Day is an initiative to get Canadians moving by marking one day\, the first Saturday in June\, as the day when Canadians get out and get active in any way they think appropriate.\nNational Health and Fitness Day was an idea that was germinated during the Vancouver 2010 Olympics as a project to mobilize the spirit of the games and create a legacy of improved health for all Canadians. In December 2014\, the National Health and Fitness Day Act\, Bill S-211\, became law in Canada\, ensuring official recognition of the day.
URL:https://northshorebaseball.ca/event/national-health-and-fitness-day-2017/
LOCATION:British Columbia
END:VEVENT
BEGIN:VEVENT
DTSTART;VALUE=DATE:20170602
DTEND;VALUE=DATE:20170603
DTSTAMP:20260422T213313
CREATED:20161115T085406Z
LAST-MODIFIED:20161115T085406Z
UID:147-1496361600-1496447999@northshorebaseball.ca
SUMMARY:Schools Closed
DESCRIPTION:Schools Closed – School Based Non-Instructional Day
URL:https://northshorebaseball.ca/event/schools-closed-7/
LOCATION:British Columbia
CATEGORIES:Schools Closed
END:VEVENT
BEGIN:VEVENT
DTSTART;VALUE=DATE:20170531
DTEND;VALUE=DATE:20170601
DTSTAMP:20260422T213313
CREATED:20170529T052124Z
LAST-MODIFIED:20210526T044924Z
UID:1057-1496188800-1496275199@northshorebaseball.ca
SUMMARY:Scholarship Application Deadline
DESCRIPTION:More details…
URL:https://northshorebaseball.ca/event/scholarship-application-deadline-2017/
LOCATION:British Columbia
CATEGORIES:Important Dates
END:VEVENT
BEGIN:VEVENT
DTSTART;TZID=America/Vancouver:20170524T200000
DTEND;TZID=America/Vancouver:20170524T210000
DTSTAMP:20260422T213313
CREATED:20170125T050232Z
LAST-MODIFIED:20170125T050232Z
UID:714-1495656000-1495659600@northshorebaseball.ca
SUMMARY:Board Meeting
DESCRIPTION:Board Meeting \nMeet in the Oak Room
URL:https://northshorebaseball.ca/event/board-meeting-8/
LOCATION:Old Delbrook Community Recreation Centre\, 600 West Queens Road\, North Vancouver\, British Columbia\, V7N 2L3\, Canada
CATEGORIES:Board Meetings
END:VEVENT
BEGIN:VEVENT
DTSTART;VALUE=DATE:20170522
DTEND;VALUE=DATE:20170523
DTSTAMP:20260422T213313
CREATED:20161115T085407Z
LAST-MODIFIED:20220101T212202Z
UID:156-1495411200-1495497599@northshorebaseball.ca
SUMMARY:Victoria Day
DESCRIPTION:
URL:https://northshorebaseball.ca/event/victoria-day-2017/
LOCATION:British Columbia
CATEGORIES:Holidays
END:VEVENT
BEGIN:VEVENT
DTSTART;VALUE=DATE:20170514
DTEND;VALUE=DATE:20170515
DTSTAMP:20260422T213313
CREATED:20161115T085404Z
LAST-MODIFIED:20220101T203156Z
UID:132-1494720000-1494806399@northshorebaseball.ca
SUMMARY:Mother's Day
DESCRIPTION:
URL:https://northshorebaseball.ca/event/mothers-day-2017/
LOCATION:British Columbia
CATEGORIES:Holidays
END:VEVENT
BEGIN:VEVENT
DTSTART;VALUE=DATE:20170508
DTEND;VALUE=DATE:20170509
DTSTAMP:20260422T213313
CREATED:20161115T085405Z
LAST-MODIFIED:20161115T085405Z
UID:144-1494201600-1494287999@northshorebaseball.ca
SUMMARY:Schools Closed
DESCRIPTION:Schools Closed – District-wide Professional Development Day
URL:https://northshorebaseball.ca/event/schools-closed-4/
LOCATION:British Columbia
CATEGORIES:Schools Closed
END:VEVENT
BEGIN:VEVENT
DTSTART;VALUE=DATE:20170507
DTEND;VALUE=DATE:20170508
DTSTAMP:20260422T213313
CREATED:20170508T022005Z
LAST-MODIFIED:20220523T175723Z
UID:947-1494115200-1494201599@northshorebaseball.ca
SUMMARY:Summer Registration Opens
DESCRIPTION:North Shore Baseball Association Registration for the 2017 Summer Season is now open.\nRegister your child from May 7\, 2017 – June 4\, 2017.
URL:https://northshorebaseball.ca/event/summer-registration-opens-2017/
LOCATION:British Columbia
CATEGORIES:Important Dates
END:VEVENT
BEGIN:VEVENT
DTSTART;TZID=America/Vancouver:20170426T190000
DTEND;TZID=America/Vancouver:20170426T210000
DTSTAMP:20260422T213313
CREATED:20170125T050143Z
LAST-MODIFIED:20170421T083002Z
UID:712-1493233200-1493240400@northshorebaseball.ca
SUMMARY:Board Meeting
DESCRIPTION:Board Meeting \nMeet in the Oak Room
URL:https://northshorebaseball.ca/event/board-meeting-7/
LOCATION:Old Delbrook Community Recreation Centre\, 600 West Queens Road\, North Vancouver\, British Columbia\, V7N 2L3\, Canada
CATEGORIES:Board Meetings
END:VEVENT
BEGIN:VEVENT
DTSTART;VALUE=DATE:20170422
DTEND;VALUE=DATE:20170423
DTSTAMP:20260422T213313
CREATED:20171023T025806Z
LAST-MODIFIED:20220101T200725Z
UID:1489-1492819200-1492905599@northshorebaseball.ca
SUMMARY:Earth Day
DESCRIPTION:Earth Day aims to inspire awareness and appreciation for Earth’s environment. The United Nations calls the event International Mother Earth Day.
URL:https://northshorebaseball.ca/event/earth-day-2017/
LOCATION:British Columbia
END:VEVENT
BEGIN:VEVENT
DTSTART;VALUE=DATE:20170417
DTEND;VALUE=DATE:20170418
DTSTAMP:20260422T213313
CREATED:20161115T085403Z
LAST-MODIFIED:20220101T201106Z
UID:121-1492387200-1492473599@northshorebaseball.ca
SUMMARY:Easter Monday
DESCRIPTION:
URL:https://northshorebaseball.ca/event/easter-monday-2017/
LOCATION:British Columbia
CATEGORIES:Holidays
END:VEVENT
BEGIN:VEVENT
DTSTART;VALUE=DATE:20170416
DTEND;VALUE=DATE:20170417
DTSTAMP:20260422T213313
CREATED:20161115T085403Z
LAST-MODIFIED:20220101T201335Z
UID:122-1492300800-1492387199@northshorebaseball.ca
SUMMARY:Easter Sunday
DESCRIPTION:
URL:https://northshorebaseball.ca/event/easter-sunday-2017/
LOCATION:British Columbia
CATEGORIES:Holidays
END:VEVENT
BEGIN:VEVENT
DTSTART;VALUE=DATE:20170414
DTEND;VALUE=DATE:20170415
DTSTAMP:20260422T213313
CREATED:20161115T085404Z
LAST-MODIFIED:20220101T202359Z
UID:125-1492128000-1492214399@northshorebaseball.ca
SUMMARY:Good Friday
DESCRIPTION:
URL:https://northshorebaseball.ca/event/good-friday-2017/
LOCATION:British Columbia
CATEGORIES:Holidays
END:VEVENT
BEGIN:VEVENT
DTSTART;TZID=America/Vancouver:20170408T130000
DTEND;TZID=America/Vancouver:20170408T140000
DTSTAMP:20260422T213313
CREATED:20170321T053513Z
LAST-MODIFIED:20220410T180447Z
UID:858-1491656400-1491660000@northshorebaseball.ca
SUMMARY:Opening Day Ceremony
DESCRIPTION:More details…
URL:https://northshorebaseball.ca/event/opening-day-ceremony-2017/
LOCATION:Eldon Park\, 4010 Ruby Avenue\, North Vancouver\, British Columbia\, V7R 4B2\, Canada
CATEGORIES:Important Dates
END:VEVENT
BEGIN:VEVENT
DTSTART;TZID=America/Vancouver:20170408T102000
DTEND;TZID=America/Vancouver:20170408T154500
DTSTAMP:20260422T213313
CREATED:20170407T043247Z
LAST-MODIFIED:20220410T180818Z
UID:881-1491646800-1491666300@northshorebaseball.ca
SUMMARY:Photo Day
DESCRIPTION:More details…
URL:https://northshorebaseball.ca/event/photo-day-2017/
LOCATION:Eldon Park\, 4010 Ruby Avenue\, North Vancouver\, British Columbia\, V7R 4B2\, Canada
CATEGORIES:Important Dates
END:VEVENT
BEGIN:VEVENT
DTSTART;VALUE=DATE:20170403
DTEND;VALUE=DATE:20170404
DTSTAMP:20260422T213313
CREATED:20161115T085406Z
LAST-MODIFIED:20211116T053309Z
UID:151-1491177600-1491263999@northshorebaseball.ca
SUMMARY:Season Begins
DESCRIPTION:North Shore Baseball Association 2017 Spring Season begins.
URL:https://northshorebaseball.ca/event/season-begins-2017/
LOCATION:British Columbia
END:VEVENT
BEGIN:VEVENT
DTSTART;TZID=America/Vancouver:20170402T090000
DTEND;TZID=America/Vancouver:20170402T170000
DTSTAMP:20260422T213313
CREATED:20170214T053231Z
LAST-MODIFIED:20230131T043813Z
UID:757-1491123600-1491152400@northshorebaseball.ca
SUMMARY:Umpire Clinic
DESCRIPTION:More details…
URL:https://northshorebaseball.ca/event/umpire-clinic-2017/
LOCATION:West Vancouver Secondary School\, 1750 Mathers Avenue\, West Vancouver\, British Columbia\, V7V 2G7\, Canada
CATEGORIES:Training
END:VEVENT
BEGIN:VEVENT
DTSTART;VALUE=DATE:20170401
DTEND;VALUE=DATE:20170402
DTSTAMP:20260422T213313
CREATED:20161115T085359Z
LAST-MODIFIED:20220101T193459Z
UID:111-1491004800-1491091199@northshorebaseball.ca
SUMMARY:April Fool's Day
DESCRIPTION:
URL:https://northshorebaseball.ca/event/april-fools-day-2017/
LOCATION:British Columbia
CATEGORIES:Holidays
END:VEVENT
BEGIN:VEVENT
DTSTART;TZID=America/Vancouver:20170331T190000
DTEND;TZID=America/Vancouver:20170331T202000
DTSTAMP:20260422T213313
CREATED:20170215T101629Z
LAST-MODIFIED:20170215T101629Z
UID:771-1490986800-1490991600@northshorebaseball.ca
SUMMARY:15U Coaches Caravan
DESCRIPTION:More details…
URL:https://northshorebaseball.ca/event/15u-coaches-caravan/
LOCATION:Mountainside Secondary School\, 3365 Mahon Avenue\, North Vancouver\, British Columbia\, V7N 3T7\, Canada
CATEGORIES:Training
END:VEVENT
BEGIN:VEVENT
DTSTART;TZID=America/Vancouver:20170331T173000
DTEND;TZID=America/Vancouver:20170331T185000
DTSTAMP:20260422T213313
CREATED:20170215T101446Z
LAST-MODIFIED:20170215T101446Z
UID:769-1490981400-1490986200@northshorebaseball.ca
SUMMARY:13U Coaches Caravan
DESCRIPTION:More details…
URL:https://northshorebaseball.ca/event/13u-coaches-caravan/
LOCATION:Mountainside Secondary School\, 3365 Mahon Avenue\, North Vancouver\, British Columbia\, V7N 3T7\, Canada
CATEGORIES:Training
END:VEVENT
BEGIN:VEVENT
DTSTART;TZID=America/Vancouver:20170330T190000
DTEND;TZID=America/Vancouver:20170330T202000
DTSTAMP:20260422T213313
CREATED:20170215T101323Z
LAST-MODIFIED:20170215T101323Z
UID:767-1490900400-1490905200@northshorebaseball.ca
SUMMARY:11U Coaches Caravan
DESCRIPTION:More details…
URL:https://northshorebaseball.ca/event/11u-coaches-caravan/
LOCATION:Parkgate Community Centre\, 3625 Banff Court\, North Vancouver\, British Columbia\, V7H 2Z8\, Canada
CATEGORIES:Training
END:VEVENT
BEGIN:VEVENT
DTSTART;TZID=America/Vancouver:20170330T173000
DTEND;TZID=America/Vancouver:20170330T185000
DTSTAMP:20260422T213313
CREATED:20170215T101123Z
LAST-MODIFIED:20170215T101123Z
UID:765-1490895000-1490899800@northshorebaseball.ca
SUMMARY:9U Coaches Caravan
DESCRIPTION:More details…
URL:https://northshorebaseball.ca/event/9u-coaches-caravan/
LOCATION:Parkgate Community Centre\, 3625 Banff Court\, North Vancouver\, British Columbia\, V7H 2Z8\, Canada
CATEGORIES:Training
END:VEVENT
BEGIN:VEVENT
DTSTART;TZID=America/Vancouver:20170320T032800
DTEND;TZID=America/Vancouver:20170320T032800
DTSTAMP:20260422T213313
CREATED:20161115T085407Z
LAST-MODIFIED:20210827T024547Z
UID:159-1489980480-1489980480@northshorebaseball.ca
SUMMARY:March Equinox
DESCRIPTION:First Day of Spring. \nMarch equinox marks the moment the Sun crosses the celestial equator – the imaginary line in the sky above the Earth’s equator – from south to north. On the equinox\, night and day are nearly exactly the same length – 12 hours – all over the world.
URL:https://northshorebaseball.ca/event/march-equinox-2017/
LOCATION:British Columbia
CATEGORIES:Holidays
END:VEVENT
BEGIN:VEVENT
DTSTART;VALUE=DATE:20170317
DTEND;VALUE=DATE:20170318
DTSTAMP:20260422T213313
CREATED:20161115T085406Z
LAST-MODIFIED:20220101T210720Z
UID:152-1489708800-1489795199@northshorebaseball.ca
SUMMARY:St. Patrick's Day
DESCRIPTION:
URL:https://northshorebaseball.ca/event/st-patricks-day-2017/
LOCATION:British Columbia
CATEGORIES:Holidays
END:VEVENT
BEGIN:VEVENT
DTSTART;TZID=America/Vancouver:20170312T150000
DTEND;TZID=America/Vancouver:20170312T160000
DTSTAMP:20260422T213313
CREATED:20170207T094519Z
LAST-MODIFIED:20170207T094519Z
UID:742-1489330800-1489334400@northshorebaseball.ca
SUMMARY:11U (Mosquito) Winter Training
DESCRIPTION:More details…
URL:https://northshorebaseball.ca/event/11u-mosquito-winter-training-14/
LOCATION:Inside Performance\, #2 - 1500 Railway Street\, North Vancouver\, British Columbia\, V7J 1B5\, Canada
CATEGORIES:Training
END:VEVENT
BEGIN:VEVENT
DTSTART;TZID=America/Vancouver:20170312T030000
DTEND;TZID=America/Vancouver:20170312T030000
DTSTAMP:20260422T213313
CREATED:20161115T085403Z
LAST-MODIFIED:20220101T200354Z
UID:120-1489287600-1489287600@northshorebaseball.ca
SUMMARY:Daylight Saving Time Starts
DESCRIPTION:Daylight Saving Time Starts – set clock 1 hour forward.
URL:https://northshorebaseball.ca/event/daylight-saving-time-starts-2017/
LOCATION:British Columbia
END:VEVENT
BEGIN:VEVENT
DTSTART;VALUE=DATE:20170311
DTEND;VALUE=DATE:20170327
DTSTAMP:20260422T213313
CREATED:20161115T085406Z
LAST-MODIFIED:20161115T085406Z
UID:148-1489190400-1490572799@northshorebaseball.ca
SUMMARY:Schools Closed
DESCRIPTION:Schools Closed – Spring Vacation (March 11\, 2017 – March 26\, 2017)
URL:https://northshorebaseball.ca/event/schools-closed-8/
LOCATION:British Columbia
CATEGORIES:Schools Closed
END:VEVENT
BEGIN:VEVENT
DTSTART;TZID=America/Vancouver:20170310T170000
DTEND;TZID=America/Vancouver:20170310T190000
DTSTAMP:20260422T213313
CREATED:20161223T101633Z
LAST-MODIFIED:20161230T061029Z
UID:478-1489165200-1489172400@northshorebaseball.ca
SUMMARY:15U (Bantam) Winter Training
DESCRIPTION:More details…
URL:https://northshorebaseball.ca/event/15u-bantam-winter-training-11/
LOCATION:Inside Performance\, #2 - 1500 Railway Street\, North Vancouver\, British Columbia\, V7J 1B5\, Canada
CATEGORIES:Training
END:VEVENT
BEGIN:VEVENT
DTSTART;TZID=America/Vancouver:20170308T200000
DTEND;TZID=America/Vancouver:20170308T210000
DTSTAMP:20260422T213313
CREATED:20170125T050053Z
LAST-MODIFIED:20170307T091316Z
UID:710-1489003200-1489006800@northshorebaseball.ca
SUMMARY:Board Meeting
DESCRIPTION:Board Meeting \nMeet in the Anchor Room
URL:https://northshorebaseball.ca/event/board-meeting-6/
LOCATION:John Braithwaite Community Centre\, 145 West 1st Street\, North Vancouver\, British Columbia\, V7M 3N8\, Canada
CATEGORIES:Board Meetings
END:VEVENT
BEGIN:VEVENT
DTSTART;TZID=America/Vancouver:20170307T180000
DTEND;TZID=America/Vancouver:20170307T191500
DTSTAMP:20260422T213313
CREATED:20170103T060156Z
LAST-MODIFIED:20170103T060240Z
UID:655-1488909600-1488914100@northshorebaseball.ca
SUMMARY:11U (Mosquito) Winter Training
DESCRIPTION:More details…
URL:https://northshorebaseball.ca/event/11u-mosquito-winter-training-9/
LOCATION:Chartwell Elementary School\, 1300 Chartwell Drive\, West Vancouver\, British Columbia\, V7S 2R3\, Canada
CATEGORIES:Training
END:VEVENT
END:VCALENDAR