BEGIN:VCALENDAR
VERSION:2.0
PRODID:-//North Shore Baseball Association - ECPv6.15.13.1//NONSGML v1.0//EN
CALSCALE:GREGORIAN
METHOD:PUBLISH
X-WR-CALNAME:North Shore Baseball Association
X-ORIGINAL-URL:https://northshorebaseball.ca
X-WR-CALDESC:Events for North Shore Baseball Association
REFRESH-INTERVAL;VALUE=DURATION:PT1H
X-Robots-Tag:noindex
X-PUBLISHED-TTL:PT1H
BEGIN:VTIMEZONE
TZID:America/Vancouver
BEGIN:DAYLIGHT
TZOFFSETFROM:-0800
TZOFFSETTO:-0700
TZNAME:PDT
DTSTART:20160313T100000
END:DAYLIGHT
BEGIN:STANDARD
TZOFFSETFROM:-0700
TZOFFSETTO:-0800
TZNAME:PST
DTSTART:20161106T090000
END:STANDARD
BEGIN:DAYLIGHT
TZOFFSETFROM:-0800
TZOFFSETTO:-0700
TZNAME:PDT
DTSTART:20170312T100000
END:DAYLIGHT
BEGIN:STANDARD
TZOFFSETFROM:-0700
TZOFFSETTO:-0800
TZNAME:PST
DTSTART:20171105T090000
END:STANDARD
BEGIN:DAYLIGHT
TZOFFSETFROM:-0800
TZOFFSETTO:-0700
TZNAME:PDT
DTSTART:20180311T100000
END:DAYLIGHT
BEGIN:STANDARD
TZOFFSETFROM:-0700
TZOFFSETTO:-0800
TZNAME:PST
DTSTART:20181104T090000
END:STANDARD
END:VTIMEZONE
BEGIN:VEVENT
DTSTART;TZID=America/Vancouver:20170922T183000
DTEND;TZID=America/Vancouver:20170922T200000
DTSTAMP:20260421T083527
CREATED:20170908T044738Z
LAST-MODIFIED:20170925T030011Z
UID:1256-1506105000-1506110400@northshorebaseball.ca
SUMMARY:9U (Tadpole) Fall Ball Session
DESCRIPTION:More details…
URL:https://northshorebaseball.ca/event/9u-tadpole-fall-ball-session/
LOCATION:Ridgeway Elementary School\, 420 East 8th Street\, North Vancouver\, British Columbia\, V7L 1Z5\, Canada
CATEGORIES:Training
END:VEVENT
BEGIN:VEVENT
DTSTART;TZID=America/Vancouver:20170922T130200
DTEND;TZID=America/Vancouver:20170922T130200
DTSTAMP:20260421T083527
CREATED:20161115T085407Z
LAST-MODIFIED:20210827T025152Z
UID:162-1506085320-1506085320@northshorebaseball.ca
SUMMARY:September Equinox
DESCRIPTION:First Day of Fall. \nSeptember equinox marks the moment the Sun crosses the celestial equator – the imaginary line in the sky above the Earth’s equator – from north to south. On the equinox\, night and day are nearly exactly the same length – 12 hours – all over the world.
URL:https://northshorebaseball.ca/event/september-equinox-2017/
LOCATION:British Columbia
CATEGORIES:Holidays
END:VEVENT
BEGIN:VEVENT
DTSTART;VALUE=DATE:20170922
DTEND;VALUE=DATE:20170923
DTSTAMP:20260421T083527
CREATED:20171022T180529Z
LAST-MODIFIED:20171022T180529Z
UID:1403-1506038400-1506124799@northshorebaseball.ca
SUMMARY:Schools Closed
DESCRIPTION:Schools Closed – School Based Professional Day
URL:https://northshorebaseball.ca/event/schools-closed-14/
LOCATION:British Columbia
CATEGORIES:Schools Closed
END:VEVENT
BEGIN:VEVENT
DTSTART;VALUE=DATE:20170905
DTEND;VALUE=DATE:20170906
DTSTAMP:20260421T083527
CREATED:20161115T085405Z
LAST-MODIFIED:20210827T022343Z
UID:140-1504569600-1504655999@northshorebaseball.ca
SUMMARY:School Opens
DESCRIPTION:First Day of School 2017-2018
URL:https://northshorebaseball.ca/event/school-opens-2017/
LOCATION:British Columbia
END:VEVENT
BEGIN:VEVENT
DTSTART;VALUE=DATE:20170904
DTEND;VALUE=DATE:20170905
DTSTAMP:20260421T083527
CREATED:20170811T215522Z
LAST-MODIFIED:20210827T022246Z
UID:1134-1504483200-1504569599@northshorebaseball.ca
SUMMARY:Fall Ball Registration Deadline
DESCRIPTION:North Shore Baseball Association Registration for the 2017 Fall Ball Season deadline.\nMore details…
URL:https://northshorebaseball.ca/event/fall-ball-registration-deadline-2017/
LOCATION:British Columbia
CATEGORIES:Important Dates
END:VEVENT
BEGIN:VEVENT
DTSTART;VALUE=DATE:20170904
DTEND;VALUE=DATE:20170905
DTSTAMP:20260421T083527
CREATED:20161115T085404Z
LAST-MODIFIED:20220101T202822Z
UID:130-1504483200-1504569599@northshorebaseball.ca
SUMMARY:Labour Day
DESCRIPTION:
URL:https://northshorebaseball.ca/event/labour-day-2017/
LOCATION:British Columbia
CATEGORIES:Holidays
END:VEVENT
BEGIN:VEVENT
DTSTART;VALUE=DATE:20170812
DTEND;VALUE=DATE:20170813
DTSTAMP:20260421T083527
CREATED:20170811T215437Z
LAST-MODIFIED:20210827T022253Z
UID:1132-1502496000-1502582399@northshorebaseball.ca
SUMMARY:Fall Ball Registration Opens
DESCRIPTION:North Shore Baseball Association Registration for the 2017 Fall Ball Season is now open.\nRegister your child from August 12\, 2017 – September 4\, 2017.\nMore details…
URL:https://northshorebaseball.ca/event/fall-ball-registration-opens-2017/
LOCATION:British Columbia
CATEGORIES:Important Dates
END:VEVENT
BEGIN:VEVENT
DTSTART;VALUE=DATE:20170807
DTEND;VALUE=DATE:20170808
DTSTAMP:20260421T083527
CREATED:20161115T085359Z
LAST-MODIFIED:20220101T193754Z
UID:112-1502064000-1502150399@northshorebaseball.ca
SUMMARY:BC Day
DESCRIPTION:Happy 146th Birthday British ColumbiaOn July 20\, 1871\, British Columbia became the sixth province of the Dominion of Canada.
URL:https://northshorebaseball.ca/event/bc-day-2017/
LOCATION:British Columbia
CATEGORIES:Holidays
END:VEVENT
BEGIN:VEVENT
DTSTART;VALUE=DATE:20170701
DTEND;VALUE=DATE:20170702
DTSTAMP:20260421T083527
CREATED:20161115T085403Z
LAST-MODIFIED:20220101T194329Z
UID:115-1498867200-1498953599@northshorebaseball.ca
SUMMARY:Canada Day
DESCRIPTION:Happy 150th Birthday Canada \nOn July 1\, 1867\, Canada became a self-governing dominion of Great Britain and a federation of four provinces: Nova Scotia\, New Brunswick\, Ontario\, and Quebec. The anniversary of this date was called Dominion Day until 1982. Since 1983\, July 1 has been officially known as Canada Day.
URL:https://northshorebaseball.ca/event/canada-day-2017/
LOCATION:British Columbia
CATEGORIES:Holidays
END:VEVENT
BEGIN:VEVENT
DTSTART;VALUE=DATE:20170630
DTEND;VALUE=DATE:20170701
DTSTAMP:20260421T083527
CREATED:20161115T085406Z
LAST-MODIFIED:20161115T085406Z
UID:149-1498780800-1498867199@northshorebaseball.ca
SUMMARY:Schools Closed
DESCRIPTION:Schools Closed – Summer Vacation
URL:https://northshorebaseball.ca/event/schools-closed-9/
LOCATION:British Columbia
CATEGORIES:Schools Closed
END:VEVENT
BEGIN:VEVENT
DTSTART;TZID=America/Vancouver:20170628T200000
DTEND;TZID=America/Vancouver:20170628T210000
DTSTAMP:20260421T083527
CREATED:20170125T050317Z
LAST-MODIFIED:20170125T050317Z
UID:716-1498680000-1498683600@northshorebaseball.ca
SUMMARY:Board Meeting
DESCRIPTION:Board Meeting \nMeet in the Oak Room
URL:https://northshorebaseball.ca/event/board-meeting-9/
LOCATION:Old Delbrook Community Recreation Centre\, 600 West Queens Road\, North Vancouver\, British Columbia\, V7N 2L3\, Canada
CATEGORIES:Board Meetings
END:VEVENT
BEGIN:VEVENT
DTSTART;TZID=America/Vancouver:20170625T150000
DTEND;TZID=America/Vancouver:20170625T170000
DTSTAMP:20260421T083527
CREATED:20170616T025355Z
LAST-MODIFIED:20170623T192351Z
UID:1088-1498402800-1498410000@northshorebaseball.ca
SUMMARY:Annual Coaches Game
DESCRIPTION:More details…
URL:https://northshorebaseball.ca/event/annual-coaches-game/
LOCATION:Eldon Park\, 4010 Ruby Avenue\, North Vancouver\, British Columbia\, V7R 4B2\, Canada
CATEGORIES:Important Dates
END:VEVENT
BEGIN:VEVENT
DTSTART;TZID=America/Vancouver:20170624T103000
DTEND;TZID=America/Vancouver:20170624T151500
DTSTAMP:20260421T083527
CREATED:20170509T015905Z
LAST-MODIFIED:20230529T013559Z
UID:964-1498300200-1498317300@northshorebaseball.ca
SUMMARY:5U & 7U Year End Jamboree
DESCRIPTION:More details…
URL:https://northshorebaseball.ca/event/5u-7u-year-end-jamboree-2017/
LOCATION:Cleveland Park\, 5200 Nancy Geene Way\, North Vancouver\, British Columbia\, V7R 4H6\, Canada
CATEGORIES:Important Dates
END:VEVENT
BEGIN:VEVENT
DTSTART;TZID=America/Vancouver:20170620T212400
DTEND;TZID=America/Vancouver:20170620T212400
DTSTAMP:20260421T083527
CREATED:20161115T085407Z
LAST-MODIFIED:20210827T024934Z
UID:160-1497993840-1497993840@northshorebaseball.ca
SUMMARY:June Solstice
DESCRIPTION:First Day of Summer. \nJune solstice is an astronomical phenomenon marking the longest day and the shortest night of the year.
URL:https://northshorebaseball.ca/event/june-solstice-2017/
LOCATION:British Columbia
CATEGORIES:Holidays
END:VEVENT
BEGIN:VEVENT
DTSTART;TZID=America/Vancouver:20170618T120000
DTEND;TZID=America/Vancouver:20170618T140000
DTSTAMP:20260421T083527
CREATED:20170618T074114Z
LAST-MODIFIED:20170618T074349Z
UID:1095-1497787200-1497794400@northshorebaseball.ca
SUMMARY:15U (Bantam) A Championship Game
DESCRIPTION:More details…
URL:https://northshorebaseball.ca/event/15u-bantam-a-championship-game/
LOCATION:Eldon Park\, 4010 Ruby Avenue\, North Vancouver\, British Columbia\, V7R 4B2\, Canada
CATEGORIES:Important Dates
END:VEVENT
BEGIN:VEVENT
DTSTART;VALUE=DATE:20170618
DTEND;VALUE=DATE:20170619
DTSTAMP:20260421T083527
CREATED:20161115T085404Z
LAST-MODIFIED:20220101T201852Z
UID:124-1497744000-1497830399@northshorebaseball.ca
SUMMARY:Father's Day
DESCRIPTION:
URL:https://northshorebaseball.ca/event/fathers-day-2017/
LOCATION:British Columbia
CATEGORIES:Holidays
END:VEVENT
BEGIN:VEVENT
DTSTART;TZID=America/Vancouver:20170617T120000
DTEND;TZID=America/Vancouver:20170617T123000
DTSTAMP:20260421T083527
CREATED:20170616T025112Z
LAST-MODIFIED:20170616T025112Z
UID:1086-1497700800-1497702600@northshorebaseball.ca
SUMMARY:Robbie Biddlecombe Memorial Awards Ceremony
DESCRIPTION:More details…
URL:https://northshorebaseball.ca/event/robbie-biddlecombe-memorial-awards-ceremony/
LOCATION:Eldon Park\, 4010 Ruby Avenue\, North Vancouver\, British Columbia\, V7R 4B2\, Canada
CATEGORIES:Important Dates
END:VEVENT
BEGIN:VEVENT
DTSTART;TZID=America/Vancouver:20170612T184500
DTEND;TZID=America/Vancouver:20170612T200000
DTSTAMP:20260421T083527
CREATED:20170609T013931Z
LAST-MODIFIED:20170609T013931Z
UID:1081-1497293100-1497297600@northshorebaseball.ca
SUMMARY:9U (Tadpole) Selects Evaluations
DESCRIPTION:Please arrive 15 minutes early to sign and warm up. Baseball attire required.
URL:https://northshorebaseball.ca/event/9u-tadpole-selects-evaluations/
LOCATION:Sowden Park West\, 2300 Lloyd Avenue\, North Vancouver\, British Columbia\, Canada
CATEGORIES:Evaluations
END:VEVENT
BEGIN:VEVENT
DTSTART;TZID=America/Vancouver:20170612T180000
DTEND;TZID=America/Vancouver:20170612T184500
DTSTAMP:20260421T083527
CREATED:20170604T034751Z
LAST-MODIFIED:20170609T013708Z
UID:1074-1497290400-1497293100@northshorebaseball.ca
SUMMARY:8U (Tadpole) Selects Evaluations
DESCRIPTION:Please arrive 15 minutes early to sign and warm up. Baseball attire required.
URL:https://northshorebaseball.ca/event/8u-tadpole-selects-evaluations/
LOCATION:Sowden Park West\, 2300 Lloyd Avenue\, North Vancouver\, British Columbia\, Canada
CATEGORIES:Evaluations
END:VEVENT
BEGIN:VEVENT
DTSTART;TZID=America/Vancouver:20170605T183000
DTEND;TZID=America/Vancouver:20170605T201500
DTSTAMP:20260421T083527
CREATED:20170604T034310Z
LAST-MODIFIED:20170604T034310Z
UID:1072-1496687400-1496693700@northshorebaseball.ca
SUMMARY:13U (PeeWee) AA / A Evaluations
DESCRIPTION:Please arrive 15 minutes early to sign and warm up. Baseball attire required.
URL:https://northshorebaseball.ca/event/13u-peewee-aa-a-evaluations/
LOCATION:Chris Zuehlke Memorial Park\, 1905 Jones Avenue\, North Vancouver\, British Columbia\, Canada
CATEGORIES:Evaluations
END:VEVENT
BEGIN:VEVENT
DTSTART;TZID=America/Vancouver:20170605T170000
DTEND;TZID=America/Vancouver:20170605T183000
DTSTAMP:20260421T083527
CREATED:20170604T033852Z
LAST-MODIFIED:20170604T034219Z
UID:1070-1496682000-1496687400@northshorebaseball.ca
SUMMARY:13U (PeeWee) AAA Evaluations
DESCRIPTION:Please arrive 15 minutes early to sign and warm up. Baseball attire required.
URL:https://northshorebaseball.ca/event/13u-peewee-aaa-evaluations/
LOCATION:Chris Zuehlke Memorial Park\, 1905 Jones Avenue\, North Vancouver\, British Columbia\, Canada
CATEGORIES:Evaluations
END:VEVENT
BEGIN:VEVENT
DTSTART;VALUE=DATE:20170604
DTEND;VALUE=DATE:20170605
DTSTAMP:20260421T083527
CREATED:20170508T022105Z
LAST-MODIFIED:20220523T175642Z
UID:949-1496534400-1496620799@northshorebaseball.ca
SUMMARY:Summer Registration Deadline
DESCRIPTION:North Shore Baseball Association Registration for the 2017 Summer Season deadline.
URL:https://northshorebaseball.ca/event/summer-registration-deadline-2017/
LOCATION:British Columbia
CATEGORIES:Important Dates
END:VEVENT
BEGIN:VEVENT
DTSTART;VALUE=DATE:20170603
DTEND;VALUE=DATE:20170604
DTSTAMP:20260421T083527
CREATED:20161115T085405Z
LAST-MODIFIED:20220101T203726Z
UID:133-1496448000-1496534399@northshorebaseball.ca
SUMMARY:National Health and Fitness Day
DESCRIPTION:National Health and Fitness Day is an initiative to get Canadians moving by marking one day\, the first Saturday in June\, as the day when Canadians get out and get active in any way they think appropriate.\nNational Health and Fitness Day was an idea that was germinated during the Vancouver 2010 Olympics as a project to mobilize the spirit of the games and create a legacy of improved health for all Canadians. In December 2014\, the National Health and Fitness Day Act\, Bill S-211\, became law in Canada\, ensuring official recognition of the day.
URL:https://northshorebaseball.ca/event/national-health-and-fitness-day-2017/
LOCATION:British Columbia
END:VEVENT
BEGIN:VEVENT
DTSTART;VALUE=DATE:20170602
DTEND;VALUE=DATE:20170603
DTSTAMP:20260421T083527
CREATED:20161115T085406Z
LAST-MODIFIED:20161115T085406Z
UID:147-1496361600-1496447999@northshorebaseball.ca
SUMMARY:Schools Closed
DESCRIPTION:Schools Closed – School Based Non-Instructional Day
URL:https://northshorebaseball.ca/event/schools-closed-7/
LOCATION:British Columbia
CATEGORIES:Schools Closed
END:VEVENT
BEGIN:VEVENT
DTSTART;VALUE=DATE:20170531
DTEND;VALUE=DATE:20170601
DTSTAMP:20260421T083527
CREATED:20170529T052124Z
LAST-MODIFIED:20210526T044924Z
UID:1057-1496188800-1496275199@northshorebaseball.ca
SUMMARY:Scholarship Application Deadline
DESCRIPTION:More details…
URL:https://northshorebaseball.ca/event/scholarship-application-deadline-2017/
LOCATION:British Columbia
CATEGORIES:Important Dates
END:VEVENT
BEGIN:VEVENT
DTSTART;TZID=America/Vancouver:20170524T200000
DTEND;TZID=America/Vancouver:20170524T210000
DTSTAMP:20260421T083527
CREATED:20170125T050232Z
LAST-MODIFIED:20170125T050232Z
UID:714-1495656000-1495659600@northshorebaseball.ca
SUMMARY:Board Meeting
DESCRIPTION:Board Meeting \nMeet in the Oak Room
URL:https://northshorebaseball.ca/event/board-meeting-8/
LOCATION:Old Delbrook Community Recreation Centre\, 600 West Queens Road\, North Vancouver\, British Columbia\, V7N 2L3\, Canada
CATEGORIES:Board Meetings
END:VEVENT
BEGIN:VEVENT
DTSTART;VALUE=DATE:20170522
DTEND;VALUE=DATE:20170523
DTSTAMP:20260421T083527
CREATED:20161115T085407Z
LAST-MODIFIED:20220101T212202Z
UID:156-1495411200-1495497599@northshorebaseball.ca
SUMMARY:Victoria Day
DESCRIPTION:
URL:https://northshorebaseball.ca/event/victoria-day-2017/
LOCATION:British Columbia
CATEGORIES:Holidays
END:VEVENT
BEGIN:VEVENT
DTSTART;VALUE=DATE:20170514
DTEND;VALUE=DATE:20170515
DTSTAMP:20260421T083527
CREATED:20161115T085404Z
LAST-MODIFIED:20220101T203156Z
UID:132-1494720000-1494806399@northshorebaseball.ca
SUMMARY:Mother's Day
DESCRIPTION:
URL:https://northshorebaseball.ca/event/mothers-day-2017/
LOCATION:British Columbia
CATEGORIES:Holidays
END:VEVENT
BEGIN:VEVENT
DTSTART;VALUE=DATE:20170508
DTEND;VALUE=DATE:20170509
DTSTAMP:20260421T083527
CREATED:20161115T085405Z
LAST-MODIFIED:20161115T085405Z
UID:144-1494201600-1494287999@northshorebaseball.ca
SUMMARY:Schools Closed
DESCRIPTION:Schools Closed – District-wide Professional Development Day
URL:https://northshorebaseball.ca/event/schools-closed-4/
LOCATION:British Columbia
CATEGORIES:Schools Closed
END:VEVENT
BEGIN:VEVENT
DTSTART;VALUE=DATE:20170507
DTEND;VALUE=DATE:20170508
DTSTAMP:20260421T083527
CREATED:20170508T022005Z
LAST-MODIFIED:20220523T175723Z
UID:947-1494115200-1494201599@northshorebaseball.ca
SUMMARY:Summer Registration Opens
DESCRIPTION:North Shore Baseball Association Registration for the 2017 Summer Season is now open.\nRegister your child from May 7\, 2017 – June 4\, 2017.
URL:https://northshorebaseball.ca/event/summer-registration-opens-2017/
LOCATION:British Columbia
CATEGORIES:Important Dates
END:VEVENT
END:VCALENDAR