BEGIN:VCALENDAR
VERSION:2.0
PRODID:-//North Shore Baseball Association - ECPv6.15.13.1//NONSGML v1.0//EN
CALSCALE:GREGORIAN
METHOD:PUBLISH
X-WR-CALNAME:North Shore Baseball Association
X-ORIGINAL-URL:https://northshorebaseball.ca
X-WR-CALDESC:Events for North Shore Baseball Association
REFRESH-INTERVAL;VALUE=DURATION:PT1H
X-Robots-Tag:noindex
X-PUBLISHED-TTL:PT1H
BEGIN:VTIMEZONE
TZID:America/Vancouver
BEGIN:DAYLIGHT
TZOFFSETFROM:-0800
TZOFFSETTO:-0700
TZNAME:PDT
DTSTART:20160313T100000
END:DAYLIGHT
BEGIN:STANDARD
TZOFFSETFROM:-0700
TZOFFSETTO:-0800
TZNAME:PST
DTSTART:20161106T090000
END:STANDARD
BEGIN:DAYLIGHT
TZOFFSETFROM:-0800
TZOFFSETTO:-0700
TZNAME:PDT
DTSTART:20170312T100000
END:DAYLIGHT
BEGIN:STANDARD
TZOFFSETFROM:-0700
TZOFFSETTO:-0800
TZNAME:PST
DTSTART:20171105T090000
END:STANDARD
BEGIN:DAYLIGHT
TZOFFSETFROM:-0800
TZOFFSETTO:-0700
TZNAME:PDT
DTSTART:20180311T100000
END:DAYLIGHT
BEGIN:STANDARD
TZOFFSETFROM:-0700
TZOFFSETTO:-0800
TZNAME:PST
DTSTART:20181104T090000
END:STANDARD
END:VTIMEZONE
BEGIN:VEVENT
DTSTART;TZID=America/Vancouver:20171124T183000
DTEND;TZID=America/Vancouver:20171124T200000
DTSTAMP:20260422T130432
CREATED:20170908T044743Z
LAST-MODIFIED:20170925T025839Z
UID:1265-1511548200-1511553600@northshorebaseball.ca
SUMMARY:9U (Tadpole) Fall Ball Session
DESCRIPTION:More details…
URL:https://northshorebaseball.ca/event/9u-tadpole-fall-ball-session-8/
LOCATION:Ridgeway Elementary School\, 420 East 8th Street\, North Vancouver\, British Columbia\, V7L 1Z5\, Canada
CATEGORIES:Training
END:VEVENT
BEGIN:VEVENT
DTSTART;TZID=America/Vancouver:20171117T200000
DTEND;TZID=America/Vancouver:20171117T213000
DTSTAMP:20260422T130432
CREATED:20170908T045455Z
LAST-MODIFIED:20171016T023155Z
UID:1302-1510948800-1510954200@northshorebaseball.ca
SUMMARY:11U (Mosquito) Fall Ball Session
DESCRIPTION:More details…
URL:https://northshorebaseball.ca/event/11u-mosquito-fall-ball-session-17/
LOCATION:Queen Mary Elementary School\, 230 West Keith Road\, North Vancouver\, British Columbia\, V7M 1L8\, Canada
CATEGORIES:Training
END:VEVENT
BEGIN:VEVENT
DTSTART;TZID=America/Vancouver:20171117T183000
DTEND;TZID=America/Vancouver:20171117T200000
DTSTAMP:20260422T130432
CREATED:20170908T044743Z
LAST-MODIFIED:20171016T022827Z
UID:1264-1510943400-1510948800@northshorebaseball.ca
SUMMARY:9U (Tadpole) Fall Ball Session
DESCRIPTION:More details…
URL:https://northshorebaseball.ca/event/9u-tadpole-fall-ball-session-7/
LOCATION:Queen Mary Elementary School\, 230 West Keith Road\, North Vancouver\, British Columbia\, V7M 1L8\, Canada
CATEGORIES:Training
END:VEVENT
BEGIN:VEVENT
DTSTART;VALUE=DATE:20171113
DTEND;VALUE=DATE:20171114
DTSTAMP:20260422T130432
CREATED:20171022T181456Z
LAST-MODIFIED:20171022T181456Z
UID:1409-1510531200-1510617599@northshorebaseball.ca
SUMMARY:Schools Closed
DESCRIPTION:Schools Closed – (in lieu) Remembrance Day Statutory Holiday
URL:https://northshorebaseball.ca/event/schools-closed-17/
CATEGORIES:Schools Closed
END:VEVENT
BEGIN:VEVENT
DTSTART;VALUE=DATE:20171111
DTEND;VALUE=DATE:20171112
DTSTAMP:20260422T130432
CREATED:20161115T085405Z
LAST-MODIFIED:20220101T204758Z
UID:138-1510358400-1510444799@northshorebaseball.ca
SUMMARY:Remembrance Day
DESCRIPTION:
URL:https://northshorebaseball.ca/event/remembrance-day-2017/
CATEGORIES:Holidays
END:VEVENT
BEGIN:VEVENT
DTSTART;TZID=America/Vancouver:20171110T200000
DTEND;TZID=America/Vancouver:20171110T213000
DTSTAMP:20260422T130432
CREATED:20170908T045454Z
LAST-MODIFIED:20171018T040634Z
UID:1299-1510344000-1510349400@northshorebaseball.ca
SUMMARY:11U (Mosquito) Fall Ball Session
DESCRIPTION:More details…
URL:https://northshorebaseball.ca/event/11u-mosquito-fall-ball-session-15/
LOCATION:Queen Mary Elementary School\, 230 West Keith Road\, North Vancouver\, British Columbia\, V7M 1L8\, Canada
CATEGORIES:Training
END:VEVENT
BEGIN:VEVENT
DTSTART;TZID=America/Vancouver:20171110T183000
DTEND;TZID=America/Vancouver:20171110T200000
DTSTAMP:20260422T130432
CREATED:20170908T044742Z
LAST-MODIFIED:20171018T040525Z
UID:1261-1510338600-1510344000@northshorebaseball.ca
SUMMARY:9U (Tadpole) Fall Ball Session
DESCRIPTION:More details…
URL:https://northshorebaseball.ca/event/9u-tadpole-fall-ball-session-5/
LOCATION:Queen Mary Elementary School\, 230 West Keith Road\, North Vancouver\, British Columbia\, V7M 1L8\, Canada
CATEGORIES:Training
END:VEVENT
BEGIN:VEVENT
DTSTART;VALUE=DATE:20171106
DTEND;VALUE=DATE:20171107
DTSTAMP:20260422T130432
CREATED:20171022T181203Z
LAST-MODIFIED:20171022T181203Z
UID:1407-1509926400-1510012799@northshorebaseball.ca
SUMMARY:Schools Closed
DESCRIPTION:Schools Closed – District Curriculum Implementation Day
URL:https://northshorebaseball.ca/event/schools-closed-16/
CATEGORIES:Schools Closed
END:VEVENT
BEGIN:VEVENT
DTSTART;TZID=America/Vancouver:20171105T020000
DTEND;TZID=America/Vancouver:20171105T020000
DTSTAMP:20260422T130432
CREATED:20161115T085403Z
LAST-MODIFIED:20220101T200120Z
UID:119-1509847200-1509847200@northshorebaseball.ca
SUMMARY:Daylight Saving Time Ends
DESCRIPTION:Daylight Saving Time Ends – set clock 1 hour back.
URL:https://northshorebaseball.ca/event/daylight-saving-time-ends-2017/
END:VEVENT
BEGIN:VEVENT
DTSTART;VALUE=DATE:20171105
DTEND;VALUE=DATE:20171106
DTSTAMP:20260422T130432
CREATED:20171105T040822Z
LAST-MODIFIED:20211116T052258Z
UID:1588-1509840000-1509926399@northshorebaseball.ca
SUMMARY:Registration Opens
DESCRIPTION:North Shore Baseball Association Registration for the 2018 Spring Season is now open. \nRegister your child from November 1\, 2017 – January 31\, 2018. \nA $25 early bird discount if registered before December 16\, 2017.\nA $25 late fee if registered after January 15\, 2018.
URL:https://northshorebaseball.ca/event/registration-opens-2018/
CATEGORIES:Important Dates
END:VEVENT
BEGIN:VEVENT
DTSTART;TZID=America/Vancouver:20171103T200000
DTEND;TZID=America/Vancouver:20171103T213000
DTSTAMP:20260422T130432
CREATED:20170908T045455Z
LAST-MODIFIED:20171016T023144Z
UID:1300-1509739200-1509744600@northshorebaseball.ca
SUMMARY:11U (Mosquito) Fall Ball Session
DESCRIPTION:More details…
URL:https://northshorebaseball.ca/event/11u-mosquito-fall-ball-session-16/
LOCATION:Queen Mary Elementary School\, 230 West Keith Road\, North Vancouver\, British Columbia\, V7M 1L8\, Canada
CATEGORIES:Training
END:VEVENT
BEGIN:VEVENT
DTSTART;TZID=America/Vancouver:20171103T183000
DTEND;TZID=America/Vancouver:20171103T200000
DTSTAMP:20260422T130432
CREATED:20170908T044742Z
LAST-MODIFIED:20171016T022817Z
UID:1262-1509733800-1509739200@northshorebaseball.ca
SUMMARY:9U (Tadpole) Fall Ball Session
DESCRIPTION:More details…
URL:https://northshorebaseball.ca/event/9u-tadpole-fall-ball-session-6/
LOCATION:Queen Mary Elementary School\, 230 West Keith Road\, North Vancouver\, British Columbia\, V7M 1L8\, Canada
CATEGORIES:Training
END:VEVENT
BEGIN:VEVENT
DTSTART;TZID=America/Vancouver:20171102T190000
DTEND;TZID=America/Vancouver:20171102T210000
DTSTAMP:20260422T130432
CREATED:20170925T032314Z
LAST-MODIFIED:20171023T024955Z
UID:1335-1509649200-1509656400@northshorebaseball.ca
SUMMARY:AGM
DESCRIPTION:2017 Annual General Meeting \nMeet in the Maple Room on the 2nd Floor \nMore details…
URL:https://northshorebaseball.ca/event/agm-2017/
LOCATION:Delbrook Community Recreation Centre\, 851 West Queens Road\, North Vancouver\, British Columbia\, V7N 4E3\, Canada
CATEGORIES:Important Dates,Meeting
END:VEVENT
BEGIN:VEVENT
DTSTART;VALUE=DATE:20171031
DTEND;VALUE=DATE:20171101
DTSTAMP:20260422T130432
CREATED:20161115T085404Z
LAST-MODIFIED:20220101T202612Z
UID:128-1509408000-1509494399@northshorebaseball.ca
SUMMARY:Halloween
DESCRIPTION:Happy Halloween
URL:https://northshorebaseball.ca/event/halloween-2017/
CATEGORIES:Holidays
END:VEVENT
BEGIN:VEVENT
DTSTART;TZID=America/Vancouver:20171027T200000
DTEND;TZID=America/Vancouver:20171027T213000
DTSTAMP:20260422T130432
CREATED:20170908T045455Z
LAST-MODIFIED:20171024T204820Z
UID:1301-1509134400-1509139800@northshorebaseball.ca
SUMMARY:11U (Mosquito) Fall Ball Session
DESCRIPTION:More details…
URL:https://northshorebaseball.ca/event/11u-mosquito-fall-ball-session-21/
LOCATION:Ridgeway Elementary School\, 420 East 8th Street\, North Vancouver\, British Columbia\, V7L 1Z5\, Canada
CATEGORIES:Training
END:VEVENT
BEGIN:VEVENT
DTSTART;TZID=America/Vancouver:20171027T183000
DTEND;TZID=America/Vancouver:20171027T200000
DTSTAMP:20260422T130432
CREATED:20170908T044743Z
LAST-MODIFIED:20171024T205016Z
UID:1263-1509129000-1509134400@northshorebaseball.ca
SUMMARY:9U (Tadpole) Fall Ball Session
DESCRIPTION:More details…
URL:https://northshorebaseball.ca/event/9u-tadpole-fall-ball-session-11/
LOCATION:Ridgeway Elementary School\, 420 East 8th Street\, North Vancouver\, British Columbia\, V7L 1Z5\, Canada
CATEGORIES:Training
END:VEVENT
BEGIN:VEVENT
DTSTART;TZID=America/Vancouver:20171020T200000
DTEND;TZID=America/Vancouver:20171020T213000
DTSTAMP:20260422T130432
CREATED:20170908T045451Z
LAST-MODIFIED:20171021T030952Z
UID:1298-1508529600-1508535000@northshorebaseball.ca
SUMMARY:Cancelled - 11U (Mosquito) Fall Ball Session
DESCRIPTION:School closed the gym without letting us know. \nMore details…
URL:https://northshorebaseball.ca/event/11u-mosquito-fall-ball-session-14/
LOCATION:Queen Mary Elementary School\, 230 West Keith Road\, North Vancouver\, British Columbia\, V7M 1L8\, Canada
CATEGORIES:Training
END:VEVENT
BEGIN:VEVENT
DTSTART;TZID=America/Vancouver:20171020T183000
DTEND;TZID=America/Vancouver:20171020T200000
DTSTAMP:20260422T130432
CREATED:20170908T044739Z
LAST-MODIFIED:20171021T030926Z
UID:1260-1508524200-1508529600@northshorebaseball.ca
SUMMARY:Cancelled - 9U (Tadpole) Fall Ball Session
DESCRIPTION:School closed the gym without letting us know. \nMore details…
URL:https://northshorebaseball.ca/event/9u-tadpole-fall-ball-session-4/
LOCATION:Queen Mary Elementary School\, 230 West Keith Road\, North Vancouver\, British Columbia\, V7M 1L8\, Canada
CATEGORIES:Training
END:VEVENT
BEGIN:VEVENT
DTSTART;VALUE=DATE:20171020
DTEND;VALUE=DATE:20171021
DTSTAMP:20260422T130432
CREATED:20171022T180818Z
LAST-MODIFIED:20171022T180818Z
UID:1405-1508457600-1508543999@northshorebaseball.ca
SUMMARY:Schools Closed
DESCRIPTION:Schools Closed – District-wide Professional Development Day
URL:https://northshorebaseball.ca/event/schools-closed-15/
CATEGORIES:Schools Closed
END:VEVENT
BEGIN:VEVENT
DTSTART;TZID=America/Vancouver:20171013T200000
DTEND;TZID=America/Vancouver:20171013T213000
DTSTAMP:20260422T130432
CREATED:20170908T045451Z
LAST-MODIFIED:20171016T023109Z
UID:1297-1507924800-1507930200@northshorebaseball.ca
SUMMARY:11U (Mosquito) Fall Ball Session
DESCRIPTION:More details…
URL:https://northshorebaseball.ca/event/11u-mosquito-fall-ball-session-13/
LOCATION:Queen Mary Elementary School\, 230 West Keith Road\, North Vancouver\, British Columbia\, V7M 1L8\, Canada
CATEGORIES:Training
END:VEVENT
BEGIN:VEVENT
DTSTART;TZID=America/Vancouver:20171013T183000
DTEND;TZID=America/Vancouver:20171013T200000
DTSTAMP:20260422T130432
CREATED:20170908T044739Z
LAST-MODIFIED:20171016T022746Z
UID:1259-1507919400-1507924800@northshorebaseball.ca
SUMMARY:9U (Tadpole) Fall Ball Session
DESCRIPTION:More details…
URL:https://northshorebaseball.ca/event/9u-tadpole-fall-ball-session-3/
LOCATION:Queen Mary Elementary School\, 230 West Keith Road\, North Vancouver\, British Columbia\, V7M 1L8\, Canada
CATEGORIES:Training
END:VEVENT
BEGIN:VEVENT
DTSTART;VALUE=DATE:20171009
DTEND;VALUE=DATE:20171010
DTSTAMP:20260422T130432
CREATED:20161115T085406Z
LAST-MODIFIED:20220101T211019Z
UID:154-1507507200-1507593599@northshorebaseball.ca
SUMMARY:Thanksgiving Day
DESCRIPTION:
URL:https://northshorebaseball.ca/event/thanksgiving-day-2017/
CATEGORIES:Holidays
END:VEVENT
BEGIN:VEVENT
DTSTART;VALUE=DATE:20171006
DTEND;VALUE=DATE:20171007
DTSTAMP:20260422T130432
CREATED:20170908T045451Z
LAST-MODIFIED:20170908T045451Z
UID:1296-1507248000-1507334399@northshorebaseball.ca
SUMMARY:No 11U (Mosquito)  Fall Ball Session
DESCRIPTION:
URL:https://northshorebaseball.ca/event/no-11u-mosquito-fall-ball-session-3/
CATEGORIES:Training
END:VEVENT
BEGIN:VEVENT
DTSTART;VALUE=DATE:20171006
DTEND;VALUE=DATE:20171007
DTSTAMP:20260422T130432
CREATED:20170908T044738Z
LAST-MODIFIED:20170908T044738Z
UID:1258-1507248000-1507334399@northshorebaseball.ca
SUMMARY:No 9U (Tadpole) Fall Ball Session
DESCRIPTION:
URL:https://northshorebaseball.ca/event/no-9u-tadpole-fall-ball-session/
CATEGORIES:Training
END:VEVENT
BEGIN:VEVENT
DTSTART;TZID=America/Vancouver:20170929T200000
DTEND;TZID=America/Vancouver:20170929T213000
DTSTAMP:20260422T130432
CREATED:20170908T045451Z
LAST-MODIFIED:20171016T023057Z
UID:1295-1506715200-1506720600@northshorebaseball.ca
SUMMARY:11U (Mosquito) Fall Ball Session
DESCRIPTION:More details…
URL:https://northshorebaseball.ca/event/11u-mosquito-fall-ball-session-12/
LOCATION:Queen Mary Elementary School\, 230 West Keith Road\, North Vancouver\, British Columbia\, V7M 1L8\, Canada
CATEGORIES:Training
END:VEVENT
BEGIN:VEVENT
DTSTART;TZID=America/Vancouver:20170929T183000
DTEND;TZID=America/Vancouver:20170929T200000
DTSTAMP:20260422T130432
CREATED:20170908T044738Z
LAST-MODIFIED:20171016T022736Z
UID:1257-1506709800-1506715200@northshorebaseball.ca
SUMMARY:9U (Tadpole) Fall Ball Session
DESCRIPTION:More details…
URL:https://northshorebaseball.ca/event/9u-tadpole-fall-ball-session-2/
LOCATION:Queen Mary Elementary School\, 230 West Keith Road\, North Vancouver\, British Columbia\, V7M 1L8\, Canada
CATEGORIES:Training
END:VEVENT
BEGIN:VEVENT
DTSTART;TZID=America/Vancouver:20170927T190000
DTEND;TZID=America/Vancouver:20170927T210000
DTSTAMP:20260422T130432
CREATED:20170925T031741Z
LAST-MODIFIED:20170925T032032Z
UID:1333-1506538800-1506546000@northshorebaseball.ca
SUMMARY:Board Meeting
DESCRIPTION:Board Meeting \nMeet in the Oak Room
URL:https://northshorebaseball.ca/event/board-meeting-10/
LOCATION:Delbrook Community Recreation Centre\, 851 West Queens Road\, North Vancouver\, British Columbia\, V7N 4E3\, Canada
CATEGORIES:Board Meetings
END:VEVENT
BEGIN:VEVENT
DTSTART;TZID=America/Vancouver:20170922T200000
DTEND;TZID=America/Vancouver:20170922T213000
DTSTAMP:20260422T130432
CREATED:20170908T045451Z
LAST-MODIFIED:20170925T030256Z
UID:1294-1506110400-1506115800@northshorebaseball.ca
SUMMARY:11U (Mosquito) Fall Ball Session
DESCRIPTION:More details…
URL:https://northshorebaseball.ca/event/11u-mosquito-fall-ball-session-11/
LOCATION:Ridgeway Elementary School\, 420 East 8th Street\, North Vancouver\, British Columbia\, V7L 1Z5\, Canada
CATEGORIES:Training
END:VEVENT
BEGIN:VEVENT
DTSTART;TZID=America/Vancouver:20170922T183000
DTEND;TZID=America/Vancouver:20170922T200000
DTSTAMP:20260422T130432
CREATED:20170908T044738Z
LAST-MODIFIED:20170925T030011Z
UID:1256-1506105000-1506110400@northshorebaseball.ca
SUMMARY:9U (Tadpole) Fall Ball Session
DESCRIPTION:More details…
URL:https://northshorebaseball.ca/event/9u-tadpole-fall-ball-session/
LOCATION:Ridgeway Elementary School\, 420 East 8th Street\, North Vancouver\, British Columbia\, V7L 1Z5\, Canada
CATEGORIES:Training
END:VEVENT
BEGIN:VEVENT
DTSTART;TZID=America/Vancouver:20170922T130200
DTEND;TZID=America/Vancouver:20170922T130200
DTSTAMP:20260422T130432
CREATED:20161115T085407Z
LAST-MODIFIED:20210827T025152Z
UID:162-1506085320-1506085320@northshorebaseball.ca
SUMMARY:September Equinox
DESCRIPTION:First Day of Fall. \nSeptember equinox marks the moment the Sun crosses the celestial equator – the imaginary line in the sky above the Earth’s equator – from north to south. On the equinox\, night and day are nearly exactly the same length – 12 hours – all over the world.
URL:https://northshorebaseball.ca/event/september-equinox-2017/
CATEGORIES:Holidays
END:VEVENT
END:VCALENDAR