BEGIN:VCALENDAR
VERSION:2.0
PRODID:-//North Shore Baseball Association - ECPv6.15.13.1//NONSGML v1.0//EN
CALSCALE:GREGORIAN
METHOD:PUBLISH
X-WR-CALNAME:North Shore Baseball Association
X-ORIGINAL-URL:https://northshorebaseball.ca
X-WR-CALDESC:Events for North Shore Baseball Association
REFRESH-INTERVAL;VALUE=DURATION:PT1H
X-Robots-Tag:noindex
X-PUBLISHED-TTL:PT1H
BEGIN:VTIMEZONE
TZID:America/Vancouver
BEGIN:DAYLIGHT
TZOFFSETFROM:-0800
TZOFFSETTO:-0700
TZNAME:PDT
DTSTART:20170312T100000
END:DAYLIGHT
BEGIN:STANDARD
TZOFFSETFROM:-0700
TZOFFSETTO:-0800
TZNAME:PST
DTSTART:20171105T090000
END:STANDARD
BEGIN:DAYLIGHT
TZOFFSETFROM:-0800
TZOFFSETTO:-0700
TZNAME:PDT
DTSTART:20180311T100000
END:DAYLIGHT
BEGIN:STANDARD
TZOFFSETFROM:-0700
TZOFFSETTO:-0800
TZNAME:PST
DTSTART:20181104T090000
END:STANDARD
BEGIN:DAYLIGHT
TZOFFSETFROM:-0800
TZOFFSETTO:-0700
TZNAME:PDT
DTSTART:20190310T100000
END:DAYLIGHT
BEGIN:STANDARD
TZOFFSETFROM:-0700
TZOFFSETTO:-0800
TZNAME:PST
DTSTART:20191103T090000
END:STANDARD
END:VTIMEZONE
BEGIN:VEVENT
DTSTART;TZID=America/Vancouver:20180212T193000
DTEND;TZID=America/Vancouver:20180212T210000
DTSTAMP:20260420T165154
CREATED:20180111T093521Z
LAST-MODIFIED:20180111T093521Z
UID:1991-1518463800-1518469200@northshorebaseball.ca
SUMMARY:18U (Midget) IP Winter Training
DESCRIPTION:More details…
URL:https://northshorebaseball.ca/event/18u-midget-ip-winter-training-5/
LOCATION:Inside Performance\, #2 - 1500 Railway Street\, North Vancouver\, British Columbia\, V7J 1B5\, Canada
CATEGORIES:Training
END:VEVENT
BEGIN:VEVENT
DTSTART;TZID=America/Vancouver:20180212T180000
DTEND;TZID=America/Vancouver:20180212T193000
DTSTAMP:20260420T165154
CREATED:20180117T102405Z
LAST-MODIFIED:20180117T102405Z
UID:2014-1518458400-1518463800@northshorebaseball.ca
SUMMARY:15U (Bantam) IP Winter Training
DESCRIPTION:More details…
URL:https://northshorebaseball.ca/event/15u-bantam-ip-winter-training-5/
LOCATION:Inside Performance\, #2 - 1500 Railway Street\, North Vancouver\, British Columbia\, V7J 1B5\, Canada
CATEGORIES:Training
END:VEVENT
BEGIN:VEVENT
DTSTART;VALUE=DATE:20180212
DTEND;VALUE=DATE:20180213
DTSTAMP:20260420T165154
CREATED:20171023T022433Z
LAST-MODIFIED:20220101T201611Z
UID:1468-1518393600-1518479999@northshorebaseball.ca
SUMMARY:Family Day
DESCRIPTION:
URL:https://northshorebaseball.ca/event/family-day-2018/
LOCATION:British Columbia
CATEGORIES:Holidays
END:VEVENT
BEGIN:VEVENT
DTSTART;TZID=America/Vancouver:20180210T150000
DTEND;TZID=America/Vancouver:20180210T160000
DTSTAMP:20260420T165154
CREATED:20171204T093244Z
LAST-MODIFIED:20180109T055549Z
UID:1765-1518274800-1518278400@northshorebaseball.ca
SUMMARY:9U (Tadpole) IP Winter Training
DESCRIPTION:More details…
URL:https://northshorebaseball.ca/event/9u-tadpole-ip-winter-training-4/
LOCATION:Inside Performance\, #2 - 1500 Railway Street\, North Vancouver\, British Columbia\, V7J 1B5\, Canada
CATEGORIES:Training
END:VEVENT
BEGIN:VEVENT
DTSTART;TZID=America/Vancouver:20180210T140000
DTEND;TZID=America/Vancouver:20180210T150000
DTSTAMP:20260420T165154
CREATED:20171204T093249Z
LAST-MODIFIED:20180109T060806Z
UID:1773-1518271200-1518274800@northshorebaseball.ca
SUMMARY:11U (Mosquito) IP Winter Training
DESCRIPTION:More details…
URL:https://northshorebaseball.ca/event/11u-mosquito-ip-winter-training-4/
LOCATION:Inside Performance\, #2 - 1500 Railway Street\, North Vancouver\, British Columbia\, V7J 1B5\, Canada
CATEGORIES:Training
END:VEVENT
BEGIN:VEVENT
DTSTART;TZID=America/Vancouver:20180209T200000
DTEND;TZID=America/Vancouver:20180209T213000
DTSTAMP:20260420T165154
CREATED:20180109T062724Z
LAST-MODIFIED:20180111T092047Z
UID:1954-1518206400-1518211800@northshorebaseball.ca
SUMMARY:13U (PeeWee) Bull Pen Winter Training
DESCRIPTION:More details…
URL:https://northshorebaseball.ca/event/13u-peewee-bull-pen-winter-training-5/
LOCATION:Queen Mary Elementary School\, 230 West Keith Road\, North Vancouver\, British Columbia\, V7M 1L8\, Canada
CATEGORIES:Training
END:VEVENT
BEGIN:VEVENT
DTSTART;TZID=America/Vancouver:20180209T183000
DTEND;TZID=America/Vancouver:20180209T200000
DTSTAMP:20260420T165154
CREATED:20180109T062716Z
LAST-MODIFIED:20180109T062716Z
UID:1936-1518201000-1518206400@northshorebaseball.ca
SUMMARY:9U (Tadpole) Bull Pen Winter Training
DESCRIPTION:More details…
URL:https://northshorebaseball.ca/event/9u-tadpole-bull-pen-winter-training-5/
LOCATION:Queen Mary Elementary School\, 230 West Keith Road\, North Vancouver\, British Columbia\, V7M 1L8\, Canada
CATEGORIES:Training
END:VEVENT
BEGIN:VEVENT
DTSTART;TZID=America/Vancouver:20180209T173000
DTEND;TZID=America/Vancouver:20180209T190000
DTSTAMP:20260420T165154
CREATED:20180117T103935Z
LAST-MODIFIED:20180117T103935Z
UID:2039-1518197400-1518202800@northshorebaseball.ca
SUMMARY:13U (PeeWee) IP Winter Training
DESCRIPTION:More details…
URL:https://northshorebaseball.ca/event/13u-peewee-ip-winter-training-11/
LOCATION:Inside Performance\, #2 - 1500 Railway Street\, North Vancouver\, British Columbia\, V7J 1B5\, Canada
CATEGORIES:Training
END:VEVENT
BEGIN:VEVENT
DTSTART;TZID=America/Vancouver:20180209T170000
DTEND;TZID=America/Vancouver:20180209T183000
DTSTAMP:20260420T165154
CREATED:20180109T062722Z
LAST-MODIFIED:20180111T092509Z
UID:1945-1518195600-1518201000@northshorebaseball.ca
SUMMARY:11U (Mosquito) Bull Pen Winter Training
DESCRIPTION:More details…
URL:https://northshorebaseball.ca/event/11u-mosquito-bull-pen-winter-training-5/
LOCATION:Queen Mary Elementary School\, 230 West Keith Road\, North Vancouver\, British Columbia\, V7M 1L8\, Canada
CATEGORIES:Training
END:VEVENT
BEGIN:VEVENT
DTSTART;TZID=America/Vancouver:20180208T173000
DTEND;TZID=America/Vancouver:20180208T190000
DTSTAMP:20260420T165154
CREATED:20180117T102409Z
LAST-MODIFIED:20180117T102409Z
UID:2021-1518111000-1518116400@northshorebaseball.ca
SUMMARY:15U (Bantam) IP Winter Training
DESCRIPTION:More details…
URL:https://northshorebaseball.ca/event/15u-bantam-ip-winter-training-11/
LOCATION:Inside Performance\, #2 - 1500 Railway Street\, North Vancouver\, British Columbia\, V7J 1B5\, Canada
CATEGORIES:Training
END:VEVENT
BEGIN:VEVENT
DTSTART;TZID=America/Vancouver:20180206T173000
DTEND;TZID=America/Vancouver:20180206T190000
DTSTAMP:20260420T165154
CREATED:20180117T103931Z
LAST-MODIFIED:20180117T103931Z
UID:2031-1517938200-1517943600@northshorebaseball.ca
SUMMARY:13U (PeeWee) IP Winter Training
DESCRIPTION:More details…
URL:https://northshorebaseball.ca/event/13u-peewee-ip-winter-training-4/
LOCATION:Inside Performance\, #2 - 1500 Railway Street\, North Vancouver\, British Columbia\, V7J 1B5\, Canada
CATEGORIES:Training
END:VEVENT
BEGIN:VEVENT
DTSTART;TZID=America/Vancouver:20180205T193000
DTEND;TZID=America/Vancouver:20180205T210000
DTSTAMP:20260420T165154
CREATED:20180111T093521Z
LAST-MODIFIED:20180111T093521Z
UID:1990-1517859000-1517864400@northshorebaseball.ca
SUMMARY:18U (Midget) IP Winter Training
DESCRIPTION:More details…
URL:https://northshorebaseball.ca/event/18u-midget-ip-winter-training-4/
LOCATION:Inside Performance\, #2 - 1500 Railway Street\, North Vancouver\, British Columbia\, V7J 1B5\, Canada
CATEGORIES:Training
END:VEVENT
BEGIN:VEVENT
DTSTART;TZID=America/Vancouver:20180205T180000
DTEND;TZID=America/Vancouver:20180205T193000
DTSTAMP:20260420T165154
CREATED:20180117T102405Z
LAST-MODIFIED:20180117T102405Z
UID:2013-1517853600-1517859000@northshorebaseball.ca
SUMMARY:15U (Bantam) IP Winter Training
DESCRIPTION:More details…
URL:https://northshorebaseball.ca/event/15u-bantam-ip-winter-training-4/
LOCATION:Inside Performance\, #2 - 1500 Railway Street\, North Vancouver\, British Columbia\, V7J 1B5\, Canada
CATEGORIES:Training
END:VEVENT
BEGIN:VEVENT
DTSTART;TZID=America/Vancouver:20180203T150000
DTEND;TZID=America/Vancouver:20180203T160000
DTSTAMP:20260420T165154
CREATED:20171204T093244Z
LAST-MODIFIED:20180109T055514Z
UID:1764-1517670000-1517673600@northshorebaseball.ca
SUMMARY:9U (Tadpole) IP Winter Training
DESCRIPTION:More details…
URL:https://northshorebaseball.ca/event/9u-tadpole-ip-winter-training-3/
LOCATION:Inside Performance\, #2 - 1500 Railway Street\, North Vancouver\, British Columbia\, V7J 1B5\, Canada
CATEGORIES:Training
END:VEVENT
BEGIN:VEVENT
DTSTART;TZID=America/Vancouver:20180203T140000
DTEND;TZID=America/Vancouver:20180203T150000
DTSTAMP:20260420T165154
CREATED:20171204T093249Z
LAST-MODIFIED:20180109T060748Z
UID:1772-1517666400-1517670000@northshorebaseball.ca
SUMMARY:11U (Mosquito) IP Winter Training
DESCRIPTION:More details…
URL:https://northshorebaseball.ca/event/11u-mosquito-ip-winter-training-3/
LOCATION:Inside Performance\, #2 - 1500 Railway Street\, North Vancouver\, British Columbia\, V7J 1B5\, Canada
CATEGORIES:Training
END:VEVENT
BEGIN:VEVENT
DTSTART;TZID=America/Vancouver:20180202T200000
DTEND;TZID=America/Vancouver:20180202T213000
DTSTAMP:20260420T165154
CREATED:20180109T062724Z
LAST-MODIFIED:20180111T092033Z
UID:1953-1517601600-1517607000@northshorebaseball.ca
SUMMARY:13U (PeeWee) Bull Pen Winter Training
DESCRIPTION:More details…
URL:https://northshorebaseball.ca/event/13u-peewee-bull-pen-winter-training-4/
LOCATION:Queen Mary Elementary School\, 230 West Keith Road\, North Vancouver\, British Columbia\, V7M 1L8\, Canada
CATEGORIES:Training
END:VEVENT
BEGIN:VEVENT
DTSTART;TZID=America/Vancouver:20180202T183000
DTEND;TZID=America/Vancouver:20180202T200000
DTSTAMP:20260420T165154
CREATED:20180109T062716Z
LAST-MODIFIED:20180109T062716Z
UID:1935-1517596200-1517601600@northshorebaseball.ca
SUMMARY:9U (Tadpole) Bull Pen Winter Training
DESCRIPTION:More details…
URL:https://northshorebaseball.ca/event/9u-tadpole-bull-pen-winter-training-4/
LOCATION:Queen Mary Elementary School\, 230 West Keith Road\, North Vancouver\, British Columbia\, V7M 1L8\, Canada
CATEGORIES:Training
END:VEVENT
BEGIN:VEVENT
DTSTART;TZID=America/Vancouver:20180202T173000
DTEND;TZID=America/Vancouver:20180202T190000
DTSTAMP:20260420T165154
CREATED:20180117T103935Z
LAST-MODIFIED:20180117T103935Z
UID:2038-1517592600-1517598000@northshorebaseball.ca
SUMMARY:13U (PeeWee) IP Winter Training
DESCRIPTION:More details…
URL:https://northshorebaseball.ca/event/13u-peewee-ip-winter-training-10/
LOCATION:Inside Performance\, #2 - 1500 Railway Street\, North Vancouver\, British Columbia\, V7J 1B5\, Canada
CATEGORIES:Training
END:VEVENT
BEGIN:VEVENT
DTSTART;TZID=America/Vancouver:20180202T170000
DTEND;TZID=America/Vancouver:20180202T183000
DTSTAMP:20260420T165154
CREATED:20180109T062722Z
LAST-MODIFIED:20180111T092447Z
UID:1944-1517590800-1517596200@northshorebaseball.ca
SUMMARY:11U (Mosquito) Bull Pen Winter Training
DESCRIPTION:More details…
URL:https://northshorebaseball.ca/event/11u-mosquito-bull-pen-winter-training-4/
LOCATION:Queen Mary Elementary School\, 230 West Keith Road\, North Vancouver\, British Columbia\, V7M 1L8\, Canada
CATEGORIES:Training
END:VEVENT
BEGIN:VEVENT
DTSTART;VALUE=DATE:20180202
DTEND;VALUE=DATE:20180203
DTSTAMP:20260420T165154
CREATED:20171023T022025Z
LAST-MODIFIED:20220101T202107Z
UID:1462-1517529600-1517615999@northshorebaseball.ca
SUMMARY:Groundhog Day
DESCRIPTION:
URL:https://northshorebaseball.ca/event/groundhog-day-2018/
LOCATION:British Columbia
CATEGORIES:Holidays
END:VEVENT
BEGIN:VEVENT
DTSTART;TZID=America/Vancouver:20180201T173000
DTEND;TZID=America/Vancouver:20180201T190000
DTSTAMP:20260420T165154
CREATED:20180117T102409Z
LAST-MODIFIED:20180117T102409Z
UID:2020-1517506200-1517511600@northshorebaseball.ca
SUMMARY:15U (Bantam) IP Winter Training
DESCRIPTION:More details…
URL:https://northshorebaseball.ca/event/15u-bantam-ip-winter-training-10/
LOCATION:Inside Performance\, #2 - 1500 Railway Street\, North Vancouver\, British Columbia\, V7J 1B5\, Canada
CATEGORIES:Training
END:VEVENT
BEGIN:VEVENT
DTSTART;VALUE=DATE:20180201
DTEND;VALUE=DATE:20180202
DTSTAMP:20260420T165154
CREATED:20171023T010454Z
LAST-MODIFIED:20211116T052111Z
UID:1422-1517443200-1517529599@northshorebaseball.ca
SUMMARY:Late Registration Fee Starts
DESCRIPTION:A late registration fee of $25 will be charged to players who register after January 15th. We have extended this date to after January 31st.
URL:https://northshorebaseball.ca/event/late-registration-fee-starts-2018/
LOCATION:British Columbia
CATEGORIES:Important Dates
END:VEVENT
BEGIN:VEVENT
DTSTART;VALUE=DATE:20180131
DTEND;VALUE=DATE:20180201
DTSTAMP:20260420T165154
CREATED:20171023T010243Z
LAST-MODIFIED:20211116T052939Z
UID:1420-1517356800-1517443199@northshorebaseball.ca
SUMMARY:Registration Deadline
DESCRIPTION:North Shore Baseball Association Registration for the 2018 Spring Season deadline.
URL:https://northshorebaseball.ca/event/registration-deadline-2018/
LOCATION:British Columbia
CATEGORIES:Important Dates
END:VEVENT
BEGIN:VEVENT
DTSTART;TZID=America/Vancouver:20180130T173000
DTEND;TZID=America/Vancouver:20180130T190000
DTSTAMP:20260420T165154
CREATED:20180117T103930Z
LAST-MODIFIED:20180117T103930Z
UID:2030-1517333400-1517338800@northshorebaseball.ca
SUMMARY:13U (PeeWee) IP Winter Training
DESCRIPTION:More details…
URL:https://northshorebaseball.ca/event/13u-peewee-ip-winter-training-3/
LOCATION:Inside Performance\, #2 - 1500 Railway Street\, North Vancouver\, British Columbia\, V7J 1B5\, Canada
CATEGORIES:Training
END:VEVENT
BEGIN:VEVENT
DTSTART;TZID=America/Vancouver:20180129T193000
DTEND;TZID=America/Vancouver:20180129T210000
DTSTAMP:20260420T165154
CREATED:20180111T093520Z
LAST-MODIFIED:20180111T093520Z
UID:1989-1517254200-1517259600@northshorebaseball.ca
SUMMARY:18U (Midget) IP Winter Training
DESCRIPTION:More details…
URL:https://northshorebaseball.ca/event/18u-midget-ip-winter-training-3/
LOCATION:Inside Performance\, #2 - 1500 Railway Street\, North Vancouver\, British Columbia\, V7J 1B5\, Canada
CATEGORIES:Training
END:VEVENT
BEGIN:VEVENT
DTSTART;TZID=America/Vancouver:20180129T180000
DTEND;TZID=America/Vancouver:20180129T193000
DTSTAMP:20260420T165154
CREATED:20180117T102405Z
LAST-MODIFIED:20180117T102405Z
UID:2012-1517248800-1517254200@northshorebaseball.ca
SUMMARY:15U (Bantam) IP Winter Training
DESCRIPTION:More details…
URL:https://northshorebaseball.ca/event/15u-bantam-ip-winter-training-3/
LOCATION:Inside Performance\, #2 - 1500 Railway Street\, North Vancouver\, British Columbia\, V7J 1B5\, Canada
CATEGORIES:Training
END:VEVENT
BEGIN:VEVENT
DTSTART;TZID=America/Vancouver:20180127T150000
DTEND;TZID=America/Vancouver:20180127T160000
DTSTAMP:20260420T165154
CREATED:20171204T093244Z
LAST-MODIFIED:20180109T055453Z
UID:1763-1517065200-1517068800@northshorebaseball.ca
SUMMARY:9U (Tadpole) IP Winter Training
DESCRIPTION:More details…
URL:https://northshorebaseball.ca/event/9u-tadpole-ip-winter-training-2/
LOCATION:Inside Performance\, #2 - 1500 Railway Street\, North Vancouver\, British Columbia\, V7J 1B5\, Canada
CATEGORIES:Training
END:VEVENT
BEGIN:VEVENT
DTSTART;TZID=America/Vancouver:20180127T140000
DTEND;TZID=America/Vancouver:20180127T150000
DTSTAMP:20260420T165154
CREATED:20171204T093248Z
LAST-MODIFIED:20180109T060728Z
UID:1771-1517061600-1517065200@northshorebaseball.ca
SUMMARY:11U (Mosquito) IP Winter Training
DESCRIPTION:More details…
URL:https://northshorebaseball.ca/event/11u-mosquito-ip-winter-training-2/
LOCATION:Inside Performance\, #2 - 1500 Railway Street\, North Vancouver\, British Columbia\, V7J 1B5\, Canada
CATEGORIES:Training
END:VEVENT
BEGIN:VEVENT
DTSTART;TZID=America/Vancouver:20180126T200000
DTEND;TZID=America/Vancouver:20180126T213000
DTSTAMP:20260420T165154
CREATED:20180109T062724Z
LAST-MODIFIED:20180111T092019Z
UID:1952-1516996800-1517002200@northshorebaseball.ca
SUMMARY:13U (PeeWee) Bull Pen Winter Training
DESCRIPTION:More details…
URL:https://northshorebaseball.ca/event/13u-peewee-bull-pen-winter-training-3/
LOCATION:Queen Mary Elementary School\, 230 West Keith Road\, North Vancouver\, British Columbia\, V7M 1L8\, Canada
CATEGORIES:Training
END:VEVENT
BEGIN:VEVENT
DTSTART;TZID=America/Vancouver:20180126T183000
DTEND;TZID=America/Vancouver:20180126T200000
DTSTAMP:20260420T165154
CREATED:20180109T062716Z
LAST-MODIFIED:20180109T062716Z
UID:1934-1516991400-1516996800@northshorebaseball.ca
SUMMARY:9U (Tadpole) Bull Pen Winter Training
DESCRIPTION:More details…
URL:https://northshorebaseball.ca/event/9u-tadpole-bull-pen-winter-training-3/
LOCATION:Queen Mary Elementary School\, 230 West Keith Road\, North Vancouver\, British Columbia\, V7M 1L8\, Canada
CATEGORIES:Training
END:VEVENT
END:VCALENDAR