BEGIN:VCALENDAR
VERSION:2.0
PRODID:-//North Shore Baseball Association - ECPv6.15.13.1//NONSGML v1.0//EN
CALSCALE:GREGORIAN
METHOD:PUBLISH
X-WR-CALNAME:North Shore Baseball Association
X-ORIGINAL-URL:https://northshorebaseball.ca
X-WR-CALDESC:Events for North Shore Baseball Association
REFRESH-INTERVAL;VALUE=DURATION:PT1H
X-Robots-Tag:noindex
X-PUBLISHED-TTL:PT1H
BEGIN:VTIMEZONE
TZID:America/Vancouver
BEGIN:DAYLIGHT
TZOFFSETFROM:-0800
TZOFFSETTO:-0700
TZNAME:PDT
DTSTART:20170312T100000
END:DAYLIGHT
BEGIN:STANDARD
TZOFFSETFROM:-0700
TZOFFSETTO:-0800
TZNAME:PST
DTSTART:20171105T090000
END:STANDARD
BEGIN:DAYLIGHT
TZOFFSETFROM:-0800
TZOFFSETTO:-0700
TZNAME:PDT
DTSTART:20180311T100000
END:DAYLIGHT
BEGIN:STANDARD
TZOFFSETFROM:-0700
TZOFFSETTO:-0800
TZNAME:PST
DTSTART:20181104T090000
END:STANDARD
BEGIN:DAYLIGHT
TZOFFSETFROM:-0800
TZOFFSETTO:-0700
TZNAME:PDT
DTSTART:20190310T100000
END:DAYLIGHT
BEGIN:STANDARD
TZOFFSETFROM:-0700
TZOFFSETTO:-0800
TZNAME:PST
DTSTART:20191103T090000
END:STANDARD
END:VTIMEZONE
BEGIN:VEVENT
DTSTART;VALUE=DATE:20180401
DTEND;VALUE=DATE:20180402
DTSTAMP:20260420T065813
CREATED:20171023T022808Z
LAST-MODIFIED:20220101T201339Z
UID:1470-1522540800-1522627199@northshorebaseball.ca
SUMMARY:Easter Sunday
DESCRIPTION:
URL:https://northshorebaseball.ca/event/easter-sunday-2018/
CATEGORIES:Holidays
END:VEVENT
BEGIN:VEVENT
DTSTART;VALUE=DATE:20180330
DTEND;VALUE=DATE:20180331
DTSTAMP:20260420T065813
CREATED:20171023T022155Z
LAST-MODIFIED:20220101T202404Z
UID:1464-1522368000-1522454399@northshorebaseball.ca
SUMMARY:Good Friday
DESCRIPTION:
URL:https://northshorebaseball.ca/event/good-friday-2018/
CATEGORIES:Holidays
END:VEVENT
BEGIN:VEVENT
DTSTART;TZID=America/Vancouver:20180320T091500
DTEND;TZID=America/Vancouver:20180320T091500
DTSTAMP:20260420T065813
CREATED:20171023T014244Z
LAST-MODIFIED:20210827T024553Z
UID:1435-1521537300-1521537300@northshorebaseball.ca
SUMMARY:March Equinox
DESCRIPTION:First Day of Spring. \nMarch equinox marks the moment the Sun crosses the celestial equator – the imaginary line in the sky above the Earth’s equator – from south to north. On the equinox\, night and day are nearly exactly the same length – 12 hours – all over the world.
URL:https://northshorebaseball.ca/event/march-equinox-2018/
CATEGORIES:Holidays
END:VEVENT
BEGIN:VEVENT
DTSTART;VALUE=DATE:20180317
DTEND;VALUE=DATE:20180402
DTSTAMP:20260420T065813
CREATED:20171022T175330Z
LAST-MODIFIED:20171022T175933Z
UID:1399-1521244800-1522627199@northshorebaseball.ca
SUMMARY:Schools Closed
DESCRIPTION:Schools Closed – Spring Vacation (March 17\, 2018 – April 1\, 2018)
URL:https://northshorebaseball.ca/event/schools-closed-12/
CATEGORIES:Schools Closed
END:VEVENT
BEGIN:VEVENT
DTSTART;VALUE=DATE:20180317
DTEND;VALUE=DATE:20180318
DTSTAMP:20260420T065813
CREATED:20171023T015654Z
LAST-MODIFIED:20220101T210726Z
UID:1448-1521244800-1521331199@northshorebaseball.ca
SUMMARY:St. Patrick's Day
DESCRIPTION:
URL:https://northshorebaseball.ca/event/st-patricks-day-2018/
CATEGORIES:Holidays
END:VEVENT
BEGIN:VEVENT
DTSTART;TZID=America/Vancouver:20180311T030000
DTEND;TZID=America/Vancouver:20180311T030000
DTSTAMP:20260420T065813
CREATED:20171023T023152Z
LAST-MODIFIED:20220101T200404Z
UID:1474-1520737200-1520737200@northshorebaseball.ca
SUMMARY:Daylight Saving Time Starts
DESCRIPTION:Daylight Saving Time Starts – set clock 1 hour forward.
URL:https://northshorebaseball.ca/event/daylight-saving-time-starts-2018/
END:VEVENT
BEGIN:VEVENT
DTSTART;TZID=America/Vancouver:20180310T150000
DTEND;TZID=America/Vancouver:20180310T160000
DTSTAMP:20260420T065813
CREATED:20171204T093248Z
LAST-MODIFIED:20180109T055810Z
UID:1768-1520694000-1520697600@northshorebaseball.ca
SUMMARY:9U (Tadpole) IP Winter Training
DESCRIPTION:More details…
URL:https://northshorebaseball.ca/event/9u-tadpole-ip-winter-training-7/
LOCATION:Inside Performance\, #2 - 1500 Railway Street\, North Vancouver\, British Columbia\, V7J 1B5\, Canada
CATEGORIES:Training
END:VEVENT
BEGIN:VEVENT
DTSTART;TZID=America/Vancouver:20180310T140000
DTEND;TZID=America/Vancouver:20180310T150000
DTSTAMP:20260420T065813
CREATED:20171204T093249Z
LAST-MODIFIED:20180109T060923Z
UID:1776-1520690400-1520694000@northshorebaseball.ca
SUMMARY:11U (Mosquito) IP Winter Training
DESCRIPTION:More details…
URL:https://northshorebaseball.ca/event/11u-mosquito-ip-winter-training-7/
LOCATION:Inside Performance\, #2 - 1500 Railway Street\, North Vancouver\, British Columbia\, V7J 1B5\, Canada
CATEGORIES:Training
END:VEVENT
BEGIN:VEVENT
DTSTART;TZID=America/Vancouver:20180310T080000
DTEND;TZID=America/Vancouver:20180310T170000
DTSTAMP:20260420T065813
CREATED:20180125T103422Z
LAST-MODIFIED:20230131T043820Z
UID:2061-1520668800-1520701200@northshorebaseball.ca
SUMMARY:Umpire Clinic
DESCRIPTION:More details…
URL:https://northshorebaseball.ca/event/umpire-clinic-2018/
LOCATION:West Vancouver Secondary School\, 1750 Mathers Avenue\, West Vancouver\, British Columbia\, V7V 2G7\, Canada
CATEGORIES:Training
END:VEVENT
BEGIN:VEVENT
DTSTART;TZID=America/Vancouver:20180309T200000
DTEND;TZID=America/Vancouver:20180309T213000
DTSTAMP:20260420T065813
CREATED:20180109T062729Z
LAST-MODIFIED:20180111T092141Z
UID:1958-1520625600-1520631000@northshorebaseball.ca
SUMMARY:13U (PeeWee) Bull Pen Winter Training
DESCRIPTION:More details…
URL:https://northshorebaseball.ca/event/13u-peewee-bull-pen-winter-training-8/
LOCATION:Queen Mary Elementary School\, 230 West Keith Road\, North Vancouver\, British Columbia\, V7M 1L8\, Canada
CATEGORIES:Training
END:VEVENT
BEGIN:VEVENT
DTSTART;TZID=America/Vancouver:20180309T183000
DTEND;TZID=America/Vancouver:20180309T200000
DTSTAMP:20260420T065813
CREATED:20180109T062720Z
LAST-MODIFIED:20180109T062720Z
UID:1940-1520620200-1520625600@northshorebaseball.ca
SUMMARY:9U (Tadpole) Bull Pen Winter Training
DESCRIPTION:More details…
URL:https://northshorebaseball.ca/event/9u-tadpole-bull-pen-winter-training-8/
LOCATION:Queen Mary Elementary School\, 230 West Keith Road\, North Vancouver\, British Columbia\, V7M 1L8\, Canada
CATEGORIES:Training
END:VEVENT
BEGIN:VEVENT
DTSTART;TZID=America/Vancouver:20180309T173000
DTEND;TZID=America/Vancouver:20180309T190000
DTSTAMP:20260420T065813
CREATED:20180117T103936Z
LAST-MODIFIED:20180117T103936Z
UID:2043-1520616600-1520622000@northshorebaseball.ca
SUMMARY:13U (PeeWee) IP Winter Training
DESCRIPTION:More details…
URL:https://northshorebaseball.ca/event/13u-peewee-ip-winter-training-14/
LOCATION:Inside Performance\, #2 - 1500 Railway Street\, North Vancouver\, British Columbia\, V7J 1B5\, Canada
CATEGORIES:Training
END:VEVENT
BEGIN:VEVENT
DTSTART;TZID=America/Vancouver:20180309T170000
DTEND;TZID=America/Vancouver:20180309T183000
DTSTAMP:20260420T065813
CREATED:20180109T062723Z
LAST-MODIFIED:20180111T092616Z
UID:1949-1520614800-1520620200@northshorebaseball.ca
SUMMARY:11U (Mosquito) Bull Pen Winter Training
DESCRIPTION:More details…
URL:https://northshorebaseball.ca/event/11u-mosquito-bull-pen-winter-training-8/
LOCATION:Queen Mary Elementary School\, 230 West Keith Road\, North Vancouver\, British Columbia\, V7M 1L8\, Canada
CATEGORIES:Training
END:VEVENT
BEGIN:VEVENT
DTSTART;TZID=America/Vancouver:20180308T173000
DTEND;TZID=America/Vancouver:20180308T190000
DTSTAMP:20260420T065813
CREATED:20180117T102410Z
LAST-MODIFIED:20180117T102410Z
UID:2025-1520530200-1520535600@northshorebaseball.ca
SUMMARY:15U (Bantam) IP Winter Training
DESCRIPTION:More details…
URL:https://northshorebaseball.ca/event/15u-bantam-ip-winter-training-14/
LOCATION:Inside Performance\, #2 - 1500 Railway Street\, North Vancouver\, British Columbia\, V7J 1B5\, Canada
CATEGORIES:Training
END:VEVENT
BEGIN:VEVENT
DTSTART;TZID=America/Vancouver:20180306T173000
DTEND;TZID=America/Vancouver:20180306T190000
DTSTAMP:20260420T065813
CREATED:20180117T103934Z
LAST-MODIFIED:20180117T103934Z
UID:2035-1520357400-1520362800@northshorebaseball.ca
SUMMARY:13U (PeeWee) IP Winter Training
DESCRIPTION:More details…
URL:https://northshorebaseball.ca/event/13u-peewee-ip-winter-training-7/
LOCATION:Inside Performance\, #2 - 1500 Railway Street\, North Vancouver\, British Columbia\, V7J 1B5\, Canada
CATEGORIES:Training
END:VEVENT
BEGIN:VEVENT
DTSTART;TZID=America/Vancouver:20180305T193000
DTEND;TZID=America/Vancouver:20180305T210000
DTSTAMP:20260420T065813
CREATED:20180111T093525Z
LAST-MODIFIED:20180111T093525Z
UID:1994-1520278200-1520283600@northshorebaseball.ca
SUMMARY:18U (Midget) IP Winter Training
DESCRIPTION:More details…
URL:https://northshorebaseball.ca/event/18u-midget-ip-winter-training-7/
LOCATION:Inside Performance\, #2 - 1500 Railway Street\, North Vancouver\, British Columbia\, V7J 1B5\, Canada
CATEGORIES:Training
END:VEVENT
BEGIN:VEVENT
DTSTART;TZID=America/Vancouver:20180305T180000
DTEND;TZID=America/Vancouver:20180305T193000
DTSTAMP:20260420T065813
CREATED:20180117T102408Z
LAST-MODIFIED:20180117T102408Z
UID:2017-1520272800-1520278200@northshorebaseball.ca
SUMMARY:15U (Bantam) IP Winter Training
DESCRIPTION:More details…
URL:https://northshorebaseball.ca/event/15u-bantam-ip-winter-training-7/
LOCATION:Inside Performance\, #2 - 1500 Railway Street\, North Vancouver\, British Columbia\, V7J 1B5\, Canada
CATEGORIES:Training
END:VEVENT
BEGIN:VEVENT
DTSTART;TZID=America/Vancouver:20180304T130000
DTEND;TZID=America/Vancouver:20180304T150000
DTSTAMP:20260420T065813
CREATED:20180227T040753Z
LAST-MODIFIED:20180227T040753Z
UID:2263-1520168400-1520175600@northshorebaseball.ca
SUMMARY:9U (Tadpole) Evaluations
DESCRIPTION:Assessments in main gym. \nMore details…
URL:https://northshorebaseball.ca/event/9u-tadpole-evaluations-2/
LOCATION:Mickey McDougall Community Recreation Centre\, 240 East 23rd Street\, North Vancouver\, British Columbia\, V7L 4R4\, Canada
CATEGORIES:Evaluations
END:VEVENT
BEGIN:VEVENT
DTSTART;TZID=America/Vancouver:20180303T173000
DTEND;TZID=America/Vancouver:20180303T200000
DTSTAMP:20260420T065813
CREATED:20180227T040640Z
LAST-MODIFIED:20180227T040640Z
UID:2261-1520098200-1520107200@northshorebaseball.ca
SUMMARY:9U (Tadpole) Evaluations
DESCRIPTION:Assessments in main gym. \nMore details…
URL:https://northshorebaseball.ca/event/9u-tadpole-evaluations/
LOCATION:Mickey McDougall Community Recreation Centre\, 240 East 23rd Street\, North Vancouver\, British Columbia\, V7L 4R4\, Canada
CATEGORIES:Evaluations
END:VEVENT
BEGIN:VEVENT
DTSTART;TZID=America/Vancouver:20180303T150000
DTEND;TZID=America/Vancouver:20180303T160000
DTSTAMP:20260420T065813
CREATED:20171204T093248Z
LAST-MODIFIED:20180109T055732Z
UID:1767-1520089200-1520092800@northshorebaseball.ca
SUMMARY:9U (Tadpole) IP Winter Training
DESCRIPTION:More details…
URL:https://northshorebaseball.ca/event/9u-tadpole-ip-winter-training-6/
LOCATION:Inside Performance\, #2 - 1500 Railway Street\, North Vancouver\, British Columbia\, V7J 1B5\, Canada
CATEGORIES:Training
END:VEVENT
BEGIN:VEVENT
DTSTART;TZID=America/Vancouver:20180303T140000
DTEND;TZID=America/Vancouver:20180303T150000
DTSTAMP:20260420T065813
CREATED:20171204T093249Z
LAST-MODIFIED:20180109T060907Z
UID:1775-1520085600-1520089200@northshorebaseball.ca
SUMMARY:11U (Mosquito) IP Winter Training
DESCRIPTION:More details…
URL:https://northshorebaseball.ca/event/11u-mosquito-ip-winter-training-6/
LOCATION:Inside Performance\, #2 - 1500 Railway Street\, North Vancouver\, British Columbia\, V7J 1B5\, Canada
CATEGORIES:Training
END:VEVENT
BEGIN:VEVENT
DTSTART;TZID=America/Vancouver:20180302T200000
DTEND;TZID=America/Vancouver:20180302T213000
DTSTAMP:20260420T065813
CREATED:20180109T062728Z
LAST-MODIFIED:20180111T092129Z
UID:1957-1520020800-1520026200@northshorebaseball.ca
SUMMARY:13U (PeeWee) Bull Pen Winter Training
DESCRIPTION:More details…
URL:https://northshorebaseball.ca/event/13u-peewee-bull-pen-winter-training-7/
LOCATION:Queen Mary Elementary School\, 230 West Keith Road\, North Vancouver\, British Columbia\, V7M 1L8\, Canada
CATEGORIES:Training
END:VEVENT
BEGIN:VEVENT
DTSTART;TZID=America/Vancouver:20180302T183000
DTEND;TZID=America/Vancouver:20180302T200000
DTSTAMP:20260420T065813
CREATED:20180109T062720Z
LAST-MODIFIED:20180109T062720Z
UID:1939-1520015400-1520020800@northshorebaseball.ca
SUMMARY:9U (Tadpole) Bull Pen Winter Training
DESCRIPTION:More details…
URL:https://northshorebaseball.ca/event/9u-tadpole-bull-pen-winter-training-7/
LOCATION:Queen Mary Elementary School\, 230 West Keith Road\, North Vancouver\, British Columbia\, V7M 1L8\, Canada
CATEGORIES:Training
END:VEVENT
BEGIN:VEVENT
DTSTART;TZID=America/Vancouver:20180302T173000
DTEND;TZID=America/Vancouver:20180302T190000
DTSTAMP:20260420T065813
CREATED:20180117T103936Z
LAST-MODIFIED:20180117T103936Z
UID:2042-1520011800-1520017200@northshorebaseball.ca
SUMMARY:13U (PeeWee) IP Winter Training
DESCRIPTION:More details…
URL:https://northshorebaseball.ca/event/13u-peewee-ip-winter-training-13/
LOCATION:Inside Performance\, #2 - 1500 Railway Street\, North Vancouver\, British Columbia\, V7J 1B5\, Canada
CATEGORIES:Training
END:VEVENT
BEGIN:VEVENT
DTSTART;TZID=America/Vancouver:20180302T170000
DTEND;TZID=America/Vancouver:20180302T183000
DTSTAMP:20260420T065813
CREATED:20180109T062722Z
LAST-MODIFIED:20180111T092600Z
UID:1948-1520010000-1520015400@northshorebaseball.ca
SUMMARY:11U (Mosquito) Bull Pen Winter Training
DESCRIPTION:More details…
URL:https://northshorebaseball.ca/event/11u-mosquito-bull-pen-winter-training-7/
LOCATION:Queen Mary Elementary School\, 230 West Keith Road\, North Vancouver\, British Columbia\, V7M 1L8\, Canada
CATEGORIES:Training
END:VEVENT
BEGIN:VEVENT
DTSTART;TZID=America/Vancouver:20180301T173000
DTEND;TZID=America/Vancouver:20180301T190000
DTSTAMP:20260420T065813
CREATED:20180117T102410Z
LAST-MODIFIED:20180117T102410Z
UID:2024-1519925400-1519930800@northshorebaseball.ca
SUMMARY:15U (Bantam) IP Winter Training
DESCRIPTION:More details…
URL:https://northshorebaseball.ca/event/15u-bantam-ip-winter-training-13/
LOCATION:Inside Performance\, #2 - 1500 Railway Street\, North Vancouver\, British Columbia\, V7J 1B5\, Canada
CATEGORIES:Training
END:VEVENT
BEGIN:VEVENT
DTSTART;TZID=America/Vancouver:20180228T200000
DTEND;TZID=America/Vancouver:20180228T210000
DTSTAMP:20260420T065813
CREATED:20180219T085218Z
LAST-MODIFIED:20180219T085218Z
UID:2249-1519848000-1519851600@northshorebaseball.ca
SUMMARY:Board Meeting
DESCRIPTION:Board Meeting \nMeet in the Oak Room
URL:https://northshorebaseball.ca/event/board-meeting-12/
LOCATION:Delbrook Community Recreation Centre\, 851 West Queens Road\, North Vancouver\, British Columbia\, V7N 4E3\, Canada
CATEGORIES:Board Meetings
END:VEVENT
BEGIN:VEVENT
DTSTART;TZID=America/Vancouver:20180227T173000
DTEND;TZID=America/Vancouver:20180227T190000
DTSTAMP:20260420T065813
CREATED:20180117T103934Z
LAST-MODIFIED:20180117T103934Z
UID:2034-1519752600-1519758000@northshorebaseball.ca
SUMMARY:13U (PeeWee) IP Winter Training
DESCRIPTION:More details…
URL:https://northshorebaseball.ca/event/13u-peewee-ip-winter-training-6/
LOCATION:Inside Performance\, #2 - 1500 Railway Street\, North Vancouver\, British Columbia\, V7J 1B5\, Canada
CATEGORIES:Training
END:VEVENT
BEGIN:VEVENT
DTSTART;TZID=America/Vancouver:20180226T193000
DTEND;TZID=America/Vancouver:20180226T210000
DTSTAMP:20260420T065813
CREATED:20180111T093525Z
LAST-MODIFIED:20180111T093525Z
UID:1993-1519673400-1519678800@northshorebaseball.ca
SUMMARY:18U (Midget) IP Winter Training
DESCRIPTION:More details…
URL:https://northshorebaseball.ca/event/18u-midget-ip-winter-training-6/
LOCATION:Inside Performance\, #2 - 1500 Railway Street\, North Vancouver\, British Columbia\, V7J 1B5\, Canada
CATEGORIES:Training
END:VEVENT
BEGIN:VEVENT
DTSTART;TZID=America/Vancouver:20180226T180000
DTEND;TZID=America/Vancouver:20180226T193000
DTSTAMP:20260420T065813
CREATED:20180117T102408Z
LAST-MODIFIED:20180117T102408Z
UID:2016-1519668000-1519673400@northshorebaseball.ca
SUMMARY:15U (Bantam) IP Winter Training
DESCRIPTION:More details…
URL:https://northshorebaseball.ca/event/15u-bantam-ip-winter-training-6/
LOCATION:Inside Performance\, #2 - 1500 Railway Street\, North Vancouver\, British Columbia\, V7J 1B5\, Canada
CATEGORIES:Training
END:VEVENT
END:VCALENDAR