BEGIN:VCALENDAR
VERSION:2.0
PRODID:-//North Shore Baseball Association - ECPv6.15.13.1//NONSGML v1.0//EN
CALSCALE:GREGORIAN
METHOD:PUBLISH
X-WR-CALNAME:North Shore Baseball Association
X-ORIGINAL-URL:https://northshorebaseball.ca
X-WR-CALDESC:Events for North Shore Baseball Association
REFRESH-INTERVAL;VALUE=DURATION:PT1H
X-Robots-Tag:noindex
X-PUBLISHED-TTL:PT1H
BEGIN:VTIMEZONE
TZID:America/Vancouver
BEGIN:DAYLIGHT
TZOFFSETFROM:-0800
TZOFFSETTO:-0700
TZNAME:PDT
DTSTART:20170312T100000
END:DAYLIGHT
BEGIN:STANDARD
TZOFFSETFROM:-0700
TZOFFSETTO:-0800
TZNAME:PST
DTSTART:20171105T090000
END:STANDARD
BEGIN:DAYLIGHT
TZOFFSETFROM:-0800
TZOFFSETTO:-0700
TZNAME:PDT
DTSTART:20180311T100000
END:DAYLIGHT
BEGIN:STANDARD
TZOFFSETFROM:-0700
TZOFFSETTO:-0800
TZNAME:PST
DTSTART:20181104T090000
END:STANDARD
BEGIN:DAYLIGHT
TZOFFSETFROM:-0800
TZOFFSETTO:-0700
TZNAME:PDT
DTSTART:20190310T100000
END:DAYLIGHT
BEGIN:STANDARD
TZOFFSETFROM:-0700
TZOFFSETTO:-0800
TZNAME:PST
DTSTART:20191103T090000
END:STANDARD
END:VTIMEZONE
BEGIN:VEVENT
DTSTART;TZID=America/Vancouver:20180922T185400
DTEND;TZID=America/Vancouver:20180922T185400
DTSTAMP:20260420T003505
CREATED:20171023T012628Z
LAST-MODIFIED:20210827T025200Z
UID:1430-1537642440-1537642440@northshorebaseball.ca
SUMMARY:September Equinox
DESCRIPTION:First Day of Fall. \nSeptember equinox marks the moment the Sun crosses the celestial equator – the imaginary line in the sky above the Earth’s equator – from north to south. On the equinox\, night and day are nearly exactly the same length – 12 hours – all over the world.
URL:https://northshorebaseball.ca/event/september-equinox-2018/
CATEGORIES:Holidays
END:VEVENT
BEGIN:VEVENT
DTSTART;VALUE=DATE:20180904
DTEND;VALUE=DATE:20180905
DTSTAMP:20260420T003505
CREATED:20180813T075816Z
LAST-MODIFIED:20210827T022354Z
UID:3089-1536019200-1536105599@northshorebaseball.ca
SUMMARY:School Opens
DESCRIPTION:First Day of School 2018-2019
URL:https://northshorebaseball.ca/event/school-opens-2018/
END:VEVENT
BEGIN:VEVENT
DTSTART;VALUE=DATE:20180903
DTEND;VALUE=DATE:20180904
DTSTAMP:20260420T003505
CREATED:20171023T021615Z
LAST-MODIFIED:20220101T202828Z
UID:1458-1535932800-1536019199@northshorebaseball.ca
SUMMARY:Labour Day
DESCRIPTION:
URL:https://northshorebaseball.ca/event/labour-day-2018/
CATEGORIES:Holidays
END:VEVENT
BEGIN:VEVENT
DTSTART;VALUE=DATE:20180827
DTEND;VALUE=DATE:20180828
DTSTAMP:20260420T003505
CREATED:20180813T054534Z
LAST-MODIFIED:20210827T022209Z
UID:3082-1535328000-1535414399@northshorebaseball.ca
SUMMARY:Fall Ball Registration Deadline
DESCRIPTION:North Shore Baseball Association Registration for the 2018 Fall Ball Season deadline.\nMore details…
URL:https://northshorebaseball.ca/event/fall-ball-registration-deadline-2018/
CATEGORIES:Important Dates
END:VEVENT
BEGIN:VEVENT
DTSTART;VALUE=DATE:20180813
DTEND;VALUE=DATE:20180814
DTSTAMP:20260420T003505
CREATED:20180813T054426Z
LAST-MODIFIED:20210827T022216Z
UID:3080-1534118400-1534204799@northshorebaseball.ca
SUMMARY:Fall Ball Registration Opens
DESCRIPTION:North Shore Baseball Association Registration for the 2018 Fall Ball Season is now open.\nRegister your child from August 13\, 2018 – August 27\, 2018.\nMore details…
URL:https://northshorebaseball.ca/event/fall-ball-registration-opens-2018/
CATEGORIES:Important Dates
END:VEVENT
BEGIN:VEVENT
DTSTART;VALUE=DATE:20180806
DTEND;VALUE=DATE:20180807
DTSTAMP:20260420T003505
CREATED:20171023T024313Z
LAST-MODIFIED:20220101T193759Z
UID:1485-1533513600-1533599999@northshorebaseball.ca
SUMMARY:BC Day
DESCRIPTION:Happy 147th Birthday British Columbia \nOn July 20\, 1871\, British Columbia became the sixth province of the Dominion of Canada.
URL:https://northshorebaseball.ca/event/bc-day-2018/
CATEGORIES:Holidays
END:VEVENT
BEGIN:VEVENT
DTSTART;TZID=America/Vancouver:20180721T190000
DTEND;TZID=America/Vancouver:20180721T220000
DTSTAMP:20260420T003505
CREATED:20180530T041736Z
LAST-MODIFIED:20180530T041736Z
UID:2724-1532199600-1532210400@northshorebaseball.ca
SUMMARY:Fundraiser with the Vancouver Canadians
DESCRIPTION:More details…
URL:https://northshorebaseball.ca/event/fundraiser-with-the-vancouver-canadians/
LOCATION:Nat Bailey Stadium\, 4601 Ontario Street\, Vancouver\, British Columbia\, V5V 3H4\, Canada
CATEGORIES:Important Dates
END:VEVENT
BEGIN:VEVENT
DTSTART;VALUE=DATE:20180701
DTEND;VALUE=DATE:20180702
DTSTAMP:20260420T003505
CREATED:20171023T023813Z
LAST-MODIFIED:20220101T194335Z
UID:1480-1530403200-1530489599@northshorebaseball.ca
SUMMARY:Canada Day
DESCRIPTION:Happy 151st Birthday Canada \nOn July 1\, 1867\, Canada became a self-governing dominion of Great Britain and a federation of four provinces: Nova Scotia\, New Brunswick\, Ontario\, and Quebec. The anniversary of this date was called Dominion Day until 1982. Since 1983\, July 1 has been officially known as Canada Day.
URL:https://northshorebaseball.ca/event/canada-day-2018/
CATEGORIES:Holidays
END:VEVENT
BEGIN:VEVENT
DTSTART;VALUE=DATE:20180629
DTEND;VALUE=DATE:20180630
DTSTAMP:20260420T003505
CREATED:20171022T174827Z
LAST-MODIFIED:20180628T085620Z
UID:1397-1530230400-1530316799@northshorebaseball.ca
SUMMARY:Schools Closed
DESCRIPTION:Schools Closed – Summer Vacation
URL:https://northshorebaseball.ca/event/schools-closed-11/
CATEGORIES:Schools Closed
END:VEVENT
BEGIN:VEVENT
DTSTART;TZID=America/Vancouver:20180628T200000
DTEND;TZID=America/Vancouver:20180628T210000
DTSTAMP:20260420T003505
CREATED:20180628T085126Z
LAST-MODIFIED:20181105T053016Z
UID:2970-1530216000-1530219600@northshorebaseball.ca
SUMMARY:Board Meeting
DESCRIPTION:Board Meeting \nMeet in the Eagle Room
URL:https://northshorebaseball.ca/event/board-meeting-15/
LOCATION:Karen Magnussen Community Recreation Centre\, 2300 Kirkstone Road\, North Vancouver\, British Columbia\, V7J 1Z6\, Canada
CATEGORIES:Board Meetings
END:VEVENT
BEGIN:VEVENT
DTSTART;TZID=America/Vancouver:20180623T130000
DTEND;TZID=America/Vancouver:20180623T133000
DTSTAMP:20260420T003505
CREATED:20180615T054725Z
LAST-MODIFIED:20180615T054725Z
UID:2891-1529758800-1529760600@northshorebaseball.ca
SUMMARY:Robbie Biddlecombe Memorial Awards Ceremony
DESCRIPTION:More details…
URL:https://northshorebaseball.ca/event/robbie-biddlecombe-memorial-awards-ceremony-2/
LOCATION:Eldon Park\, 4010 Ruby Avenue\, North Vancouver\, British Columbia\, V7R 4B2\, Canada
CATEGORIES:Important Dates
END:VEVENT
BEGIN:VEVENT
DTSTART;TZID=America/Vancouver:20180622T190000
DTEND;TZID=America/Vancouver:20180622T233000
DTSTAMP:20260420T003505
CREATED:20180621T041741Z
LAST-MODIFIED:20180621T041758Z
UID:2948-1529694000-1529710200@northshorebaseball.ca
SUMMARY:Volunteer Appreciation and Parent Social
DESCRIPTION:More details…
URL:https://northshorebaseball.ca/event/volunteer-appreciation-and-parent-social/
LOCATION:Two Lions Public House\, 2601 Westview Drive #500\, North Vancouver\, British Columbia\, V7N 3X3\, Canada
CATEGORIES:Important Dates
END:VEVENT
BEGIN:VEVENT
DTSTART;TZID=America/Vancouver:20180621T030700
DTEND;TZID=America/Vancouver:20180621T030700
DTSTAMP:20260420T003505
CREATED:20171023T013222Z
LAST-MODIFIED:20210827T024941Z
UID:1432-1529550420-1529550420@northshorebaseball.ca
SUMMARY:June Solstice
DESCRIPTION:First Day of Summer. \nJune solstice is an astronomical phenomenon marking the longest day and the shortest night of the year.
URL:https://northshorebaseball.ca/event/june-solstice-2018/
CATEGORIES:Holidays
END:VEVENT
BEGIN:VEVENT
DTSTART;VALUE=DATE:20180617
DTEND;VALUE=DATE:20180618
DTSTAMP:20260420T003505
CREATED:20171023T022318Z
LAST-MODIFIED:20220101T201857Z
UID:1466-1529193600-1529279999@northshorebaseball.ca
SUMMARY:Father's Day
DESCRIPTION:
URL:https://northshorebaseball.ca/event/fathers-day-2018/
CATEGORIES:Holidays
END:VEVENT
BEGIN:VEVENT
DTSTART;TZID=America/Vancouver:20180616T100000
DTEND;TZID=America/Vancouver:20180616T170000
DTSTAMP:20260420T003505
CREATED:20180514T082207Z
LAST-MODIFIED:20230529T013551Z
UID:2651-1529143200-1529168400@northshorebaseball.ca
SUMMARY:5U & 7U Year End Jamboree
DESCRIPTION:More details…
URL:https://northshorebaseball.ca/event/5u-7u-year-end-jamboree-2018/
LOCATION:Cleveland Park\, 5200 Nancy Geene Way\, North Vancouver\, British Columbia\, V7R 4H6\, Canada
CATEGORIES:Important Dates
END:VEVENT
BEGIN:VEVENT
DTSTART;TZID=America/Vancouver:20180610T123000
DTEND;TZID=America/Vancouver:20180610T150000
DTSTAMP:20260420T003505
CREATED:20180610T042018Z
LAST-MODIFIED:20180610T042018Z
UID:2808-1528633800-1528642800@northshorebaseball.ca
SUMMARY:15U (Bantam) A Championship Game
DESCRIPTION:More details…
URL:https://northshorebaseball.ca/event/15u-bantam-a-championship-game-2/
LOCATION:Eldon Park\, 4010 Ruby Avenue\, North Vancouver\, British Columbia\, V7R 4B2\, Canada
CATEGORIES:Important Dates
END:VEVENT
BEGIN:VEVENT
DTSTART;TZID=America/Vancouver:20180609T170000
DTEND;TZID=America/Vancouver:20180609T190000
DTSTAMP:20260420T003505
CREATED:20180601T090437Z
LAST-MODIFIED:20180601T090437Z
UID:2730-1528563600-1528570800@northshorebaseball.ca
SUMMARY:11U (Mosquito) Assessments
DESCRIPTION:
URL:https://northshorebaseball.ca/event/11u-mosquito-assessments/
LOCATION:Eldon Park\, 4010 Ruby Avenue\, North Vancouver\, British Columbia\, V7R 4B2\, Canada
CATEGORIES:Evaluations
END:VEVENT
BEGIN:VEVENT
DTSTART;TZID=America/Vancouver:20180604T183000
DTEND;TZID=America/Vancouver:20180604T200000
DTSTAMP:20260420T003505
CREATED:20180601T091211Z
LAST-MODIFIED:20180601T092459Z
UID:2735-1528137000-1528142400@northshorebaseball.ca
SUMMARY:13U (PeeWee) AA Tryouts
DESCRIPTION:Please arrive 15 minutes early to sign and warm up. Baseball attire required.
URL:https://northshorebaseball.ca/event/13u-peewee-aa-tryouts-3/
LOCATION:Chris Zuehlke Memorial Park\, 1905 Jones Avenue\, North Vancouver\, British Columbia\, Canada
CATEGORIES:Evaluations
END:VEVENT
BEGIN:VEVENT
DTSTART;TZID=America/Vancouver:20180604T170000
DTEND;TZID=America/Vancouver:20180604T183000
DTSTAMP:20260420T003505
CREATED:20180601T091037Z
LAST-MODIFIED:20180601T092520Z
UID:2733-1528131600-1528137000@northshorebaseball.ca
SUMMARY:13U (PeeWee) AAA Tryouts
DESCRIPTION:Please arrive 15 minutes early to sign and warm up. Baseball attire required.
URL:https://northshorebaseball.ca/event/13u-peewee-aaa-tryouts/
LOCATION:Chris Zuehlke Memorial Park\, 1905 Jones Avenue\, North Vancouver\, British Columbia\, Canada
CATEGORIES:Evaluations
END:VEVENT
BEGIN:VEVENT
DTSTART;TZID=America/Vancouver:20180603T180000
DTEND;TZID=America/Vancouver:20180603T200000
DTSTAMP:20260420T003505
CREATED:20180601T092142Z
LAST-MODIFIED:20180601T092142Z
UID:2740-1528048800-1528056000@northshorebaseball.ca
SUMMARY:9U (Tadpole) Selects Evaluations
DESCRIPTION:Please arrive 15 minutes early to sign and warm up. Baseball attire required.
URL:https://northshorebaseball.ca/event/9u-tadpole-selects-evaluations-2/
LOCATION:Sowden Park\, 2300 Lloyd Avenue\, North Vancouver\, British Columbia\, Canada
CATEGORIES:Evaluations
END:VEVENT
BEGIN:VEVENT
DTSTART;TZID=America/Vancouver:20180603T161500
DTEND;TZID=America/Vancouver:20180603T173000
DTSTAMP:20260420T003505
CREATED:20180601T091809Z
LAST-MODIFIED:20180601T092044Z
UID:2737-1528042500-1528047000@northshorebaseball.ca
SUMMARY:8U (Tadpole) Selects Evaluations
DESCRIPTION:Please arrive 15 minutes early to sign and warm up. Baseball attire required.
URL:https://northshorebaseball.ca/event/8u-tadpole-selects-evaluations-2/
LOCATION:Sowden Park\, 2300 Lloyd Avenue\, North Vancouver\, British Columbia\, Canada
CATEGORIES:Evaluations
END:VEVENT
BEGIN:VEVENT
DTSTART;VALUE=DATE:20180602
DTEND;VALUE=DATE:20180603
DTSTAMP:20260420T003505
CREATED:20171023T021007Z
LAST-MODIFIED:20220101T203731Z
UID:1454-1527897600-1527983999@northshorebaseball.ca
SUMMARY:National Health and Fitness Day
DESCRIPTION:National Health and Fitness Day is an initiative to get Canadians moving by marking one day\, the first Saturday in June\, as the day when Canadians get out and get active in any way they think appropriate. \nNational Health and Fitness Day was an idea that was germinated during the Vancouver 2010 Olympics as a project to mobilize the spirit of the games and create a legacy of improved health for all Canadians. In December 2014\, the National Health and Fitness Day Act\, Bill S-211\, became law in Canada\, ensuring official recognition of the day.
URL:https://northshorebaseball.ca/event/national-health-and-fitness-day-2018/
END:VEVENT
BEGIN:VEVENT
DTSTART;VALUE=DATE:20180601
DTEND;VALUE=DATE:20180602
DTSTAMP:20260420T003505
CREATED:20180524T000208Z
LAST-MODIFIED:20220523T175627Z
UID:2687-1527811200-1527897599@northshorebaseball.ca
SUMMARY:Summer Registration Deadline
DESCRIPTION:North Shore Baseball Association Registration for the 2018 Summer Season deadline.
URL:https://northshorebaseball.ca/event/summer-registration-deadline-2018/
CATEGORIES:Important Dates
END:VEVENT
BEGIN:VEVENT
DTSTART;VALUE=DATE:20180531
DTEND;VALUE=DATE:20180601
DTSTAMP:20260420T003505
CREATED:20180514T082423Z
LAST-MODIFIED:20210526T044908Z
UID:2653-1527724800-1527811199@northshorebaseball.ca
SUMMARY:Scholarship Application Deadline
DESCRIPTION:More details…
URL:https://northshorebaseball.ca/event/scholarship-application-deadline-2018/
CATEGORIES:Important Dates
END:VEVENT
BEGIN:VEVENT
DTSTART;TZID=America/Vancouver:20180523T200000
DTEND;TZID=America/Vancouver:20180523T210000
DTSTAMP:20260420T003505
CREATED:20180523T234943Z
LAST-MODIFIED:20180523T234943Z
UID:2681-1527105600-1527109200@northshorebaseball.ca
SUMMARY:Board Meeting
DESCRIPTION:Board Meeting \nMeet in the Oak Room
URL:https://northshorebaseball.ca/event/board-meeting-14/
LOCATION:Delbrook Community Recreation Centre\, 851 West Queens Road\, North Vancouver\, British Columbia\, V7N 4E3\, Canada
CATEGORIES:Board Meetings
END:VEVENT
BEGIN:VEVENT
DTSTART;VALUE=DATE:20180523
DTEND;VALUE=DATE:20180524
DTSTAMP:20260420T003505
CREATED:20180524T000100Z
LAST-MODIFIED:20220523T175705Z
UID:2685-1527033600-1527119999@northshorebaseball.ca
SUMMARY:Summer Registration Opens
DESCRIPTION:North Shore Baseball Association Registration for the 2018 Summer Season is now open.\nRegister your child from May 23\, 2018 – June 1\, 2018.
URL:https://northshorebaseball.ca/event/summer-registration-opens-2018/
CATEGORIES:Important Dates
END:VEVENT
BEGIN:VEVENT
DTSTART;VALUE=DATE:20180521
DTEND;VALUE=DATE:20180522
DTSTAMP:20260420T003505
CREATED:20171023T015025Z
LAST-MODIFIED:20220101T212207Z
UID:1442-1526860800-1526947199@northshorebaseball.ca
SUMMARY:Victoria Day
DESCRIPTION:
URL:https://northshorebaseball.ca/event/victoria-day-2018/
CATEGORIES:Holidays
END:VEVENT
BEGIN:VEVENT
DTSTART;VALUE=DATE:20180513
DTEND;VALUE=DATE:20180514
DTSTAMP:20260420T003505
CREATED:20171023T021134Z
LAST-MODIFIED:20220101T203202Z
UID:1456-1526169600-1526255999@northshorebaseball.ca
SUMMARY:Mother's Day
DESCRIPTION:
URL:https://northshorebaseball.ca/event/mothers-day-2018/
CATEGORIES:Holidays
END:VEVENT
BEGIN:VEVENT
DTSTART;VALUE=DATE:20180507
DTEND;VALUE=DATE:20180508
DTSTAMP:20260420T003505
CREATED:20171022T182502Z
LAST-MODIFIED:20171022T182502Z
UID:1415-1525651200-1525737599@northshorebaseball.ca
SUMMARY:Schools Closed
DESCRIPTION:Schools Closed – District-wide Professional Development Day
URL:https://northshorebaseball.ca/event/schools-closed-20/
CATEGORIES:Schools Closed
END:VEVENT
BEGIN:VEVENT
DTSTART;TZID=America/Vancouver:20180425T200000
DTEND;TZID=America/Vancouver:20180425T210000
DTSTAMP:20260420T003505
CREATED:20180425T000320Z
LAST-MODIFIED:20180425T000320Z
UID:2457-1524686400-1524690000@northshorebaseball.ca
SUMMARY:Board Meeting
DESCRIPTION:Board Meeting \nMeet in the Oak Room
URL:https://northshorebaseball.ca/event/board-meeting-13/
LOCATION:Delbrook Community Recreation Centre\, 851 West Queens Road\, North Vancouver\, British Columbia\, V7N 4E3\, Canada
CATEGORIES:Board Meetings
END:VEVENT
END:VCALENDAR