BEGIN:VCALENDAR
VERSION:2.0
PRODID:-//North Shore Baseball Association - ECPv6.15.13.1//NONSGML v1.0//EN
CALSCALE:GREGORIAN
METHOD:PUBLISH
X-WR-CALNAME:North Shore Baseball Association
X-ORIGINAL-URL:https://northshorebaseball.ca
X-WR-CALDESC:Events for North Shore Baseball Association
REFRESH-INTERVAL;VALUE=DURATION:PT1H
X-Robots-Tag:noindex
X-PUBLISHED-TTL:PT1H
BEGIN:VTIMEZONE
TZID:America/Vancouver
BEGIN:DAYLIGHT
TZOFFSETFROM:-0800
TZOFFSETTO:-0700
TZNAME:PDT
DTSTART:20170312T100000
END:DAYLIGHT
BEGIN:STANDARD
TZOFFSETFROM:-0700
TZOFFSETTO:-0800
TZNAME:PST
DTSTART:20171105T090000
END:STANDARD
BEGIN:DAYLIGHT
TZOFFSETFROM:-0800
TZOFFSETTO:-0700
TZNAME:PDT
DTSTART:20180311T100000
END:DAYLIGHT
BEGIN:STANDARD
TZOFFSETFROM:-0700
TZOFFSETTO:-0800
TZNAME:PST
DTSTART:20181104T090000
END:STANDARD
BEGIN:DAYLIGHT
TZOFFSETFROM:-0800
TZOFFSETTO:-0700
TZNAME:PDT
DTSTART:20190310T100000
END:DAYLIGHT
BEGIN:STANDARD
TZOFFSETFROM:-0700
TZOFFSETTO:-0800
TZNAME:PST
DTSTART:20191103T090000
END:STANDARD
BEGIN:DAYLIGHT
TZOFFSETFROM:-0800
TZOFFSETTO:-0700
TZNAME:PDT
DTSTART:20200308T100000
END:DAYLIGHT
BEGIN:STANDARD
TZOFFSETFROM:-0700
TZOFFSETTO:-0800
TZNAME:PST
DTSTART:20201101T090000
END:STANDARD
END:VTIMEZONE
BEGIN:VEVENT
DTSTART;TZID=America/Vancouver:20190114T180000
DTEND;TZID=America/Vancouver:20190114T193000
DTSTAMP:20260419T200504
CREATED:20181208T042640Z
LAST-MODIFIED:20181208T042640Z
UID:3374-1547488800-1547494200@northshorebaseball.ca
SUMMARY:15U (Bantam) IP Winter Training
DESCRIPTION:More details…
URL:https://northshorebaseball.ca/event/15u-bantam-ip-winter-training-16/
LOCATION:Inside Performance\, #2 - 1500 Railway Street\, North Vancouver\, British Columbia\, V7J 1B5\, Canada
CATEGORIES:Training
END:VEVENT
BEGIN:VEVENT
DTSTART;TZID=America/Vancouver:20190113T150000
DTEND;TZID=America/Vancouver:20190113T163000
DTSTAMP:20260419T200504
CREATED:20181208T032517Z
LAST-MODIFIED:20181208T032517Z
UID:3332-1547391600-1547397000@northshorebaseball.ca
SUMMARY:11U (Mosquito) IP Advanced Skills Winter Training
DESCRIPTION:More details…
URL:https://northshorebaseball.ca/event/11u-mosquito-ip-advanced-skills-winter-training/
LOCATION:Inside Performance\, #2 - 1500 Railway Street\, North Vancouver\, British Columbia\, V7J 1B5\, Canada
CATEGORIES:Training
END:VEVENT
BEGIN:VEVENT
DTSTART;TZID=America/Vancouver:20190113T140000
DTEND;TZID=America/Vancouver:20190113T150000
DTSTAMP:20260419T200504
CREATED:20181208T030949Z
LAST-MODIFIED:20181208T030949Z
UID:3311-1547388000-1547391600@northshorebaseball.ca
SUMMARY:9U (Tadpole) IP Winter Training
DESCRIPTION:More details…
URL:https://northshorebaseball.ca/event/9u-tadpole-ip-winter-training-8/
LOCATION:Inside Performance\, #2 - 1500 Railway Street\, North Vancouver\, British Columbia\, V7J 1B5\, Canada
CATEGORIES:Training
END:VEVENT
BEGIN:VEVENT
DTSTART;TZID=America/Vancouver:20190111T190000
DTEND;TZID=America/Vancouver:20190111T203000
DTSTAMP:20260419T200504
CREATED:20181208T041523Z
LAST-MODIFIED:20181208T041523Z
UID:3361-1547233200-1547238600@northshorebaseball.ca
SUMMARY:13U (PeeWee) Bull Pen Winter Training
DESCRIPTION:More details…
URL:https://northshorebaseball.ca/event/13u-peewee-bull-pen-winter-training-9/
LOCATION:Queen Mary Elementary School\, 230 West Keith Road\, North Vancouver\, British Columbia\, V7M 1L8\, Canada
CATEGORIES:Training
END:VEVENT
BEGIN:VEVENT
DTSTART;TZID=America/Vancouver:20190111T173000
DTEND;TZID=America/Vancouver:20190111T190000
DTSTAMP:20260419T200504
CREATED:20181208T032523Z
LAST-MODIFIED:20181208T032523Z
UID:3341-1547227800-1547233200@northshorebaseball.ca
SUMMARY:11U (Mosquito) IP Fundamental Skills Winter Training
DESCRIPTION:More details…
URL:https://northshorebaseball.ca/event/11u-mosquito-ip-fundamental-skills-winter-training/
LOCATION:Inside Performance\, #2 - 1500 Railway Street\, North Vancouver\, British Columbia\, V7J 1B5\, Canada
CATEGORIES:Training
END:VEVENT
BEGIN:VEVENT
DTSTART;TZID=America/Vancouver:20190111T173000
DTEND;TZID=America/Vancouver:20190111T190000
DTSTAMP:20260419T200504
CREATED:20181208T030955Z
LAST-MODIFIED:20181208T030955Z
UID:3320-1547227800-1547233200@northshorebaseball.ca
SUMMARY:9U (Tadpole) Bull Pen Winter Training
DESCRIPTION:More details…
URL:https://northshorebaseball.ca/event/9u-tadpole-bull-pen-winter-training-9/
LOCATION:Queen Mary Elementary School\, 230 West Keith Road\, North Vancouver\, British Columbia\, V7M 1L8\, Canada
CATEGORIES:Training
END:VEVENT
BEGIN:VEVENT
DTSTART;TZID=America/Vancouver:20190110T173000
DTEND;TZID=America/Vancouver:20190110T190000
DTSTAMP:20260419T200504
CREATED:20181208T042646Z
LAST-MODIFIED:20181208T042646Z
UID:3382-1547141400-1547146800@northshorebaseball.ca
SUMMARY:15U (Bantam) IP Winter Training
DESCRIPTION:More details…
URL:https://northshorebaseball.ca/event/15u-bantam-ip-winter-training-23/
LOCATION:Inside Performance\, #2 - 1500 Railway Street\, North Vancouver\, British Columbia\, V7J 1B5\, Canada
CATEGORIES:Training
END:VEVENT
BEGIN:VEVENT
DTSTART;TZID=America/Vancouver:20190108T173000
DTEND;TZID=America/Vancouver:20190108T190000
DTSTAMP:20260419T200504
CREATED:20181208T041517Z
LAST-MODIFIED:20181208T041517Z
UID:3352-1546968600-1546974000@northshorebaseball.ca
SUMMARY:13U (PeeWee) IP Winter Training
DESCRIPTION:More details…
URL:https://northshorebaseball.ca/event/13u-peewee-ip-winter-training-15/
LOCATION:Inside Performance\, #2 - 1500 Railway Street\, North Vancouver\, British Columbia\, V7J 1B5\, Canada
CATEGORIES:Training
END:VEVENT
BEGIN:VEVENT
DTSTART;TZID=America/Vancouver:20190107T193000
DTEND;TZID=America/Vancouver:20190107T210000
DTSTAMP:20260419T200504
CREATED:20181208T043247Z
LAST-MODIFIED:20181208T043247Z
UID:3393-1546889400-1546894800@northshorebaseball.ca
SUMMARY:18U (Midget) IP Winter Training
DESCRIPTION:More details…
URL:https://northshorebaseball.ca/event/18u-midget-ip-winter-training-8/
LOCATION:Inside Performance\, #2 - 1500 Railway Street\, North Vancouver\, British Columbia\, V7J 1B5\, Canada
CATEGORIES:Training
END:VEVENT
BEGIN:VEVENT
DTSTART;TZID=America/Vancouver:20190107T180000
DTEND;TZID=America/Vancouver:20190107T193000
DTSTAMP:20260419T200504
CREATED:20181208T042640Z
LAST-MODIFIED:20181208T042640Z
UID:3373-1546884000-1546889400@northshorebaseball.ca
SUMMARY:15U (Bantam) IP Winter Training
DESCRIPTION:More details…
URL:https://northshorebaseball.ca/event/15u-bantam-ip-winter-training-15/
LOCATION:Inside Performance\, #2 - 1500 Railway Street\, North Vancouver\, British Columbia\, V7J 1B5\, Canada
CATEGORIES:Training
END:VEVENT
BEGIN:VEVENT
DTSTART;VALUE=DATE:20190101
DTEND;VALUE=DATE:20190102
DTSTAMP:20260419T200504
CREATED:20180919T080004Z
LAST-MODIFIED:20220101T204444Z
UID:3151-1546300800-1546387199@northshorebaseball.ca
SUMMARY:New Year's Day
DESCRIPTION:Happy New Year’s
URL:https://northshorebaseball.ca/event/new-years-day-2019/
CATEGORIES:Holidays
END:VEVENT
BEGIN:VEVENT
DTSTART;VALUE=DATE:20181226
DTEND;VALUE=DATE:20181227
DTSTAMP:20260419T200504
CREATED:20171023T023945Z
LAST-MODIFIED:20220101T194055Z
UID:1483-1545782400-1545868799@northshorebaseball.ca
SUMMARY:Boxing Day
DESCRIPTION:
URL:https://northshorebaseball.ca/event/boxing-day-2018/
CATEGORIES:Holidays
END:VEVENT
BEGIN:VEVENT
DTSTART;VALUE=DATE:20181225
DTEND;VALUE=DATE:20181226
DTSTAMP:20260419T200504
CREATED:20171023T023600Z
LAST-MODIFIED:20220101T194612Z
UID:1478-1545696000-1545782399@northshorebaseball.ca
SUMMARY:Christmas Day
DESCRIPTION:Have a Merry Christmas
URL:https://northshorebaseball.ca/event/christmas-day-2018/
CATEGORIES:Holidays
END:VEVENT
BEGIN:VEVENT
DTSTART;VALUE=DATE:20181222
DTEND;VALUE=DATE:20190107
DTSTAMP:20260419T200504
CREATED:20180813T081501Z
LAST-MODIFIED:20180813T081501Z
UID:3100-1545436800-1546819199@northshorebaseball.ca
SUMMARY:Schools Closed
DESCRIPTION:Schools Closed – Winter Vacation (December 22\, 2018 – January 6\, 2019)
URL:https://northshorebaseball.ca/event/schools-closed-24/
CATEGORIES:Schools Closed
END:VEVENT
BEGIN:VEVENT
DTSTART;TZID=America/Vancouver:20181221T142200
DTEND;TZID=America/Vancouver:20181221T142200
DTSTAMP:20260419T200504
CREATED:20171023T014816Z
LAST-MODIFIED:20210827T024104Z
UID:1440-1545402120-1545402120@northshorebaseball.ca
SUMMARY:December Solstice
DESCRIPTION:First Day of Winter. \nWinter solstice is an astronomical phenomenon marking the shortest day and the longest night of the year.
URL:https://northshorebaseball.ca/event/december-solstice-2018/
CATEGORIES:Holidays
END:VEVENT
BEGIN:VEVENT
DTSTART;TZID=America/Vancouver:20181218T190000
DTEND;TZID=America/Vancouver:20181218T210000
DTSTAMP:20260419T200504
CREATED:20181218T060012Z
LAST-MODIFIED:20181218T060012Z
UID:3428-1545159600-1545166800@northshorebaseball.ca
SUMMARY:Board Meeting
DESCRIPTION:Board Meeting \nMeet in the Oak Room
URL:https://northshorebaseball.ca/event/board-meeting-17/
LOCATION:Delbrook Community Recreation Centre\, 851 West Queens Road\, North Vancouver\, British Columbia\, V7N 4E3\, Canada
CATEGORIES:Board Meetings
END:VEVENT
BEGIN:VEVENT
DTSTART;VALUE=DATE:20181218
DTEND;VALUE=DATE:20181219
DTSTAMP:20260419T200504
CREATED:20181105T054845Z
LAST-MODIFIED:20211216T022603Z
UID:3216-1545091200-1545177599@northshorebaseball.ca
SUMMARY:Early Bird Discount Ends
DESCRIPTION:The $25 early bird registration discount ends on December 18th. We have extended from December 15th.
URL:https://northshorebaseball.ca/event/early-bird-discount-ends-2019/
CATEGORIES:Important Dates
END:VEVENT
BEGIN:VEVENT
DTSTART;TZID=America/Vancouver:20181209T150000
DTEND;TZID=America/Vancouver:20181209T170000
DTSTAMP:20260419T200504
CREATED:20181208T024632Z
LAST-MODIFIED:20181208T024832Z
UID:3307-1544367600-1544374800@northshorebaseball.ca
SUMMARY:11U (Mosquito) Advanced Skills Assessments
DESCRIPTION:Assessments in Morven Campus Gym. \nMore details…
URL:https://northshorebaseball.ca/event/11u-mosquito-advanced-skills-assessments/
LOCATION:Collingwood School – Morven Campus\, 70 Morven Drive\, West Vancouver\, British Columbia\, V7S 1B2\, Canada
CATEGORIES:Evaluations
END:VEVENT
BEGIN:VEVENT
DTSTART;TZID=America/Vancouver:20181128T190000
DTEND;TZID=America/Vancouver:20181128T210000
DTSTAMP:20260419T200504
CREATED:20181105T060519Z
LAST-MODIFIED:20181105T060519Z
UID:3225-1543431600-1543438800@northshorebaseball.ca
SUMMARY:AGM
DESCRIPTION:2018 Annual General Meeting \nMeet in the Cedar Room on the 3rd Floor \nMore details…
URL:https://northshorebaseball.ca/event/agm-2018/
LOCATION:West Vancouver Community Centre\, 2121 Marine Drive\, West Vancouver\, British Columbia\, V7V 4Y2\, Canada
CATEGORIES:Important Dates,Meeting
END:VEVENT
BEGIN:VEVENT
DTSTART;VALUE=DATE:20181111
DTEND;VALUE=DATE:20181112
DTSTAMP:20260419T200504
CREATED:20171023T015817Z
LAST-MODIFIED:20220101T204804Z
UID:1450-1541894400-1541980799@northshorebaseball.ca
SUMMARY:Remembrance Day
DESCRIPTION:
URL:https://northshorebaseball.ca/event/remembrance-day-2018/
CATEGORIES:Holidays
END:VEVENT
BEGIN:VEVENT
DTSTART;VALUE=DATE:20181105
DTEND;VALUE=DATE:20181106
DTSTAMP:20260419T200504
CREATED:20181105T055249Z
LAST-MODIFIED:20211116T052311Z
UID:3218-1541376000-1541462399@northshorebaseball.ca
SUMMARY:Registration Opens
DESCRIPTION:North Shore Baseball Association Registration for the 2019 Spring Season is now open. \nRegister your child from November 1\, 2018 – January 31\, 2019. \nA $25 early bird discount if registered before December 16\, 2018.\nA $25 late fee if registered after January 15\, 2019.
URL:https://northshorebaseball.ca/event/registration-opens-2019/
CATEGORIES:Important Dates
END:VEVENT
BEGIN:VEVENT
DTSTART;TZID=America/Vancouver:20181104T020000
DTEND;TZID=America/Vancouver:20181104T020000
DTSTAMP:20260419T200504
CREATED:20171023T023458Z
LAST-MODIFIED:20220101T200126Z
UID:1476-1541296800-1541296800@northshorebaseball.ca
SUMMARY:Daylight Saving Time Ends
DESCRIPTION:Daylight Saving Time Ends – set clock 1 hour back.
URL:https://northshorebaseball.ca/event/daylight-saving-time-ends-2018/
END:VEVENT
BEGIN:VEVENT
DTSTART;VALUE=DATE:20181102
DTEND;VALUE=DATE:20181103
DTSTAMP:20260419T200504
CREATED:20180813T081110Z
LAST-MODIFIED:20180813T081209Z
UID:3097-1541116800-1541203199@northshorebaseball.ca
SUMMARY:Schools Closed
DESCRIPTION:Schools Closed – District-wide Non-Instructional Day
URL:https://northshorebaseball.ca/event/schools-closed-23/
CATEGORIES:Schools Closed
END:VEVENT
BEGIN:VEVENT
DTSTART;VALUE=DATE:20181031
DTEND;VALUE=DATE:20181101
DTSTAMP:20260419T200504
CREATED:20171023T021843Z
LAST-MODIFIED:20220101T202617Z
UID:1460-1540944000-1541030399@northshorebaseball.ca
SUMMARY:Halloween
DESCRIPTION:Happy Halloween
URL:https://northshorebaseball.ca/event/halloween-2018/
CATEGORIES:Holidays
END:VEVENT
BEGIN:VEVENT
DTSTART;TZID=America/Vancouver:20181029T190000
DTEND;TZID=America/Vancouver:20181029T210000
DTSTAMP:20260419T200504
CREATED:20181105T052930Z
LAST-MODIFIED:20181105T052930Z
UID:3211-1540839600-1540846800@northshorebaseball.ca
SUMMARY:Board Meeting
DESCRIPTION:Board Meeting \nMeet in the Loon Room
URL:https://northshorebaseball.ca/event/board-meeting-16/
LOCATION:Karen Magnussen Community Recreation Centre\, 2300 Kirkstone Road\, North Vancouver\, British Columbia\, V7J 1Z6\, Canada
CATEGORIES:Board Meetings
END:VEVENT
BEGIN:VEVENT
DTSTART;VALUE=DATE:20181019
DTEND;VALUE=DATE:20181020
DTSTAMP:20260419T200504
CREATED:20180813T080942Z
LAST-MODIFIED:20180813T081004Z
UID:3094-1539907200-1539993599@northshorebaseball.ca
SUMMARY:Schools Closed
DESCRIPTION:Schools Closed – Province-wide Professional Development Day
URL:https://northshorebaseball.ca/event/schools-closed-22/
CATEGORIES:Schools Closed
END:VEVENT
BEGIN:VEVENT
DTSTART;VALUE=DATE:20181008
DTEND;VALUE=DATE:20181009
DTSTAMP:20260419T200504
CREATED:20171023T015456Z
LAST-MODIFIED:20220101T211025Z
UID:1446-1538956800-1539043199@northshorebaseball.ca
SUMMARY:Thanksgiving Day
DESCRIPTION:
URL:https://northshorebaseball.ca/event/thanksgiving-day-2018/
CATEGORIES:Holidays
END:VEVENT
BEGIN:VEVENT
DTSTART;VALUE=DATE:20180928
DTEND;VALUE=DATE:20180929
DTSTAMP:20260419T200504
CREATED:20180813T080530Z
LAST-MODIFIED:20180813T080633Z
UID:3091-1538092800-1538179199@northshorebaseball.ca
SUMMARY:Schools Closed
DESCRIPTION:Schools Closed – School Based Non-Instructional Day
URL:https://northshorebaseball.ca/event/schools-closed-21/
CATEGORIES:Schools Closed
END:VEVENT
BEGIN:VEVENT
DTSTART;TZID=America/Vancouver:20180927T190000
DTEND;TZID=America/Vancouver:20180927T213000
DTSTAMP:20260419T200504
CREATED:20180924T235421Z
LAST-MODIFIED:20180924T235421Z
UID:3181-1538074800-1538083800@northshorebaseball.ca
SUMMARY:Sport Council Meeting for all District Candidates
DESCRIPTION:North Vancouver Sport Council’s Meeting for all District Candidates 2018 \nMore details…
URL:https://northshorebaseball.ca/event/sport-council-meeting-for-all-district-candidates/
LOCATION:Delbrook Community Recreation Centre\, 851 West Queens Road\, North Vancouver\, British Columbia\, V7N 4E3\, Canada
CATEGORIES:Meeting
END:VEVENT
BEGIN:VEVENT
DTSTART;TZID=America/Vancouver:20180926T183000
DTEND;TZID=America/Vancouver:20180926T210000
DTSTAMP:20260419T200504
CREATED:20180924T235150Z
LAST-MODIFIED:20180924T235439Z
UID:3179-1537986600-1537995600@northshorebaseball.ca
SUMMARY:Sport Council Meeting for all City Candidates
DESCRIPTION:North Vancouver Sport Council’s Meeting for all City Candidates 2018 \nMore details…
URL:https://northshorebaseball.ca/event/sport-council-meeting-for-all-city-candidates/
LOCATION:John Braithwaite Community Centre\, 145 West 1st Street\, North Vancouver\, British Columbia\, V7M 3N8\, Canada
CATEGORIES:Meeting
END:VEVENT
END:VCALENDAR