BEGIN:VCALENDAR
VERSION:2.0
PRODID:-//North Shore Baseball Association - ECPv6.15.13.1//NONSGML v1.0//EN
CALSCALE:GREGORIAN
METHOD:PUBLISH
X-WR-CALNAME:North Shore Baseball Association
X-ORIGINAL-URL:https://northshorebaseball.ca
X-WR-CALDESC:Events for North Shore Baseball Association
REFRESH-INTERVAL;VALUE=DURATION:PT1H
X-Robots-Tag:noindex
X-PUBLISHED-TTL:PT1H
BEGIN:VTIMEZONE
TZID:America/Vancouver
BEGIN:DAYLIGHT
TZOFFSETFROM:-0800
TZOFFSETTO:-0700
TZNAME:PDT
DTSTART:20180311T100000
END:DAYLIGHT
BEGIN:STANDARD
TZOFFSETFROM:-0700
TZOFFSETTO:-0800
TZNAME:PST
DTSTART:20181104T090000
END:STANDARD
BEGIN:DAYLIGHT
TZOFFSETFROM:-0800
TZOFFSETTO:-0700
TZNAME:PDT
DTSTART:20190310T100000
END:DAYLIGHT
BEGIN:STANDARD
TZOFFSETFROM:-0700
TZOFFSETTO:-0800
TZNAME:PST
DTSTART:20191103T090000
END:STANDARD
BEGIN:DAYLIGHT
TZOFFSETFROM:-0800
TZOFFSETTO:-0700
TZNAME:PDT
DTSTART:20200308T100000
END:DAYLIGHT
BEGIN:STANDARD
TZOFFSETFROM:-0700
TZOFFSETTO:-0800
TZNAME:PST
DTSTART:20201101T090000
END:STANDARD
END:VTIMEZONE
BEGIN:VEVENT
DTSTART;TZID=America/Vancouver:20190212T173000
DTEND;TZID=America/Vancouver:20190212T190000
DTSTAMP:20260419T112534
CREATED:20181208T041522Z
LAST-MODIFIED:20181208T041522Z
UID:3357-1549992600-1549998000@northshorebaseball.ca
SUMMARY:13U (PeeWee) IP Winter Training
DESCRIPTION:More details…
URL:https://northshorebaseball.ca/event/13u-peewee-ip-winter-training-20/
LOCATION:Inside Performance\, #2 - 1500 Railway Street\, North Vancouver\, British Columbia\, V7J 1B5\, Canada
CATEGORIES:Training
END:VEVENT
BEGIN:VEVENT
DTSTART;TZID=America/Vancouver:20190211T193000
DTEND;TZID=America/Vancouver:20190211T210000
DTSTAMP:20260419T112534
CREATED:20181208T043252Z
LAST-MODIFIED:20181208T043252Z
UID:3398-1549913400-1549918800@northshorebaseball.ca
SUMMARY:18U (Midget) IP Winter Training
DESCRIPTION:More details…
URL:https://northshorebaseball.ca/event/18u-midget-ip-winter-training-13/
LOCATION:Inside Performance\, #2 - 1500 Railway Street\, North Vancouver\, British Columbia\, V7J 1B5\, Canada
CATEGORIES:Training
END:VEVENT
BEGIN:VEVENT
DTSTART;TZID=America/Vancouver:20190211T180000
DTEND;TZID=America/Vancouver:20190211T193000
DTSTAMP:20260419T112534
CREATED:20181208T042645Z
LAST-MODIFIED:20181208T042645Z
UID:3378-1549908000-1549913400@northshorebaseball.ca
SUMMARY:15U (Bantam) IP Winter Training
DESCRIPTION:More details…
URL:https://northshorebaseball.ca/event/15u-bantam-ip-winter-training-20/
LOCATION:Inside Performance\, #2 - 1500 Railway Street\, North Vancouver\, British Columbia\, V7J 1B5\, Canada
CATEGORIES:Training
END:VEVENT
BEGIN:VEVENT
DTSTART;TZID=America/Vancouver:20190210T203000
DTEND;TZID=America/Vancouver:20190210T220000
DTSTAMP:20260419T112534
CREATED:20190114T024118Z
LAST-MODIFIED:20190114T024119Z
UID:3532-1549830600-1549836000@northshorebaseball.ca
SUMMARY:18U (Midget) AAA Tryouts
DESCRIPTION:More details…
URL:https://northshorebaseball.ca/event/18u-midget-aaa-tryouts-9/
LOCATION:Inside Performance\, #2 - 1500 Railway Street\, North Vancouver\, British Columbia\, V7J 1B5\, Canada
CATEGORIES:Evaluations
END:VEVENT
BEGIN:VEVENT
DTSTART;TZID=America/Vancouver:20190210T150000
DTEND;TZID=America/Vancouver:20190210T163000
DTSTAMP:20260419T112534
CREATED:20181208T032518Z
LAST-MODIFIED:20181208T032518Z
UID:3336-1549810800-1549816200@northshorebaseball.ca
SUMMARY:11U (Mosquito) IP Advanced Skills Winter Training
DESCRIPTION:More details…
URL:https://northshorebaseball.ca/event/11u-mosquito-ip-advanced-skills-winter-training-5/
LOCATION:Inside Performance\, #2 - 1500 Railway Street\, North Vancouver\, British Columbia\, V7J 1B5\, Canada
CATEGORIES:Training
END:VEVENT
BEGIN:VEVENT
DTSTART;TZID=America/Vancouver:20190210T140000
DTEND;TZID=America/Vancouver:20190210T150000
DTSTAMP:20260419T112534
CREATED:20181208T030950Z
LAST-MODIFIED:20181208T030950Z
UID:3315-1549807200-1549810800@northshorebaseball.ca
SUMMARY:9U (Tadpole) IP Winter Training
DESCRIPTION:More details…
URL:https://northshorebaseball.ca/event/9u-tadpole-ip-winter-training-12/
LOCATION:Inside Performance\, #2 - 1500 Railway Street\, North Vancouver\, British Columbia\, V7J 1B5\, Canada
CATEGORIES:Training
END:VEVENT
BEGIN:VEVENT
DTSTART;TZID=America/Vancouver:20190209T120000
DTEND;TZID=America/Vancouver:20190209T160000
DTSTAMP:20260419T112534
CREATED:20181230T031406Z
LAST-MODIFIED:20181231T031312Z
UID:3474-1549713600-1549728000@northshorebaseball.ca
SUMMARY:13U (PeeWee) 1st Evaluations
DESCRIPTION:Assessments in the enclosed “bubble”\, next to the gravel field. \nThis is mandatory for all 13U (PeeWee) players. This assessment helps NSBA assess your player’s skill level and will help determine players playing on the “A” or “AA” spring teams. \nMore details…
URL:https://northshorebaseball.ca/event/13u-peewee-evaluations-3/
LOCATION:Lions Gate Christian Academy\, 919 Tollcross Road\, North Vancouver\, British Columbia\, V7H 2G3\, Canada
CATEGORIES:Evaluations
END:VEVENT
BEGIN:VEVENT
DTSTART;TZID=America/Vancouver:20190209T100000
DTEND;TZID=America/Vancouver:20190209T120000
DTSTAMP:20260419T112534
CREATED:20190114T023951Z
LAST-MODIFIED:20190114T023951Z
UID:3530-1549706400-1549713600@northshorebaseball.ca
SUMMARY:18U (Midget) AAA Tryouts
DESCRIPTION:More details…
URL:https://northshorebaseball.ca/event/18u-midget-aaa-tryouts-8/
LOCATION:Kinsmen Field\, 1905 Jones Avenue\, North Vancouver\, British Columbia\, Canada
CATEGORIES:Evaluations
END:VEVENT
BEGIN:VEVENT
DTSTART;TZID=America/Vancouver:20190208T190000
DTEND;TZID=America/Vancouver:20190208T203000
DTSTAMP:20260419T112534
CREATED:20181208T041524Z
LAST-MODIFIED:20181208T041524Z
UID:3365-1549652400-1549657800@northshorebaseball.ca
SUMMARY:13U (PeeWee) Bull Pen Winter Training
DESCRIPTION:More details…
URL:https://northshorebaseball.ca/event/13u-peewee-bull-pen-winter-training-13/
LOCATION:Queen Mary Elementary School\, 230 West Keith Road\, North Vancouver\, British Columbia\, V7M 1L8\, Canada
CATEGORIES:Training
END:VEVENT
BEGIN:VEVENT
DTSTART;TZID=America/Vancouver:20190208T173000
DTEND;TZID=America/Vancouver:20190208T190000
DTSTAMP:20260419T112534
CREATED:20190114T023846Z
LAST-MODIFIED:20190114T023846Z
UID:3528-1549647000-1549652400@northshorebaseball.ca
SUMMARY:18U (Midget) AAA Tryouts
DESCRIPTION:More details…
URL:https://northshorebaseball.ca/event/18u-midget-aaa-tryouts-7/
LOCATION:Windsor Soccer Bubble\, 931 Broadview Drive\, North Vancouver\, British Columbia\, V7H 2E9\, Canada
CATEGORIES:Evaluations
END:VEVENT
BEGIN:VEVENT
DTSTART;TZID=America/Vancouver:20190208T173000
DTEND;TZID=America/Vancouver:20190208T190000
DTSTAMP:20260419T112534
CREATED:20181208T032524Z
LAST-MODIFIED:20181208T032524Z
UID:3345-1549647000-1549652400@northshorebaseball.ca
SUMMARY:11U (Mosquito) IP Fundamental Skills Winter Training
DESCRIPTION:More details…
URL:https://northshorebaseball.ca/event/11u-mosquito-ip-fundamental-skills-winter-training-5/
LOCATION:Inside Performance\, #2 - 1500 Railway Street\, North Vancouver\, British Columbia\, V7J 1B5\, Canada
CATEGORIES:Training
END:VEVENT
BEGIN:VEVENT
DTSTART;TZID=America/Vancouver:20190208T173000
DTEND;TZID=America/Vancouver:20190208T190000
DTSTAMP:20260419T112534
CREATED:20181208T030957Z
LAST-MODIFIED:20181208T030957Z
UID:3324-1549647000-1549652400@northshorebaseball.ca
SUMMARY:9U (Tadpole) Bull Pen Winter Training
DESCRIPTION:More details…
URL:https://northshorebaseball.ca/event/9u-tadpole-bull-pen-winter-training-13/
LOCATION:Queen Mary Elementary School\, 230 West Keith Road\, North Vancouver\, British Columbia\, V7M 1L8\, Canada
CATEGORIES:Training
END:VEVENT
BEGIN:VEVENT
DTSTART;TZID=America/Vancouver:20190207T173000
DTEND;TZID=America/Vancouver:20190207T190000
DTSTAMP:20260419T112534
CREATED:20181208T042648Z
LAST-MODIFIED:20181208T042648Z
UID:3386-1549560600-1549566000@northshorebaseball.ca
SUMMARY:15U (Bantam) IP Winter Training
DESCRIPTION:More details…
URL:https://northshorebaseball.ca/event/15u-bantam-ip-winter-training-27/
LOCATION:Inside Performance\, #2 - 1500 Railway Street\, North Vancouver\, British Columbia\, V7J 1B5\, Canada
CATEGORIES:Training
END:VEVENT
BEGIN:VEVENT
DTSTART;TZID=America/Vancouver:20190205T173000
DTEND;TZID=America/Vancouver:20190205T190000
DTSTAMP:20260419T112534
CREATED:20181208T041518Z
LAST-MODIFIED:20181208T041518Z
UID:3356-1549387800-1549393200@northshorebaseball.ca
SUMMARY:13U (PeeWee) IP Winter Training
DESCRIPTION:More details…
URL:https://northshorebaseball.ca/event/13u-peewee-ip-winter-training-19/
LOCATION:Inside Performance\, #2 - 1500 Railway Street\, North Vancouver\, British Columbia\, V7J 1B5\, Canada
CATEGORIES:Training
END:VEVENT
BEGIN:VEVENT
DTSTART;TZID=America/Vancouver:20190204T193000
DTEND;TZID=America/Vancouver:20190204T210000
DTSTAMP:20260419T112534
CREATED:20181208T043248Z
LAST-MODIFIED:20181208T043248Z
UID:3397-1549308600-1549314000@northshorebaseball.ca
SUMMARY:18U (Midget) IP Winter Training
DESCRIPTION:More details…
URL:https://northshorebaseball.ca/event/18u-midget-ip-winter-training-12/
LOCATION:Inside Performance\, #2 - 1500 Railway Street\, North Vancouver\, British Columbia\, V7J 1B5\, Canada
CATEGORIES:Training
END:VEVENT
BEGIN:VEVENT
DTSTART;TZID=America/Vancouver:20190204T180000
DTEND;TZID=America/Vancouver:20190204T193000
DTSTAMP:20260419T112534
CREATED:20181208T042641Z
LAST-MODIFIED:20181208T042641Z
UID:3377-1549303200-1549308600@northshorebaseball.ca
SUMMARY:15U (Bantam) IP Winter Training
DESCRIPTION:More details…
URL:https://northshorebaseball.ca/event/15u-bantam-ip-winter-training-19/
LOCATION:Inside Performance\, #2 - 1500 Railway Street\, North Vancouver\, British Columbia\, V7J 1B5\, Canada
CATEGORIES:Training
END:VEVENT
BEGIN:VEVENT
DTSTART;TZID=America/Vancouver:20190203T150000
DTEND;TZID=America/Vancouver:20190203T163000
DTSTAMP:20260419T112534
CREATED:20181208T032517Z
LAST-MODIFIED:20181208T032517Z
UID:3335-1549206000-1549211400@northshorebaseball.ca
SUMMARY:11U (Mosquito) IP Advanced Skills Winter Training
DESCRIPTION:More details…
URL:https://northshorebaseball.ca/event/11u-mosquito-ip-advanced-skills-winter-training-4/
LOCATION:Inside Performance\, #2 - 1500 Railway Street\, North Vancouver\, British Columbia\, V7J 1B5\, Canada
CATEGORIES:Training
END:VEVENT
BEGIN:VEVENT
DTSTART;TZID=America/Vancouver:20190203T140000
DTEND;TZID=America/Vancouver:20190203T150000
DTSTAMP:20260419T112534
CREATED:20181208T030950Z
LAST-MODIFIED:20181208T030950Z
UID:3314-1549202400-1549206000@northshorebaseball.ca
SUMMARY:9U (Tadpole) IP Winter Training
DESCRIPTION:More details…
URL:https://northshorebaseball.ca/event/9u-tadpole-ip-winter-training-11/
LOCATION:Inside Performance\, #2 - 1500 Railway Street\, North Vancouver\, British Columbia\, V7J 1B5\, Canada
CATEGORIES:Training
END:VEVENT
BEGIN:VEVENT
DTSTART;TZID=America/Vancouver:20190203T123000
DTEND;TZID=America/Vancouver:20190203T143000
DTSTAMP:20260419T112534
CREATED:20190114T023737Z
LAST-MODIFIED:20190114T023737Z
UID:3526-1549197000-1549204200@northshorebaseball.ca
SUMMARY:18U (Midget) AAA Tryouts
DESCRIPTION:More details…
URL:https://northshorebaseball.ca/event/18u-midget-aaa-tryouts-6/
LOCATION:Kinsmen Field\, 1905 Jones Avenue\, North Vancouver\, British Columbia\, Canada
CATEGORIES:Evaluations
END:VEVENT
BEGIN:VEVENT
DTSTART;TZID=America/Vancouver:20190203T110000
DTEND;TZID=America/Vancouver:20190203T150000
DTSTAMP:20260419T112534
CREATED:20181229T070108Z
LAST-MODIFIED:20190108T035655Z
UID:3454-1549191600-1549206000@northshorebaseball.ca
SUMMARY:11U (Mosquito) 1st Evaluations
DESCRIPTION:Assessments in the enclosed “bubble”\, next to the gravel field. \nThis is mandatory for all 11U (Mosquito) players. This evaluation helps NSBA assess your player’s skill level and will help determine players playing on the AL and NL spring teams. \nMore details…
URL:https://northshorebaseball.ca/event/11u-mosquito-evaluations-3/
LOCATION:Lions Gate Christian Academy\, 919 Tollcross Road\, North Vancouver\, British Columbia\, V7H 2G3\, Canada
CATEGORIES:Evaluations
END:VEVENT
BEGIN:VEVENT
DTSTART;TZID=America/Vancouver:20190202T100000
DTEND;TZID=America/Vancouver:20190202T120000
DTSTAMP:20260419T112534
CREATED:20190114T020355Z
LAST-MODIFIED:20190114T021147Z
UID:3522-1549101600-1549108800@northshorebaseball.ca
SUMMARY:18U (Midget) AAA Tryouts
DESCRIPTION:More details…
URL:https://northshorebaseball.ca/event/18u-midget-aaa-tryouts-5/
LOCATION:Kinsmen Field\, 1905 Jones Avenue\, North Vancouver\, British Columbia\, Canada
CATEGORIES:Evaluations
END:VEVENT
BEGIN:VEVENT
DTSTART;VALUE=DATE:20190202
DTEND;VALUE=DATE:20190203
DTSTAMP:20260419T112534
CREATED:20180919T074921Z
LAST-MODIFIED:20220101T202112Z
UID:3141-1549065600-1549151999@northshorebaseball.ca
SUMMARY:Groundhog Day
DESCRIPTION:
URL:https://northshorebaseball.ca/event/groundhog-day-2019/
LOCATION:British Columbia
CATEGORIES:Holidays
END:VEVENT
BEGIN:VEVENT
DTSTART;TZID=America/Vancouver:20190201T190000
DTEND;TZID=America/Vancouver:20190201T203000
DTSTAMP:20260419T112534
CREATED:20181208T041524Z
LAST-MODIFIED:20181208T041524Z
UID:3364-1549047600-1549053000@northshorebaseball.ca
SUMMARY:13U (PeeWee) Bull Pen Winter Training
DESCRIPTION:More details…
URL:https://northshorebaseball.ca/event/13u-peewee-bull-pen-winter-training-12/
LOCATION:Queen Mary Elementary School\, 230 West Keith Road\, North Vancouver\, British Columbia\, V7M 1L8\, Canada
CATEGORIES:Training
END:VEVENT
BEGIN:VEVENT
DTSTART;TZID=America/Vancouver:20190201T173000
DTEND;TZID=America/Vancouver:20190201T190000
DTSTAMP:20260419T112534
CREATED:20181208T032524Z
LAST-MODIFIED:20181208T032524Z
UID:3344-1549042200-1549047600@northshorebaseball.ca
SUMMARY:11U (Mosquito) IP Fundamental Skills Winter Training
DESCRIPTION:More details…
URL:https://northshorebaseball.ca/event/11u-mosquito-ip-fundamental-skills-winter-training-4/
LOCATION:Inside Performance\, #2 - 1500 Railway Street\, North Vancouver\, British Columbia\, V7J 1B5\, Canada
CATEGORIES:Training
END:VEVENT
BEGIN:VEVENT
DTSTART;TZID=America/Vancouver:20190201T173000
DTEND;TZID=America/Vancouver:20190201T190000
DTSTAMP:20260419T112534
CREATED:20181208T030957Z
LAST-MODIFIED:20181208T030957Z
UID:3323-1549042200-1549047600@northshorebaseball.ca
SUMMARY:9U (Tadpole) Bull Pen Winter Training
DESCRIPTION:More details…
URL:https://northshorebaseball.ca/event/9u-tadpole-bull-pen-winter-training-12/
LOCATION:Queen Mary Elementary School\, 230 West Keith Road\, North Vancouver\, British Columbia\, V7M 1L8\, Canada
CATEGORIES:Training
END:VEVENT
BEGIN:VEVENT
DTSTART;VALUE=DATE:20190201
DTEND;VALUE=DATE:20190202
DTSTAMP:20260419T112534
CREATED:20181105T054630Z
LAST-MODIFIED:20211116T052058Z
UID:3214-1548979200-1549065599@northshorebaseball.ca
SUMMARY:Late Registration Fee Starts
DESCRIPTION:A late registration fee of $25 will be charged to players who register after January 15th. We have extended this date to after January 31st.
URL:https://northshorebaseball.ca/event/late-registration-fee-starts-2019/
LOCATION:British Columbia
CATEGORIES:Important Dates
END:VEVENT
BEGIN:VEVENT
DTSTART;TZID=America/Vancouver:20190131T173000
DTEND;TZID=America/Vancouver:20190131T190000
DTSTAMP:20260419T112534
CREATED:20181208T042647Z
LAST-MODIFIED:20181208T042647Z
UID:3385-1548955800-1548961200@northshorebaseball.ca
SUMMARY:15U (Bantam) IP Winter Training
DESCRIPTION:More details…
URL:https://northshorebaseball.ca/event/15u-bantam-ip-winter-training-26/
LOCATION:Inside Performance\, #2 - 1500 Railway Street\, North Vancouver\, British Columbia\, V7J 1B5\, Canada
CATEGORIES:Training
END:VEVENT
BEGIN:VEVENT
DTSTART;VALUE=DATE:20190131
DTEND;VALUE=DATE:20190201
DTSTAMP:20260419T112534
CREATED:20181105T055556Z
LAST-MODIFIED:20211116T052950Z
UID:3220-1548892800-1548979199@northshorebaseball.ca
SUMMARY:Registration Deadline
DESCRIPTION:North Shore Baseball Association Registration for the 2019 Spring Season deadline.
URL:https://northshorebaseball.ca/event/registration-deadline-2019/
LOCATION:British Columbia
CATEGORIES:Important Dates
END:VEVENT
BEGIN:VEVENT
DTSTART;TZID=America/Vancouver:20190129T173000
DTEND;TZID=America/Vancouver:20190129T190000
DTSTAMP:20260419T112534
CREATED:20181208T041517Z
LAST-MODIFIED:20181208T041517Z
UID:3355-1548783000-1548788400@northshorebaseball.ca
SUMMARY:13U (PeeWee) IP Winter Training
DESCRIPTION:More details…
URL:https://northshorebaseball.ca/event/13u-peewee-ip-winter-training-18/
LOCATION:Inside Performance\, #2 - 1500 Railway Street\, North Vancouver\, British Columbia\, V7J 1B5\, Canada
CATEGORIES:Training
END:VEVENT
BEGIN:VEVENT
DTSTART;TZID=America/Vancouver:20190128T193000
DTEND;TZID=America/Vancouver:20190128T210000
DTSTAMP:20260419T112534
CREATED:20181208T043248Z
LAST-MODIFIED:20181208T043248Z
UID:3396-1548703800-1548709200@northshorebaseball.ca
SUMMARY:18U (Midget) IP Winter Training
DESCRIPTION:More details…
URL:https://northshorebaseball.ca/event/18u-midget-ip-winter-training-11/
LOCATION:Inside Performance\, #2 - 1500 Railway Street\, North Vancouver\, British Columbia\, V7J 1B5\, Canada
CATEGORIES:Training
END:VEVENT
END:VCALENDAR