BEGIN:VCALENDAR
VERSION:2.0
PRODID:-//North Shore Baseball Association - ECPv6.15.13.1//NONSGML v1.0//EN
CALSCALE:GREGORIAN
METHOD:PUBLISH
X-ORIGINAL-URL:https://northshorebaseball.ca
X-WR-CALDESC:Events for North Shore Baseball Association
REFRESH-INTERVAL;VALUE=DURATION:PT1H
X-Robots-Tag:noindex
X-PUBLISHED-TTL:PT1H
BEGIN:VTIMEZONE
TZID:America/Vancouver
BEGIN:DAYLIGHT
TZOFFSETFROM:-0800
TZOFFSETTO:-0700
TZNAME:PDT
DTSTART:20180311T100000
END:DAYLIGHT
BEGIN:STANDARD
TZOFFSETFROM:-0700
TZOFFSETTO:-0800
TZNAME:PST
DTSTART:20181104T090000
END:STANDARD
BEGIN:DAYLIGHT
TZOFFSETFROM:-0800
TZOFFSETTO:-0700
TZNAME:PDT
DTSTART:20190310T100000
END:DAYLIGHT
BEGIN:STANDARD
TZOFFSETFROM:-0700
TZOFFSETTO:-0800
TZNAME:PST
DTSTART:20191103T090000
END:STANDARD
BEGIN:DAYLIGHT
TZOFFSETFROM:-0800
TZOFFSETTO:-0700
TZNAME:PDT
DTSTART:20200308T100000
END:DAYLIGHT
BEGIN:STANDARD
TZOFFSETFROM:-0700
TZOFFSETTO:-0800
TZNAME:PST
DTSTART:20201101T090000
END:STANDARD
BEGIN:DAYLIGHT
TZOFFSETFROM:-0800
TZOFFSETTO:-0700
TZNAME:PDT
DTSTART:20210314T100000
END:DAYLIGHT
BEGIN:STANDARD
TZOFFSETFROM:-0700
TZOFFSETTO:-0800
TZNAME:PST
DTSTART:20211107T090000
END:STANDARD
BEGIN:DAYLIGHT
TZOFFSETFROM:-0800
TZOFFSETTO:-0700
TZNAME:PDT
DTSTART:20220313T100000
END:DAYLIGHT
BEGIN:STANDARD
TZOFFSETFROM:-0700
TZOFFSETTO:-0800
TZNAME:PST
DTSTART:20221106T090000
END:STANDARD
BEGIN:DAYLIGHT
TZOFFSETFROM:-0800
TZOFFSETTO:-0700
TZNAME:PDT
DTSTART:20230312T100000
END:DAYLIGHT
BEGIN:STANDARD
TZOFFSETFROM:-0700
TZOFFSETTO:-0800
TZNAME:PST
DTSTART:20231105T090000
END:STANDARD
BEGIN:DAYLIGHT
TZOFFSETFROM:-0800
TZOFFSETTO:-0700
TZNAME:PDT
DTSTART:20240310T100000
END:DAYLIGHT
BEGIN:STANDARD
TZOFFSETFROM:-0700
TZOFFSETTO:-0800
TZNAME:PST
DTSTART:20241103T090000
END:STANDARD
BEGIN:DAYLIGHT
TZOFFSETFROM:-0800
TZOFFSETTO:-0700
TZNAME:PDT
DTSTART:20250309T100000
END:DAYLIGHT
BEGIN:STANDARD
TZOFFSETFROM:-0700
TZOFFSETTO:-0800
TZNAME:PST
DTSTART:20251102T090000
END:STANDARD
END:VTIMEZONE
BEGIN:VEVENT
DTSTART;TZID=America/Vancouver:20190309T110000
DTEND;TZID=America/Vancouver:20190309T150000
DTSTAMP:20260425T085649
CREATED:20181228T082157Z
LAST-MODIFIED:20181231T031013Z
UID:3447-1552129200-1552143600@northshorebaseball.ca
SUMMARY:9U (Tadpole) Evaluations
DESCRIPTION:Assessments in the enclosed “bubble”\, next to the gravel field. \nMore details…
URL:https://northshorebaseball.ca/event/9u-tadpole-evaluations-3/
LOCATION:Lions Gate Christian Academy\, 919 Tollcross Road\, North Vancouver\, British Columbia\, V7H 2G3\, Canada
CATEGORIES:Evaluations
END:VEVENT
BEGIN:VEVENT
DTSTART;VALUE=DATE:20210207
DTEND;VALUE=DATE:20210214
DTSTAMP:20260425T085649
CREATED:20210131T001314Z
LAST-MODIFIED:20210131T001539Z
UID:5567-1612656000-1613260799@northshorebaseball.ca
SUMMARY:Evaluation Week
DESCRIPTION:
URL:https://northshorebaseball.ca/event/evaluation-week-3/
LOCATION:British Columbia
CATEGORIES:Evaluations,Important Dates,Training
END:VEVENT
BEGIN:VEVENT
DTSTART;TZID=America/Vancouver:20210320T080000
DTEND;TZID=America/Vancouver:20210320T150000
DTSTAMP:20260425T085649
CREATED:20210315T021355Z
LAST-MODIFIED:20210315T021355Z
UID:5622-1616227200-1616252400@northshorebaseball.ca
SUMMARY:11U (Mosquito) Evaluations
DESCRIPTION:More details…
URL:https://northshorebaseball.ca/event/11u-mosquito-evaluations-4/
LOCATION:Eldon Park\, 4010 Ruby Avenue\, North Vancouver\, British Columbia\, V7R 4B2\, Canada
CATEGORIES:Evaluations,Important Dates
END:VEVENT
BEGIN:VEVENT
DTSTART;VALUE=DATE:20240108
DTEND;VALUE=DATE:20240109
DTSTAMP:20260425T085649
CREATED:20240115T011546Z
LAST-MODIFIED:20240116T031248Z
UID:7088-1704672000-1704758399@northshorebaseball.ca
SUMMARY:18U College Prep Tryouts
DESCRIPTION:
URL:https://northshorebaseball.ca/event/18u-college-prep-tryouts/
LOCATION:British Columbia
CATEGORIES:Evaluations
END:VEVENT
BEGIN:VEVENT
DTSTART;TZID=America/Vancouver:20240203T020000
DTEND;TZID=America/Vancouver:20240203T153000
DTSTAMP:20260425T085649
CREATED:20240206T042848Z
LAST-MODIFIED:20240206T042856Z
UID:7113-1706925600-1706974200@northshorebaseball.ca
SUMMARY:18U AAA Tryouts
DESCRIPTION:
URL:https://northshorebaseball.ca/event/18u-aaa-tryouts-2024/
LOCATION:Inside Performance\, #2 - 1500 Railway Street\, North Vancouver\, British Columbia\, V7J 1B5\, Canada
CATEGORIES:Evaluations
END:VEVENT
BEGIN:VEVENT
DTSTART;TZID=America/Vancouver:20240205T170000
DTEND;TZID=America/Vancouver:20240205T190000
DTSTAMP:20260425T085649
CREATED:20240206T043204Z
LAST-MODIFIED:20240206T043204Z
UID:7117-1707152400-1707159600@northshorebaseball.ca
SUMMARY:13U AA/AAA Tryouts
DESCRIPTION:
URL:https://northshorebaseball.ca/event/13u-aa-aaa-tryouts-2024/
LOCATION:Inside Performance\, #2 - 1500 Railway Street\, North Vancouver\, British Columbia\, V7J 1B5\, Canada
CATEGORIES:Evaluations
END:VEVENT
BEGIN:VEVENT
DTSTART;TZID=America/Vancouver:20240205T190000
DTEND;TZID=America/Vancouver:20240205T220000
DTSTAMP:20260425T085649
CREATED:20240115T011337Z
LAST-MODIFIED:20240206T043036Z
UID:7082-1707159600-1707170400@northshorebaseball.ca
SUMMARY:15U AA/AAA Tryouts
DESCRIPTION:
URL:https://northshorebaseball.ca/event/13u-15u-18u-aaa-tryouts/
LOCATION:Inside Performance\, #2 - 1500 Railway Street\, North Vancouver\, British Columbia\, V7J 1B5\, Canada
CATEGORIES:Evaluations
END:VEVENT
BEGIN:VEVENT
DTSTART;VALUE=DATE:20240211
DTEND;VALUE=DATE:20240212
DTSTAMP:20260425T085649
CREATED:20240115T011408Z
LAST-MODIFIED:20240206T044014Z
UID:7084-1707609600-1707695999@northshorebaseball.ca
SUMMARY:13U\, 15U AA/AAA Tryouts
DESCRIPTION:
URL:https://northshorebaseball.ca/event/13u-15u-aa-aaa-tryouts-2024/
LOCATION:Inside Performance\, #2 - 1500 Railway Street\, North Vancouver\, British Columbia\, V7J 1B5\, Canada
CATEGORIES:Evaluations
END:VEVENT
BEGIN:VEVENT
DTSTART;TZID=America/Vancouver:20240211T210000
DTEND;TZID=America/Vancouver:20240211T220000
DTSTAMP:20260425T085649
CREATED:20240206T043500Z
LAST-MODIFIED:20240206T043929Z
UID:7119-1707685200-1707688800@northshorebaseball.ca
SUMMARY:18U AAA Tryouts
DESCRIPTION:
URL:https://northshorebaseball.ca/event/18u-aaa-tryouts-2024-2/
LOCATION:Travail East Van Facility\, 2696 Nootka St\, Vancouver\, British Columbia\, V5M 3M5\, Canada
CATEGORIES:Evaluations
END:VEVENT
BEGIN:VEVENT
DTSTART;VALUE=DATE:20240216
DTEND;VALUE=DATE:20240217
DTSTAMP:20260425T085649
CREATED:20240115T011507Z
LAST-MODIFIED:20240116T054556Z
UID:7086-1708041600-1708127999@northshorebaseball.ca
SUMMARY:13U\, 15U\, 18U AAA Tryouts
DESCRIPTION:
URL:https://northshorebaseball.ca/event/13u-15u-18u-aaa-tryouts-3/
LOCATION:British Columbia
CATEGORIES:Evaluations
END:VEVENT
END:VCALENDAR