BEGIN:VCALENDAR
VERSION:2.0
PRODID:-//North Shore Baseball Association - ECPv6.15.13.1//NONSGML v1.0//EN
CALSCALE:GREGORIAN
METHOD:PUBLISH
X-ORIGINAL-URL:https://northshorebaseball.ca
X-WR-CALDESC:Events for North Shore Baseball Association
REFRESH-INTERVAL;VALUE=DURATION:PT1H
X-Robots-Tag:noindex
X-PUBLISHED-TTL:PT1H
BEGIN:VTIMEZONE
TZID:America/Vancouver
BEGIN:DAYLIGHT
TZOFFSETFROM:-0800
TZOFFSETTO:-0700
TZNAME:PDT
DTSTART:20180311T100000
END:DAYLIGHT
BEGIN:STANDARD
TZOFFSETFROM:-0700
TZOFFSETTO:-0800
TZNAME:PST
DTSTART:20181104T090000
END:STANDARD
BEGIN:DAYLIGHT
TZOFFSETFROM:-0800
TZOFFSETTO:-0700
TZNAME:PDT
DTSTART:20190310T100000
END:DAYLIGHT
BEGIN:STANDARD
TZOFFSETFROM:-0700
TZOFFSETTO:-0800
TZNAME:PST
DTSTART:20191103T090000
END:STANDARD
BEGIN:DAYLIGHT
TZOFFSETFROM:-0800
TZOFFSETTO:-0700
TZNAME:PDT
DTSTART:20200308T100000
END:DAYLIGHT
BEGIN:STANDARD
TZOFFSETFROM:-0700
TZOFFSETTO:-0800
TZNAME:PST
DTSTART:20201101T090000
END:STANDARD
END:VTIMEZONE
BEGIN:VEVENT
DTSTART;VALUE=DATE:20190224
DTEND;VALUE=DATE:20190304
DTSTAMP:20260424T133139
CREATED:20181208T020602Z
LAST-MODIFIED:20181231T030122Z
UID:3296-1550966400-1551657599@northshorebaseball.ca
SUMMARY:Evaluation Week
DESCRIPTION:Evaluation Week for the 9U\, 11U\, 13U\, 15U and 18U divisions. More info to follow.
URL:https://northshorebaseball.ca/event/evaluation-week-2/
LOCATION:British Columbia
CATEGORIES:Evaluations,Important Dates,Training
END:VEVENT
BEGIN:VEVENT
DTSTART;TZID=America/Vancouver:20190302T110000
DTEND;TZID=America/Vancouver:20190302T160000
DTSTAMP:20260424T133139
CREATED:20181231T030452Z
LAST-MODIFIED:20190130T035925Z
UID:3492-1551524400-1551542400@northshorebaseball.ca
SUMMARY:15U (Bantam) AA/AAA Outdoor Evaluations
DESCRIPTION:From the initial evaluation on February 25th and 26th\, selected 15U (Bantam) players will be asked to attend the March 2nd evaluation for purposes of NSBA finalizing the “AAA” players and the “AA” players for teams. All players required to attend this evaluation will receive an email following the February 25th and 26th evaluation. \nMore details…
URL:https://northshorebaseball.ca/event/15u-bantam-aa-aaa-outdoor-evaluations/
LOCATION:Kinsmen Field\, 1905 Jones Avenue\, North Vancouver\, British Columbia\, Canada
CATEGORIES:Evaluations
END:VEVENT
END:VCALENDAR